Workbook

Sheet Benchmark 2015
A1: Benchmark 2015 Licensee - Economic Zones | B1: Total Summary | G1: Slope 0-30% | S1: Slope 31-69% | AE1: Slope >69%
B2: AAC (m3) | C2: Yrs Supply | D2: Total THLB Area (ha) | E2: Total THLB Vol (m3) | F2: % Total Vol (m3) | G2: Slope THLB Area (ha) | H2: THLB Volume (m3) | P2: Slope THLB Volume | Q2: % of Total Volume | R2: Yrs Supply | S2: Slope THLB Area (ha) | T2: THLB Volume (m3) | AB2: Slope THLB Volume | AC2: % of Total Volume | AD2: Yrs Supply | AE2: Slope THLB Area (ha) | AF2: THLB Volume (m3) | AN2: Slope THLB Volume | AO2: % of Total Volume (m3) | AP2: Yrs Supply
C3: Yrs Supply | F3: % of Total Vol (m3) | G3: CFLB Area (ha) | H3: FIR | I3: CEDAR | J3: HEMLOCK | K3: BALSAM | L3: PINE | M3: SPRUCE | N3: CYPRESS | O3: DECIDUOUS | P3: CFLB Volume (m3) | Q3: % of Total Volume (m3) | R3: Yrs Supply | S3: THLBAREA | T3: FIR | U3: CEDAR | V3: HEMLOCK | W3: BALSAM | X3: PINE | Y3: SPRUCE | Z3: CYPRESS | AA3: DECIDUOUS | AB3: THLB_RVTOT | AE3: Sum of THLBAREA | AF3: FIR | AG3: CEDAR | AH3: HEMLOCK | AI3: BALSAM | AJ3: PINE | AK3: SPRUCE | AL3: CYPRESS | AM3: DECIDUOUS | AN3: Sum of THLB_RVTOT
A4: Western Canadian Timber Products | B4: 205677
A5: Good - Economic Zone
A6: 41-140 Years | C6: =E6/$B$4 -> 14.325254 | D6: 5742.673 | E6: =P6+AB6+AN6 -> 2946375.2 | F6: =E6/$E$17 -> 0.37375242 | G6: 1001.2243 | H6: 145518.34 | I6: 38413.589 | J6: 235436.23 | K6: 65749.9 | L6: 860.84119 | M6: 439.72942 | N6: 1766.9737 | O6: 60596.089 | P6: =SUM(H6:O6) -> 548781.69 | Q6: =P6/$E$17 -> 0.069613837 | R6: =P6/$B$4 -> 2.6681724 | S6: 3843.8402 | T6: 715170.51 | U6: 87388.738 | V6: 665639.05 | W6: 221711.59 | X6: 15373.917 | Y6: 1924.6271 | Z6: 3408.7169 | AA6: 184462.76 | AB6: =SUM(T6:AA6) -> 1895079.9 | AC6: =AB6/$E$17 -> 0.24039393 | AD6: =AB6/$B$4 -> 9.213864 | AE6: 897.60845 | AF6: 251665.39 | AG6: 21398.448 | AH6: 164483.85 | AI6: 39799.963 | AJ6: 7596.3458 | AK6: 43.418435 | AL6: 135.47369 | AM6: 17390.699 | AN6: =SUM(AF6:AM6) -> 502513.59 | AO6: =AN6/$E$17 -> 0.063744655 | AP6: =AN6/$B$4 -> 2.4432172
A7: 141+ Years | C7: =E7/$B$4 -> 7.9519375 | D7: 2257.9476 | E7: =P7+AB7+AN7 -> 1635530.7 | F7: =E7/$E$17 -> 0.20746969 | G7: 254.60599 | H7: 37567.933 | I7: 8874.5198 | J7: 51315.521 | K7: 63458.654 | L7: 278.3455 | M7: 0 | N7: 1974.3855 | O7: 5755.6569 | P7: =SUM(H7:O7) -> 169225.02 | Q7: =P7/$E$17 -> 0.021466465 | R7: =P7/$B$4 -> 0.82277073 | S7: 1649.1475 | T7: 255666.6 | U7: 55660.219 | V7: 455262.84 | W7: 407589.5 | X7: 596.38118 | Y7: 0 | Z7: 24942.453 | AA7: 10607.966 | AB7: =SUM(T7:AA7) -> 1210326 | AC7: =AB7/$E$17 -> 0.15353179 | AD7: =AB7/$B$4 -> 5.8845955 | AE7: 354.19409 | AF7: 83249.48 | AG7: 15250.907 | AH7: 93246.586 | AI7: 58918.896 | AJ7: 87.462348 | AK7: 0 | AL7: 3720.3469 | AM7: 1506.0029 | AN7: =SUM(AF7:AM7) -> 255979.68 | AO7: =AN7/$E$17 -> 0.032471433 | AP7: =AN7/$B$4 -> 1.2445713
A8: Good - Economic Zone Total | C8: =E8/$B$4 -> 22.277191 | D8: 8000.6206 | E8: =P8+AB8+AN8 -> 4581905.8 | F8: =E8/$E$17 -> 0.5812221 | G8: 1255.8303 | H8: 183086.27 | I8: 47288.108 | J8: 286751.75 | K8: 129208.55 | L8: 1139.1867 | M8: 439.72942 | N8: 3741.3592 | O8: 66351.746 | P8: =SUM(H8:O8) -> 718006.7 | Q8: =P8/$E$17 -> 0.091080302 | R8: =P8/$B$4 -> 3.4909431 | S8: 5492.9877 | T8: 970837.11 | U8: 143048.96 | V8: 1120901.9 | W8: 629301.09 | X8: 15970.298 | Y8: 1924.6271 | Z8: 28351.17 | AA8: 195070.72 | AB8: =SUM(T8:AA8) -> 3105405.9 | AC8: =AB8/$E$17 -> 0.39392571 | AD8: =AB8/$B$4 -> 15.09846 | AE8: 1251.8025 | AF8: 334914.87 | AG8: 36649.356 | AH8: 257730.44 | AI8: 98718.859 | AJ8: 7683.8081 | AK8: 43.418435 | AL8: 3855.8206 | AM8: 18896.702 | AN8: =SUM(AF8:AM8) -> 758493.27 | AO8: =AN8/$E$17 -> 0.096216088 | AP8: =AN8/$B$4 -> 3.6877885
A9: Medium - Economic Zone
A10: 41-140 Years | C10: =E10/$B$4 -> 2.9448436 | D10: 1665.6699 | E10: =P10+AB10+AN10 -> 605686.6 | F10: =E10/$E$17 -> 0.076832316 | G10: 438.71873 | H10: 71705.097 | I10: 9210.0957 | J10: 41565.391 | K10: 40640.225 | L10: 49.639369 | M10: 1084.6804 | N10: 0 | O10: 18393.118 | P10: =SUM(H10:O10) -> 182648.25 | Q10: =P10/$E$17 -> 0.023169223 | R10: =P10/$B$4 -> 0.88803437 | S10: 986.2591 | T10: 169806.66 | U10: 8787.5659 | V10: 79903.249 | W10: 75983.11 | X10: 2843.4608 | Y10: 4501.0948 | Z10: 0.7266474 | AA10: 6356.5071 | AB10: =SUM(T10:AA10) -> 348182.37 | AC10: =AB10/$E$17 -> 0.044167492 | AD10: =AB10/$B$4 -> 1.69286 | AE10: 240.69205 | AF10: 41129.421 | AG10: 1640.4537 | AH10: 18963.048 | AI10: 11607.528 | AJ10: 158.02312 | AK10: 158.90791 | AL10: 0 | AM10: 1198.597 | AN10: =SUM(AF10:AM10) -> 74855.98 | AO10: =AN10/$E$17 -> 0.009495601 | AP10: =AN10/$B$4 -> 0.3639492
A11: 141+ Years | C11: =E11/$B$4 -> 2.8630606 | D11: 940.21719 | E11: =P11+AB11+AN11 -> 588865.71 | F11: =E11/$E$17 -> 0.074698559 | G11: 120.71894 | H11: 9925.2942 | I11: 5620.0101 | J11: 31823.804 | K11: 24641.191 | L11: 0 | M11: 7818.1678 | N11: 0 | O11: 3583.6097 | P11: =SUM(H11:O11) -> 83412.077 | Q11: =P11/$E$17 -> 0.010580956 | R11: =P11/$B$4 -> 0.40554888 | S11: 658.71703 | T11: 36471.758 | U11: 13319.408 | V11: 152105.7 | W11: 195706.81 | X11: 93.931297 | Y11: 22968.472 | Z11: 794.96937 | AA11: 24.917731 | AB11: =SUM(T11:AA11) -> 421485.96 | AC11: =AB11/$E$17 -> 0.05346617 | AD11: =AB11/$B$4 -> 2.0492615 | AE11: 160.78122 | AF11: 21748.414 | AG11: 3211.1106 | AH11: 26550.629 | AI11: 31772.874 | AJ11: 4.3530186 | AK11: 545.13632 | AL11: 112.46152 | AM11: 22.693274 | AN11: =SUM(AF11:AM11) -> 83967.672 | AO11: =AN11/$E$17 -> 0.010651434 | AP11: =AN11/$B$4 -> 0.40825018
A12: Medium - Economic Zone Total | C12: =E12/$B$4 -> 5.8079042 | D12: 2605.8871 | E12: =P12+AB12+AN12 -> 1194552.3 | F12: =E12/$E$17 -> 0.15153088 | G12: 559.43767 | H12: 81630.391 | I12: 14830.106 | J12: 73389.195 | K12: 65281.416 | L12: 49.639369 | M12: 8902.8482 | N12: 0 | O12: 21976.727 | P12: =SUM(H12:O12) -> 266060.32 | Q12: =P12/$E$17 -> 0.033750179 | R12: =P12/$B$4 -> 1.2935833 | S12: 1644.9761 | T12: 206278.42 | U12: 22106.974 | V12: 232008.94 | W12: 271689.92 | X12: 2937.3921 | Y12: 27469.567 | Z12: 795.69601 | AA12: 6381.4248 | AB12: =SUM(T12:AA12) -> 769668.33 | AC12: =AB12/$E$17 -> 0.097633662 | AD12: =AB12/$B$4 -> 3.7421215 | AE12: 401.47327 | AF12: 62877.835 | AG12: 4851.5643 | AH12: 45513.678 | AI12: 43380.402 | AJ12: 162.37614 | AK12: 704.04423 | AL12: 112.46152 | AM12: 1221.2903 | AN12: =SUM(AF12:AM12) -> 158823.65 | AO12: =AN12/$E$17 -> 0.020147035 | AP12: =AN12/$B$4 -> 0.77219938
A13: Poor - Economic Zone
A14: 41-140 Years | C14: =E14/$B$4 -> 1.590773 | D14: 1924.3411 | E14: =P14+AB14+AN14 -> 327185.43 | F14: =E14/$E$17 -> 0.041503996 | G14: 469.50516 | H14: 48171.871 | I14: 3602.4451 | J14: 18510.156 | K14: 5788.8498 | L14: 5405.1971 | M14: 124.38496 | N14: 2.0229158 | O14: 5430.2 | P14: =SUM(H14:O14) -> 87035.127 | Q14: =P14/$E$17 -> 0.011040545 | R14: =P14/$B$4 -> 0.42316412 | S14: 1266.718 | T14: 119980.98 | U14: 5397.5808 | V14: 27415.509 | W14: 18156.841 | X14: 41347.556 | Y14: 1055.5838 | Z14: 136.25918 | AA14: 2616.0575 | AB14: =SUM(T14:AA14) -> 216106.37 | AC14: =AB14/$E$17 -> 0.027413439 | AD14: =AB14/$B$4 -> 1.0507075 | AE14: 188.11792 | AF14: 13312.743 | AG14: 595.70656 | AH14: 4650.4595 | AI14: 3368.923 | AJ14: 1542.6154 | AK14: 44.361068 | AL14: 0 | AM14: 529.12522 | AN14: =SUM(AF14:AM14) -> 24043.934 | AO14: =AN14/$E$17 -> 0.0030500116 | AP14: =AN14/$B$4 -> 0.11690142
A15: 141+ Years | C15: =E15/$B$4 -> 8.6523215 | D15: 3076.8704 | E15: =P15+AB15+AN15 -> 1779583.5 | F15: =E15/$E$17 -> 0.22574302 | G15: 592.89143 | H15: 52054.708 | I15: 13641.691 | J15: 109891.03 | K15: 144213.61 | L15: 3036.1718 | M15: 18501.515 | N15: 1765.4707 | O15: 1513.8053 | P15: =SUM(H15:O15) -> 344618 | Q15: =P15/$E$17 -> 0.043715346 | R15: =P15/$B$4 -> 1.6755301 | S15: 2097.4246 | T15: 246224.67 | U15: 39803.34 | V15: 400592.07 | W15: 439874.78 | X15: 11122.306 | Y15: 59965.818 | Z15: 12584.035 | AA15: 550.08297 | AB15: =SUM(T15:AA15) -> 1210717.1 | AC15: =AB15/$E$17 -> 0.15358141 | AD15: =AB15/$B$4 -> 5.8864973 | AE15: 386.5543 | AF15: 41103.036 | AG15: 9208.9158 | AH15: 72811.387 | AI15: 87178.928 | AJ15: 3015.5556 | AK15: 7942.2407 | AL15: 2930.4766 | AM15: 57.881732 | AN15: =SUM(AF15:AM15) -> 224248.42 | AO15: =AN15/$E$17 -> 0.028446272 | AP15: =AN15/$B$4 -> 1.0902941
A16: Poor - Economic Zone Total | C16: =E16/$B$4 -> 10.243095 | D16: 5001.2115 | E16: =P16+AB16+AN16 -> 2106769 | F16: =E16/$E$17 -> 0.26724702 | G16: 1062.3966 | H16: 100226.58 | I16: 17244.136 | J16: 128401.19 | K16: 150002.46 | L16: 8441.3688 | M16: 18625.9 | N16: 1767.4936 | O16: 6944.0053 | P16: =SUM(H16:O16) -> 431653.13 | Q16: =P16/$E$17 -> 0.054755892 | R16: =P16/$B$4 -> 2.0986942 | S16: 3364.1427 | T16: 366205.65 | U16: 45200.921 | V16: 428007.58 | W16: 458031.63 | X16: 52469.863 | Y16: 61021.402 | Z16: 12720.295 | AA16: 3166.1405 | AB16: =SUM(T16:AA16) -> 1426823.5 | AC16: =AB16/$E$17 -> 0.18099485 | AD16: =AB16/$B$4 -> 6.9372048 | AE16: 574.67222 | AF16: 54415.78 | AG16: 9804.6223 | AH16: 77461.847 | AI16: 90547.851 | AJ16: 4558.171 | AK16: 7986.6018 | AL16: 2930.4766 | AM16: 587.00695 | AN16: =SUM(AF16:AM16) -> 248292.36 | AO16: =AN16/$E$17 -> 0.031496284 | AP16: =AN16/$B$4 -> 1.2071955
A17: Western Canadian Timber Products Total | C17: =E17/$B$4 -> 38.32819 | D17: 15607.719 | E17: =P17+AB17+AN17 -> 7883227.1 | F17: =E17/$E$17 -> 1 | G17: 2877.6646 | H17: 364943.24 | I17: 79362.35 | J17: 488542.14 | K17: 344492.43 | L17: 9630.1949 | M17: 27968.477 | N17: 5508.8528 | O17: 95272.478 | P17: =SUM(H17:O17) -> 1415720.2 | Q17: =P17/$E$17 -> 0.17958637 | R17: =P17/$B$4 -> 6.8832206 | S17: 10502.107 | T17: 1543321.2 | U17: 210356.85 | V17: 1780918.4 | W17: 1359022.6 | X17: 71377.552 | Y17: 90415.596 | Z17: 41867.16 | AA17: 204618.29 | AB17: =SUM(T17:AA17) -> 5301897.7 | AC17: =AB17/$E$17 -> 0.67255422 | AD17: =AB17/$B$4 -> 25.777786 | AE17: 2227.948 | AF17: 452208.48 | AG17: 51305.542 | AH17: 380705.96 | AI17: 232647.11 | AJ17: 12404.355 | AK17: 8734.0644 | AL17: 6898.7587 | AM17: 20704.999 | AN17: =SUM(AF17:AM17) -> 1165609.3 | AO17: =AN17/$E$17 -> 0.14785941 | AP17: =AN17/$B$4 -> 5.6671834
A18: B.C. Timber Sales | B18: 246745
A19: Good - Economic Zone
A20: 41-140 Years | C20: =E20/$B$18 -> 23.451395 | D20: 14764.753 | E20: =P20+AB20+AN20 -> 5786514.4 | F20: =E20/$E$31 -> 0.37942159 | G20: 3508.908 | H20: 495915.17 | I20: 85599.043 | J20: 448873.78 | K20: 135655.03 | L20: 5787.2618 | M20: 2015.3575 | N20: 1626.5698 | O20: 273491.81 | P20: =SUM(H20:O20) -> 1448964 | Q20: =P20/$E$31 -> 0.095008532 | R20: =P20/$B$18 -> 5.8723136 | S20: 8777.5227 | T20: 1469908.5 | U20: 200270.01 | V20: 955582.56 | W20: 273515.22 | X20: 16030.575 | Y20: 2448.2078 | Z20: 5111.1989 | AA20: 475170.46 | AB20: =SUM(T20:AA20) -> 3398036.7 | AC20: =AB20/$E$31 -> 0.22280918 | AD20: =AB20/$B$18 -> 13.771451 | AE20: 2478.3223 | AF20: 448957.31 | AG20: 63631.832 | AH20: 256114.28 | AI20: 70324.247 | AJ20: 2164.0645 | AK20: 213.59634 | AL20: 1400.5593 | AM20: 96707.704 | AN20: =SUM(AF20:AM20) -> 939513.6 | AO20: =AN20/$E$31 -> 0.061603881 | AP20: =AN20/$B$18 -> 3.8076297
A21: 141+ Years | C21: =E21/$B$18 -> 8.1989276 | D21: 3234.7062 | E21: =P21+AB21+AN21 -> 2023044.4 | F21: =E21/$E$31 -> 0.13265097 | G21: 407.80072 | H21: 63125.987 | I21: 19234.108 | J21: 87364.771 | K21: 57785.069 | L21: 1598.7304 | M21: 184.92257 | N21: 19179.225 | O21: 3427.7015 | P21: =SUM(H21:O21) -> 251900.51 | Q21: =P21/$E$31 -> 0.01651711 | R21: =P21/$B$18 -> 1.0208941 | S21: 1855.8433 | T21: 184718.3 | U21: 119925.52 | V21: 466737.02 | W21: 377566.57 | X21: 685.58036 | Y21: 2196.8651 | Z21: 35019.237 | AA21: 6007.5914 | AB21: =SUM(T21:AA21) -> 1192856.7 | AC21: =AB21/$E$31 -> 0.078215581 | AD21: =AB21/$B$18 -> 4.8343703 | AE21: 971.06216 | AF21: 94595.815 | AG21: 78732.784 | AH21: 239808.28 | AI21: 151235.68 | AJ21: 391.46314 | AK21: 454.60879 | AL21: 12424.443 | AM21: 644.13068 | AN21: =SUM(AF21:AM21) -> 578287.2 | AO21: =AN21/$E$31 -> 0.037918276 | AP21: =AN21/$B$18 -> 2.3436633
A22: Good - Economic Zone Total | C22: =E22/$B$18 -> 31.650322 | D22: 17999.459 | E22: =P22+AB22+AN22 -> 7809558.8 | F22: =E22/$E$31 -> 0.51207256 | G22: 3916.7088 | H22: 559041.16 | I22: 104833.15 | J22: 536238.55 | K22: 193440.1 | L22: 7385.9922 | M22: 2200.2801 | N22: 20805.795 | O22: 276919.51 | P22: =SUM(H22:O22) -> 1700864.5 | Q22: =P22/$E$31 -> 0.11152564 | R22: =P22/$B$18 -> 6.8932077 | S22: 10633.366 | T22: 1654626.8 | U22: 320195.53 | V22: 1422319.6 | W22: 651081.8 | X22: 16716.156 | Y22: 4645.0729 | Z22: 40130.436 | AA22: 481178.05 | AB22: =SUM(T22:AA22) -> 4590893.4 | AC22: =AB22/$E$31 -> 0.30102476 | AD22: =AB22/$B$18 -> 18.605822 | AE22: 3449.3844 | AF22: 543553.13 | AG22: 142364.62 | AH22: 495922.56 | AI22: 221559.92 | AJ22: 2555.5276 | AK22: 668.20512 | AL22: 13825.002 | AM22: 97351.835 | AN22: =SUM(AF22:AM22) -> 1517800.8 | AO22: =AN22/$E$31 -> 0.099522157 | AP22: =AN22/$B$18 -> 6.151293
A23: Medium - Economic Zone
A24: 41-140 Years | C24: =E24/$B$18 -> 10.421137 | D24: 8192.6588 | E24: =P24+AB24+AN24 -> 2571363.5 | F24: =E24/$E$31 -> 0.16860424 | G24: 1350.2289 | H24: 63240.032 | I24: 15173.802 | J24: 127428.95 | K24: 158185.02 | L24: 0.7277603 | M24: 1790.7378 | N24: 594.39612 | O24: 36296.994 | P24: =SUM(H24:O24) -> 402710.66 | Q24: =P24/$E$31 -> 0.026405727 | R24: =P24/$B$18 -> 1.6320925 | S24: 5595.8797 | T24: 401665.34 | U24: 76580.156 | V24: 564561.85 | W24: 545087.67 | X24: 14.771331 | Y24: 3484.2882 | Z24: 1360.7551 | AA24: 161227.59 | AB24: =SUM(T24:AA24) -> 1753982.4 | AC24: =AB24/$E$31 -> 0.11500858 | AD24: =AB24/$B$18 -> 7.1084821 | AE24: 1246.5502 | AF24: 144842.95 | AG24: 25195.758 | AH24: 149955.76 | AI24: 68174.365 | AJ24: 39.437283 | AK24: 59.786721 | AL24: 308.82035 | AM24: 26093.572 | AN24: =SUM(AF24:AM24) -> 414670.45 | AO24: =AN24/$E$31 -> 0.02718993 | AP24: =AN24/$B$18 -> 1.6805627
A25: 141+ Years | C25: =E25/$B$18 -> 12.034676 | D25: 4353.4684 | E25: =P25+AB25+AN25 -> 2969496 | F25: =E25/$E$31 -> 0.19470977 | G25: 309.66575 | H25: 17746.737 | I25: 7474.0114 | J25: 98420.132 | K25: 88200.895 | L25: 155.66924 | M25: 1201.5948 | N25: 1229.0011 | O25: 21.473687 | P25: =SUM(H25:O25) -> 214449.51 | Q25: =P25/$E$31 -> 0.014061449 | R25: =P25/$B$18 -> 0.86911392 | S25: 2747.6654 | T25: 139628.72 | U25: 70017.149 | V25: 740627.7 | W25: 902465.86 | X25: 106.17832 | Y25: 3810.188 | Z25: 14123.813 | AA25: 939.61835 | AB25: =SUM(T25:AA25) -> 1871719.2 | AC25: =AB25/$E$31 -> 0.12272858 | AD25: =AB25/$B$18 -> 7.585642 | AE25: 1296.1373 | AF25: 90134.509 | AG25: 58756.093 | AH25: 403623.69 | AI25: 323920.4 | AJ25: 0 | AK25: 516.55816 | AL25: 5570.5522 | AM25: 805.45676 | AN25: =SUM(AF25:AM25) -> 883327.26 | AO25: =AN25/$E$31 -> 0.057919745 | AP25: =AN25/$B$18 -> 3.5799196
A26: Medium - Economic Zone Total | C26: =E26/$B$18 -> 22.455813 | D26: 12546.127 | E26: =P26+AB26+AN26 -> 5540859.5 | F26: =E26/$E$31 -> 0.36331401 | G26: 1659.8947 | H26: 80986.769 | I26: 22647.813 | J26: 225849.08 | K26: 246385.92 | L26: 156.397 | M26: 2992.3326 | N26: 1823.3972 | O26: 36318.468 | P26: =SUM(H26:O26) -> 617160.17 | Q26: =P26/$E$31 -> 0.040467176 | R26: =P26/$B$18 -> 2.5012064 | S26: 8343.5451 | T26: 541294.07 | U26: 146597.3 | V26: 1305189.6 | W26: 1447553.5 | X26: 120.94965 | Y26: 7294.4762 | Z26: 15484.568 | AA26: 162167.21 | AB26: =SUM(T26:AA26) -> 3625701.7 | AC26: =AB26/$E$31 -> 0.23773716 | AD26: =AB26/$B$18 -> 14.694124 | AE26: 2542.6875 | AF26: 234977.46 | AG26: 83951.851 | AH26: 553579.45 | AI26: 392094.77 | AJ26: 39.437283 | AK26: 576.34488 | AL26: 5879.3725 | AM26: 26899.029 | AN26: =SUM(AF26:AM26) -> 1297997.7 | AO26: =AN26/$E$31 -> 0.085109675 | AP26: =AN26/$B$18 -> 5.2604823
A27: Poor - Economic Zone
A28: 41-140 Years | C28: =E28/$B$18 -> 2.8178336 | D28: 1860.8438 | E28: =P28+AB28+AN28 -> 695286.36 | F28: =E28/$E$31 -> 0.045589908 | G28: 661.15058 | H28: 250058.05 | I28: 24721.036 | J28: 18485.846 | K28: 13241.099 | L28: 11351.536 | M28: 1242.9647 | N28: 4.6394504 | O28: 12352.275 | P28: =SUM(H28:O28) -> 331457.45 | Q28: =P28/$E$31 -> 0.021733656 | R28: =P28/$B$18 -> 1.3433198 | S28: 1095.2398 | T28: 216069.78 | U28: 17756.756 | V28: 10834.807 | W28: 33094.526 | X28: 39629.14 | Y28: 479.02406 | Z28: 19.143625 | AA28: 22471.808 | AB28: =SUM(T28:AA28) -> 340354.98 | AC28: =AB28/$E$31 -> 0.022317067 | AD28: =AB28/$B$18 -> 1.3793795 | AE28: 104.45341 | AF28: 14743.349 | AG28: 213.22594 | AH28: 1346.1545 | AI28: 3431.3356 | AJ28: 3399.1393 | AK28: 137.13387 | AL28: 2.6792412 | AM28: 200.90765 | AN28: =SUM(AF28:AM28) -> 23473.925 | AO28: =AN28/$E$31 -> 0.0015391846 | AP28: =AN28/$B$18 -> 0.095134349
A29: 141+ Years | C29: =E29/$B$18 -> 4.8843077 | D29: 2291.5272 | E29: =P29+AB29+AN29 -> 1205178.5 | F29: =E29/$E$31 -> 0.079023522 | G29: 435.14671 | H29: 29891.385 | I29: 17085.467 | J29: 70565.592 | K29: 98074.947 | L29: 3447.0364 | M29: 32191.899 | N29: 1835.2325 | O29: 5.2292347 | P29: =SUM(H29:O29) -> 253096.79 | Q29: =P29/$E$31 -> 0.01659555 | R29: =P29/$B$18 -> 1.0257423 | S29: 1730.6266 | T29: 215637.04 | U29: 38019.281 | V29: 254421.27 | W29: 246237.86 | X29: 20542.507 | Y29: 105080.38 | Z29: 14404.746 | AA29: 896.57365 | AB29: =SUM(T29:AA29) -> 895239.66 | AC29: =AB29/$E$31 -> 0.05870084 | AD29: =AB29/$B$18 -> 3.6281978 | AE29: 125.75383 | AF29: 19979.681 | AG29: 869.69377 | AH29: 11535.326 | AI29: 17507.361 | AJ29: 1055.9255 | AK29: 5056.936 | AL29: 565.4543 | AM29: 271.67787 | AN29: =SUM(AF29:AM29) -> 56842.056 | AO29: =AN29/$E$31 -> 0.0037271321 | AP29: =AN29/$B$18 -> 0.23036761
A30: Poor - Economic Zone Total | C30: =E30/$B$18 -> 7.7021413 | D30: 4152.371 | E30: =P30+AB30+AN30 -> 1900464.9 | F30: =E30/$E$31 -> 0.12461343 | G30: 1096.2973 | H30: 279949.44 | I30: 41806.503 | J30: 89051.438 | K30: 111316.05 | L30: 14798.573 | M30: 33434.863 | N30: 1839.8719 | O30: 12357.504 | P30: =SUM(H30:O30) -> 584554.24 | Q30: =P30/$E$31 -> 0.038329206 | R30: =P30/$B$18 -> 2.3690621 | S30: 2825.8665 | T30: 431706.82 | U30: 55776.037 | V30: 265256.08 | W30: 279332.38 | X30: 60171.647 | Y30: 105559.4 | Z30: 14423.89 | AA30: 23368.381 | AB30: =SUM(T30:AA30) -> 1235594.6 | AC30: =AB30/$E$31 -> 0.081017908 | AD30: =AB30/$B$18 -> 5.0075772 | AE30: 230.20724 | AF30: 34723.03 | AG30: 1082.9197 | AH30: 12881.481 | AI30: 20938.697 | AJ30: 4455.0648 | AK30: 5194.0699 | AL30: 568.13354 | AM30: 472.58552 | AN30: =SUM(AF30:AM30) -> 80315.981 | AO30: =AN30/$E$31 -> 0.0052663168 | AP30: =AN30/$B$18 -> 0.32550196
A31: B.C. Timber Sales Total | C31: =E31/$B$18 -> 61.808276 | D31: 34697.957 | E31: =P31+AB31+AN31 -> 15250883 | F31: =E31/$E$31 -> 1 | G31: 6672.9007 | H31: 919977.36 | I31: 169287.47 | J31: 851139.06 | K31: 551142.06 | L31: 22340.962 | M31: 38627.476 | N31: 24469.064 | O31: 325595.49 | P31: =SUM(H31:O31) -> 2902578.9 | Q31: =P31/$E$31 -> 0.19032202 | R31: =P31/$B$18 -> 11.763476 | S31: 21802.778 | T31: 2627627.7 | U31: 522568.88 | V31: 2992765.2 | W31: 2377967.7 | X31: 77008.752 | Y31: 117498.95 | Z31: 70038.893 | AA31: 666713.64 | AB31: =SUM(T31:AA31) -> 9452189.7 | AC31: =AB31/$E$31 -> 0.61977983 | AD31: =AB31/$B$18 -> 38.307523 | AE31: 6222.2792 | AF31: 813253.62 | AG31: 227399.39 | AH31: 1062383.5 | AI31: 634593.39 | AJ31: 7050.0297 | AK31: 6438.6199 | AL31: 20272.508 | AM31: 124723.45 | AN31: =SUM(AF31:AM31) -> 2896114.5 | AO31: =AN31/$E$31 -> 0.18989815 | AP31: =AN31/$B$18 -> 11.737277
A32: Bill 28 | B32: 267115
A33: Good - Economic Zone
A34: 41-140 Years | C34: =E34/$B$32 -> 10.90523 | D34: 8782.7225 | E34: =P34+AB34+AN34 -> 2912950.5 | F34: =E34/$E$45 -> 0.19894693 | G34: 1459.8247 | H34: 125688.49 | I34: 30078.837 | J34: 171548.12 | K34: 68115.603 | L34: 2089.8108 | M34: 0 | N34: 1110.1031 | O34: 128113.21 | P34: =SUM(H34:O34) -> 526744.17 | Q34: =P34/$E$45 -> 0.035975255 | R34: =P34/$B$32 -> 1.9719753 | S34: 5905.7172 | T34: 655479.49 | U34: 116804.35 | V34: 594833.13 | W34: 243027.3 | X34: 15899.047 | Y34: 0 | Z34: 7139.8027 | AA34: 290940.86 | AB34: =SUM(T34:AA34) -> 1924124 | AC34: =AB34/$E$45 -> 0.13141266 | AD34: =AB34/$B$32 -> 7.2033543 | AE34: 1417.1805 | AF34: 178428.66 | AG34: 32455.345 | AH34: 149462.9 | AI34: 33708.449 | AJ34: 4601.675 | AK34: 0 | AL34: 1165.7226 | AM34: 62259.616 | AN34: =SUM(AF34:AM34) -> 462082.37 | AO34: =AN34/$E$45 -> 0.031559022 | AP34: =AN34/$B$32 -> 1.7299005
A35: 141+ Years | C35: =E35/$B$32 -> 17.180677 | D35: 6102.619 | E35: =P35+AB35+AN35 -> 4589216.6 | F35: =E35/$E$45 -> 0.31343154 | G35: 583.01974 | H35: 27216.096 | I35: 44667.791 | J35: 179552.65 | K35: 189755.55 | L35: 713.91736 | M35: 2069.3454 | N35: 18578.494 | O35: 2411.5846 | P35: =SUM(H35:O35) -> 464965.43 | Q35: =P35/$E$45 -> 0.031755928 | R35: =P35/$B$32 -> 1.7406938 | S35: 3729.0976 | T35: 311655.93 | U35: 150776.03 | V35: 955422.57 | W35: 1182816.1 | X35: 3799.8843 | Y35: 3002.61 | Z35: 169548.5 | AA35: 4647.2989 | AB35: =SUM(T35:AA35) -> 2781669 | AC35: =AB35/$E$45 -> 0.18998075 | AD35: =AB35/$B$32 -> 10.41375 | AE35: 1790.5017 | AF35: 295084.02 | AG35: 111253.72 | AH35: 467741.05 | AI35: 408930.8 | AJ35: 1669.9297 | AK35: 818.50661 | AL35: 55420.28 | AM35: 1663.9282 | AN35: =SUM(AF35:AM35) -> 1342582.2 | AO35: =AN35/$E$45 -> 0.09169487 | AP35: =AN35/$B$32 -> 5.026233
A36: Good - Economic Zone Total | C36: =E36/$B$32 -> 28.085907 | D36: 14885.341 | E36: =P36+AB36+AN36 -> 7502167.1 | F36: =E36/$E$45 -> 0.51237848 | G36: 2042.8444 | H36: 152904.59 | I36: 74746.628 | J36: 351100.77 | K36: 257871.15 | L36: 2803.7282 | M36: 2069.3454 | N36: 19688.597 | O36: 130524.8 | P36: =SUM(H36:O36) -> 991709.61 | Q36: =P36/$E$45 -> 0.067731183 | R36: =P36/$B$32 -> 3.7126691 | S36: 9634.8148 | T36: 967135.42 | U36: 267580.38 | V36: 1550255.7 | W36: 1425843.4 | X36: 19698.931 | Y36: 3002.61 | Z36: 176688.3 | AA36: 295588.16 | AB36: =SUM(T36:AA36) -> 4705792.9 | AC36: =AB36/$E$45 -> 0.3213934 | AD36: =AB36/$B$32 -> 17.617105 | AE36: 3207.6822 | AF36: 473512.68 | AG36: 143709.07 | AH36: 617203.95 | AI36: 442639.24 | AJ36: 6271.6048 | AK36: 818.50661 | AL36: 56586.003 | AM36: 63923.544 | AN36: =SUM(AF36:AM36) -> 1804664.6 | AO36: =AN36/$E$45 -> 0.12325389 | AP36: =AN36/$B$32 -> 6.7561335
A37: Medium - Economic Zone
A38: 41-140 Years | C38: =E38/$B$32 -> 11.818871 | D38: 8887.0877 | E38: =P38+AB38+AN38 -> 3156997.6 | F38: =E38/$E$45 -> 0.21561472 | G38: 1528.1282 | H38: 96290.25 | I38: 31205.467 | J38: 176209.24 | K38: 218275.9 | L38: 2878.2782 | M38: 3284.918 | N38: 45.67445 | O38: 63111.067 | P38: =SUM(H38:O38) -> 591300.79 | Q38: =P38/$E$45 -> 0.040384304 | R38: =P38/$B$32 -> 2.2136563 | S38: 5871.5291 | T38: 660757.7 | U38: 98622.438 | V38: 593822.78 | W38: 562637.84 | X38: 11718.11 | Y38: 4144.9238 | Z38: 337.07728 | AA38: 157690.84 | AB38: =SUM(T38:AA38) -> 2089731.7 | AC38: =AB38/$E$45 -> 0.14272323 | AD38: =AB38/$B$32 -> 7.8233409 | AE38: 1487.4304 | AF38: 195907.28 | AG38: 27227.311 | AH38: 134314.43 | AI38: 73557.983 | AJ38: 3658.4817 | AK38: 826.01469 | AL38: 80.765278 | AM38: 40392.871 | AN38: =SUM(AF38:AM38) -> 475965.14 | AO38: =AN38/$E$45 -> 0.032507179 | AP38: =AN38/$B$32 -> 1.7818735
A39: 141+ Years | C39: =E39/$B$32 -> 12.092887 | D39: 5068.3042 | E39: =P39+AB39+AN39 -> 3230191.5 | F39: =E39/$E$45 -> 0.22061366 | G39: 652.55989 | H39: 14576.417 | I39: 22659.574 | J39: 123395.4 | K39: 250896.03 | L39: 64.812983 | M39: 25958.748 | N39: 1078.0747 | O39: 5031.6976 | P39: =SUM(H39:O39) -> 443660.75 | Q39: =P39/$E$45 -> 0.030300874 | R39: =P39/$B$32 -> 1.6609354 | S39: 3052.0099 | T39: 241234.62 | U39: 106707.86 | V39: 739282.24 | W39: 831910.75 | X39: 1840.361 | Y39: 31256.396 | Z39: 9523.6794 | AA39: 1391.3016 | AB39: =SUM(T39:AA39) -> 1963147.2 | AC39: =AB39/$E$45 -> 0.13407784 | AD39: =AB39/$B$32 -> 7.3494458 | AE39: 1363.7344 | AF39: 162295.54 | AG39: 54728.512 | AH39: 363888.68 | AI39: 234779.49 | AJ39: 599.91977 | AK39: 6115.703 | AL39: 244.72334 | AM39: 730.93308 | AN39: =SUM(AF39:AM39) -> 823383.5 | AO39: =AN39/$E$45 -> 0.056234949 | AP39: =AN39/$B$32 -> 3.0825057
A40: Medium - Economic Zone Total | C40: =E40/$B$32 -> 23.911757 | D40: 13955.392 | E40: =P40+AB40+AN40 -> 6387189.1 | F40: =E40/$E$45 -> 0.43622838 | G40: 2180.6881 | H40: 110866.67 | I40: 53865.041 | J40: 299604.64 | K40: 469171.93 | L40: 2943.0911 | M40: 29243.665 | N40: 1123.7492 | O40: 68142.764 | P40: =SUM(H40:O40) -> 1034961.5 | Q40: =P40/$E$45 -> 0.070685178 | R40: =P40/$B$32 -> 3.8745916 | S40: 8923.5391 | T40: 901992.33 | U40: 205330.29 | V40: 1333105 | W40: 1394548.6 | X40: 13558.471 | Y40: 35401.32 | Z40: 9860.7567 | AA40: 159082.15 | AB40: =SUM(T40:AA40) -> 4052878.9 | AC40: =AB40/$E$45 -> 0.27680107 | AD40: =AB40/$B$32 -> 15.172787 | AE40: 2851.1648 | AF40: 358202.83 | AG40: 81955.824 | AH40: 498203.1 | AI40: 308337.48 | AJ40: 4258.4015 | AK40: 6941.7177 | AL40: 325.48862 | AM40: 41123.804 | AN40: =SUM(AF40:AM40) -> 1299348.6 | AO40: =AN40/$E$45 -> 0.088742128 | AP40: =AN40/$B$32 -> 4.8643792
...

Sheet OCT 2016
A2: October 31, 2016 Licensee - Economic Zones | B2: Total THLB Area (ha) | C2: Total THLB Vol (m3) | D2: Total Annual Yield (m3/yr) | E2: Slope 0-30 % | P2: Slope 31-69 % | AA2: > 69%
E3: Slope THLB Area (ha) | F3: THLB Volume (m3) | N3: Slope THLB Volume m3 | O3: Annual Yield m3/yr | P3: Slope THLB Area (ha) | Q3: THLB Volume (m3) | Y3: Slope THLB Volume | Z3: Annual Yield m3/yr | AA3: Slope THLB Area (ha) | AB3: THLB Volume (m3) | AJ3: Slope THLB Volume | AK3: Annual Yield m3/yr
E4: CFLB Area (ha) | F4: FIR | G4: CEDAR | H4: HEMLOCK | I4: BALSAM | J4: PINE | K4: SPRUCE | L4: CYPRESS | M4: DECIDUOUS | N4: CFLB Volume (m3) | P4: THLBAREA | Q4: FIR | R4: CEDAR | S4: HEMLOCK | T4: BALSAM | U4: PINE | V4: SPRUCE | W4: CYPRESS | X4: DECIDUOUS | Y4: THLB_RVTOT | AA4: Sum of THLBAREA | AB4: FIR | AC4: CEDAR | AD4: HEMLOCK | AE4: BALSAM | AF4: PINE | AG4: SPRUCE | AH4: CYPRESS | AI4: DECIDUOUS | AJ4: Sum of THLB_RVTOT
A5: B.C. Timber Sales
A6: Good
A7: 41-140 Years | B7: 6536.8612 | C7: 2591234.3 | D7: 29703.265 | E7: 2009.4736 | F7: 197513.7 | G7: 59283.92 | H7: 409605.03 | I7: 129110.45 | J7: 4020.2357 | K7: 1636.6652 | L7: 467.5311 | M7: 280984.51 | N7: 1082622 | O7: 8915.9854 | P7: 3481.8178 | Q7: 485163.67 | R7: 88303.368 | S7: 283070.76 | T7: 99500.805 | U7: 5394.0275 | V7: 2380.862 | W7: 2945.8226 | X7: 202149.49 | Y7: 1168908.8 | Z7: 15790.687 | AA7: 1045.5698 | AB7: 160841.22 | AC7: 23890.137 | AD7: 77530.878 | AE7: 22809.348 | AF7: 335.05249 | AG7: 213.596 | AH7: 1181.8509 | AI7: 52901.372 | AJ7: 339703.45 | AK7: 4996.5929
A8: 141+ Years | B8: 1665.5223 | C8: 1023084.1 | D8: 6841.7479 | E8: 300.68272 | F8: 37192.676 | G8: 19511.271 | H8: 73554.522 | I8: 54366.727 | J8: 1595.1677 | K8: 0 | L8: 5159.3112 | M8: 1534.7591 | N8: 192914.43 | O8: 1205.3785 | P8: 820.09712 | Q8: 88052.086 | R8: 96424.217 | S8: 184438.37 | T8: 106173.07 | U8: 324.53876 | V8: 0 | W8: 11661.591 | X8: 2532.2802 | Y8: 489606.16 | Z8: 3345.3578 | AA8: 544.74243 | AB8: 55132.272 | AC8: 90707.406 | AD8: 119916.92 | AE8: 66727.574 | AF8: 36.150257 | AG8: 0 | AH8: 7199.4105 | AI8: 843.79286 | AJ8: 340563.53 | AK8: 2291.0117
A9: Good Total | B9: 8202.3835 | C9: 3614318.4 | D9: 36545.013 | E9: 2310.1563 | F9: 234706.38 | G9: 78795.191 | H9: 483159.55 | I9: 183477.18 | J9: 5615.4035 | K9: 1636.6652 | L9: 5626.8423 | M9: 282519.27 | N9: 1275536.5 | O9: 10121.364 | P9: 4301.915 | Q9: 573215.76 | R9: 184727.58 | S9: 467509.13 | T9: 205673.88 | U9: 5718.5663 | V9: 2380.862 | W9: 14607.413 | X9: 204681.77 | Y9: 1658515 | Z9: 19136.044 | AA9: 1590.3122 | AB9: 215973.49 | AC9: 114597.54 | AD9: 197447.8 | AE9: 89536.921 | AF9: 371.20275 | AG9: 213.596 | AH9: 8381.2613 | AI9: 53745.165 | AJ9: 680266.98 | AK9: 7287.6046
A10: Medium
A11: 41-140 Years | B11: 8733.9418 | C11: 2470633.4 | D11: 34234.731 | E11: 1408.3644 | F11: 65087.983 | G11: 15438.436 | H11: 106548.22 | I11: 116597.16 | J11: 79.654197 | K11: 3685.55 | L11: 629.98014 | M11: 34152.731 | N11: 342219.72 | O11: 5304.9103 | P11: 5842.7011 | Q11: 447268.43 | R11: 74661.69 | S11: 524508.44 | T11: 444906.21 | U11: 2451.9817 | V11: 5495.6664 | W11: 1365.1029 | X11: 166054.15 | Y11: 1666711.7 | Z11: 23062.96 | AA11: 1482.8763 | AB11: 177162.58 | AC11: 26480.708 | AD11: 158003.35 | AE11: 72016.59 | AF11: 735.01018 | AG11: 879.54483 | AH11: 360.90052 | AI11: 26063.353 | AJ11: 461702.04 | AK11: 5866.8612
A12: 141+ Years | B12: 3890.821 | C12: 2494359.8 | D12: 14591.259 | E12: 293.73982 | F12: 19069.732 | G12: 5664.0085 | H12: 74070.498 | I12: 78222.568 | J12: 220.48223 | K12: 1676.5344 | L12: 1229.0011 | M12: 235.501 | N12: 180388.33 | O12: 1083.5653 | P12: 2245.8927 | Q12: 129128.4 | R12: 46220.119 | S12: 574692.34 | T12: 698387.11 | U12: 184.24104 | V12: 3782.4465 | W12: 13777.903 | X12: 755.36344 | Y12: 1466927.9 | Z12: 8504.3404 | AA12: 1351.1884 | AB12: 123224.43 | AC12: 52327.231 | AD12: 373104.43 | AE12: 289530.08 | AF12: 125.63292 | AG12: 516.55816 | AH12: 5570.3789 | AI12: 2644.7847 | AJ12: 847043.52 | AK12: 5003.3537
A13: Medium Total | B13: 12624.763 | C13: 4964993.2 | D13: 48825.991 | E13: 1702.1042 | F13: 84157.715 | G13: 21102.445 | H13: 180618.72 | I13: 194819.73 | J13: 300.13642 | K13: 5362.0844 | L13: 1858.9813 | M13: 34388.232 | N13: 522608.04 | O13: 6388.4756 | P13: 8088.5938 | Q13: 576396.83 | R13: 120881.81 | S13: 1099200.8 | T13: 1143293.3 | U13: 2636.2227 | V13: 9278.1129 | W13: 15143.006 | X13: 166809.51 | Y13: 3133639.6 | Z13: 31567.3 | AA13: 2834.0648 | AB13: 300387.01 | AC13: 78807.94 | AD13: 531107.78 | AE13: 361546.67 | AF13: 860.64311 | AG13: 1396.103 | AH13: 5931.2794 | AI13: 28708.137 | AJ13: 1308745.6 | AK13: 10870.215
A14: Poor
A15: 41-140 Years | B15: 1864.8389 | C15: 697211.7 | D15: 7471.8638 | E15: 661.12932 | F15: 250080.65 | G15: 24722.984 | H15: 18478.04 | I15: 13234.402 | J15: 11351.537 | K15: 1242.9652 | L15: 4.6394504 | M15: 12354.749 | N15: 331469.97 | O15: 2885.5782 | P15: 1099.2441 | Q15: 217636.55 | R15: 17756.466 | S15: 10399.684 | T15: 32655.146 | U15: 40822.668 | V15: 479.02395 | W15: 19.143625 | X15: 22495.736 | Y15: 342264.42 | Z15: 4222.8671 | AA15: 104.46552 | AB15: 14745.456 | AC15: 213.22595 | AD15: 1346.1545 | AE15: 3431.3356 | AF15: 3399.1377 | AG15: 137.13387 | AH15: 2.6792412 | AI15: 202.18886 | AJ15: 23477.312 | AK15: 363.41855
A16: 141+ Years | B16: 2082.2526 | C16: 1087872.2 | D16: 5952.2245 | E16: 357.8978 | F16: 22398.229 | G16: 13668.413 | H16: 50201.993 | I16: 87992.832 | J16: 2099.8258 | K16: 30681.824 | L16: 1046.9296 | M16: 5.2291864 | N16: 208095.28 | O16: 1012.3589 | P16: 1599.9732 | Q16: 202526.32 | R16: 31647.201 | S16: 225818.69 | T16: 230628.31 | U16: 18241.52 | V16: 101093.45 | W16: 12880.832 | X16: 896.57545 | Y16: 823732.9 | Z16: 4584.6134 | AA16: 124.3816 | AB16: 19975.792 | AC16: 847.16182 | AD16: 11010.045 | AE16: 17327.07 | AF16: 1049.5544 | AG16: 5006.9612 | AH16: 555.34921 | AI16: 272.13542 | AJ16: 56044.07 | AK16: 355.25223
A17: Poor Total | B17: 3947.0915 | C17: 1785083.9 | D17: 13424.088 | E17: 1019.0271 | F17: 272478.88 | G17: 38391.397 | H17: 68680.033 | I17: 101227.23 | J17: 13451.362 | K17: 31924.79 | L17: 1051.569 | M17: 12359.979 | N17: 539565.24 | O17: 3897.937 | P17: 2699.2173 | Q17: 420162.87 | R17: 49403.666 | S17: 236218.38 | T17: 263283.45 | U17: 59064.188 | V17: 101572.48 | W17: 12899.976 | X17: 23392.312 | Y17: 1165997.3 | Z17: 8807.4804 | AA17: 228.84711 | AB17: 34721.249 | AC17: 1060.3878 | AD17: 12356.2 | AE17: 20758.406 | AF17: 4448.6921 | AG17: 5144.095 | AH17: 558.02845 | AI17: 474.32428 | AJ17: 79521.382 | AK17: 718.67078
A18: B.C. Timber Sales Total | B18: 24774.238 | C18: 10364396 | D18: 98795.092 | E18: 5031.2876 | F18: 591342.97 | G18: 138289.03 | H18: 732458.3 | I18: 479524.14 | J18: 19366.902 | K18: 38923.539 | L18: 8537.3925 | M18: 329267.48 | N18: 2337709.8 | O18: 20407.777 | P18: 15089.726 | Q18: 1569775.5 | R18: 355013.06 | S18: 1802928.3 | T18: 1612250.6 | U18: 67418.977 | V18: 113231.45 | W18: 42650.395 | X18: 394883.6 | Y18: 5958151.9 | Z18: 59510.825 | AA18: 4653.2241 | AB18: 551081.75 | AC18: 194465.87 | AD18: 740911.78 | AE18: 471842 | AF18: 5680.5379 | AG18: 6753.794 | AH18: 14870.569 | AI18: 82927.627 | AJ18: 2068533.9 | AK18: 18876.49
A19: First Nations District Area
A20: Good
A21: 41-140 Years | B21: 5246.1625 | C21: 2266818.2 | D21: 25731.072 | E21: 909.16063 | F21: 98579.068 | G21: 24037.048 | H21: 112552.22 | I21: 88023.886 | J21: 6228.9977 | K21: 0 | L21: 463.71954 | M21: 86654.219 | N21: 416539.15 | O21: 4541.8329 | P21: 3164.0019 | Q21: 248241.1 | R21: 69072.794 | S21: 378370.58 | T21: 342136.21 | U21: 2184.2161 | V21: 0 | W21: 1930.57 | X21: 308875.15 | Y21: 1350810.6 | Z21: 15517.568 | AA21: 1172.9999 | AB21: 169222.98 | AC21: 18263.684 | AD21: 151459.9 | AE21: 41259.996 | AF21: 515.20547 | AG21: 0 | AH21: 282.55193 | AI21: 118464.07 | AJ21: 499468.38 | AK21: 5671.6707
A22: 141+ Years | B22: 2023.1534 | C22: 1540804.7 | D22: 7669.2567 | E22: 158.13267 | F22: 9226.8564 | G22: 1936.2237 | H22: 37409.844 | I22: 51361.282 | J22: 2003.9698 | K22: 0 | L22: 8755.611 | M22: 407.95165 | N22: 111101.74 | O22: 529.03301 | P22: 1317.7495 | Q22: 120061.13 | R22: 65614.052 | S22: 362346.23 | T22: 381092.1 | U22: 628.61107 | V22: 35.876725 | W22: 71838.703 | X22: 1349.2531 | Y22: 1002966 | Z22: 4823.7132 | AA22: 547.2713 | AB22: 87906.557 | AC22: 42066.298 | AD22: 175992.62 | AE22: 101399.94 | AF22: 0 | AG22: 3.0112292 | AH22: 18218.645 | AI22: 1149.9264 | AJ22: 426737 | AK22: 2316.5105
A23: Good Total | B23: 7269.3159 | C23: 3807622.8 | D23: 33400.328 | E23: 1067.2933 | F23: 107805.92 | G23: 25973.272 | H23: 149962.06 | I23: 139385.17 | J23: 8232.9674 | K23: 0 | L23: 9219.3306 | M23: 87062.171 | N23: 527640.89 | O23: 5070.8659 | P23: 4481.7514 | Q23: 368302.23 | R23: 134686.85 | S23: 740716.81 | T23: 723228.31 | U23: 2812.8272 | V23: 35.876725 | W23: 73769.273 | X23: 310224.4 | Y23: 2353776.6 | Z23: 20341.281 | AA23: 1720.2712 | AB23: 257129.54 | AC23: 60329.983 | AD23: 327452.51 | AE23: 142659.94 | AF23: 515.20547 | AG23: 3.0112292 | AH23: 18501.197 | AI23: 119613.99 | AJ23: 926205.38 | AK23: 7988.1812
A24: Medium
A25: 41-140 Years | B25: 4037.5089 | C25: 1733914.9 | D25: 18844.502 | E25: 544.65254 | F25: 45994.44 | G25: 11319.126 | H25: 70052.561 | I25: 105759.03 | J25: 130.136 | K25: 10.745128 | L25: 0 | M25: 35753.496 | N25: 269019.53 | O25: 2612.0999 | P25: 2797.8359 | Q25: 282782.95 | R25: 49180.84 | S25: 346095.75 | T25: 405785.03 | U25: 6653.1705 | V25: 573.83888 | W25: 220.83233 | X25: 129106.95 | Y25: 1220399.4 | Z25: 13053.382 | AA25: 695.02052 | AB25: 72665.46 | AC25: 17353.38 | AD25: 69974.417 | AE25: 41472.269 | AF25: 2710.4076 | AG25: 4.138146 | AH25: 0 | AI25: 40315.918 | AJ25: 244495.99 | AK25: 3179.0198
A26: 141+ Years | B26: 2307.7006 | C26: 1484373 | D26: 9512.2047 | E26: 181.14576 | F26: 12856.763 | G26: 3469.387 | H26: 29216.172 | I26: 60377.345 | J26: 0 | K26: 7108.9722 | L26: 98.93211 | M26: 156.82138 | N26: 113284.39 | O26: 664.16631 | P26: 1298.3924 | Q26: 135098.29 | R26: 44813.555 | S26: 314949.97 | T26: 327732.71 | U26: 1375.0659 | V26: 20074.501 | W26: 1097.9307 | X26: 1698.5549 | Y26: 846840.57 | Z26: 5326.653 | AA26: 828.16243 | AB26: 96433.436 | AC26: 38805.101 | AD26: 243418.34 | AE26: 140908.25 | AF26: 96.553343 | AG26: 4141.9061 | AH26: 0 | AI26: 444.43258 | AJ26: 524248.02 | AK26: 3521.3854
A27: Medium Total | B27: 6345.2095 | C27: 3218287.9 | D27: 28356.707 | E27: 725.79831 | F27: 58851.203 | G27: 14788.513 | H27: 99268.733 | I27: 166136.37 | J27: 130.136 | K27: 7119.7173 | L27: 98.93211 | M27: 35910.318 | N27: 382303.92 | O27: 3276.2662 | P27: 4096.2282 | Q27: 417881.24 | R27: 93994.395 | S27: 661045.72 | T27: 733517.74 | U27: 8028.2364 | V27: 20648.339 | W27: 1318.763 | X27: 130805.51 | Y27: 2067239.9 | Z27: 18380.035 | AA27: 1523.1829 | AB27: 169098.9 | AC27: 56158.481 | AD27: 313392.76 | AE27: 182380.52 | AF27: 2806.9609 | AG27: 4146.0442 | AH27: 0 | AI27: 40760.351 | AJ27: 768744.01 | AK27: 6700.4052
A28: Poor
A29: 41-140 Years | B29: 683.26087 | C29: 110065.73 | D29: 2000.4003 | E29: 109.37504 | F29: 4709.0658 | G29: 327.86084 | H29: 609.89695 | I29: 7279.0146 | J29: 235.7946 | K29: 579.37308 | L29: 0 | M29: 829.30278 | N29: 14570.309 | O29: 321.84681 | P29: 510.70461 | Q29: 51335.947 | R29: 569.70809 | S29: 1185.6578 | T29: 25957.838 | U29: 7117.535 | V29: 1746.8572 | W29: 0 | X29: 2463.686 | Y29: 90377.229 | Z29: 1536.8777 | AA29: 63.181218 | AB29: 2572.1937 | AC29: 93.087544 | AD29: 149.34712 | AE29: 1507.0697 | AF29: 375.02398 | AG29: 231.19669 | AH29: 0 | AI29: 190.27768 | AJ29: 5118.1964 | AK29: 141.6758
A30: 141+ Years | B30: 573.22152 | C30: 188704.63 | D30: 1648.4268 | E30: 97.304996 | F30: 1986.6558 | G30: 5.4903234 | H30: 3870.1473 | I30: 26742.28 | J30: 20.289799 | K30: 9705.4995 | L30: 83.300183 | M30: 72.451452 | N30: 42486.114 | O30: 284.3478 | P30: 377.1505 | Q30: 47129.563 | R30: 255.26195 | S30: 7175.272 | T30: 54452.013 | U30: 58.203843 | V30: 18503.009 | W30: 91.816478 | X30: 339.48743 | Y30: 128004.63 | Z30: 1107.1833 | AA30: 98.766025 | AB30: 14931.405 | AC30: 243.0125 | AD30: 487.61037 | AE30: 2107.6386 | AF30: 73.899194 | AG30: 335.48008 | AH30: 0 | AI30: 34.844575 | AJ30: 18213.89 | AK30: 256.89569
A31: Poor Total | B31: 1256.4824 | C31: 298770.37 | D31: 3648.8272 | E31: 206.68004 | F31: 6695.7216 | G31: 333.35116 | H31: 4480.0443 | I31: 34021.294 | J31: 256.0844 | K31: 10284.873 | L31: 83.300183 | M31: 901.75423 | N31: 57056.423 | O31: 606.19461 | P31: 887.85511 | Q31: 98465.511 | R31: 824.97005 | S31: 8360.9298 | T31: 80409.851 | U31: 7175.7388 | V31: 20249.866 | W31: 91.816478 | X31: 2803.1734 | Y31: 218381.86 | Z31: 2644.0611 | AA31: 161.94724 | AB31: 17503.598 | AC31: 336.10004 | AD31: 636.95748 | AE31: 3614.7083 | AF31: 448.92318 | AG31: 566.67677 | AH31: 0 | AI31: 225.12225 | AJ31: 23332.086 | AK31: 398.57149
A32: First Nations District Area Total | B32: 14871.008 | C32: 7324681.1 | D32: 65405.862 | E32: 1999.7716 | F32: 173352.85 | G32: 41095.135 | H32: 253710.84 | I32: 339542.83 | J32: 8619.1878 | K32: 17404.59 | L32: 9401.5629 | M32: 123874.24 | N32: 967001.24 | O32: 8953.3267 | P32: 9465.8347 | Q32: 884648.98 | R32: 229506.21 | S32: 1410123.5 | T32: 1537155.9 | U32: 18016.802 | V32: 40934.083 | W32: 75179.853 | X32: 443833.08 | Y32: 4639398.4 | Z32: 41365.377 | AA32: 3405.4014 | AB32: 443732.03 | AC32: 116824.56 | AD32: 641482.23 | AE32: 328655.17 | AF32: 3771.0895 | AG32: 4715.7322 | AH32: 18501.197 | AI32: 160599.47 | AJ32: 1718281.5 | AK32: 15087.158
A33: Lakeside Pacific Forest Products
A34: Good
A35: 41-140 Years | B35: 6863.6157 | C35: 2674580.4 | D35: 31465.874 | E35: 1176.0194 | F35: 231671.96 | G35: 48257.171 | H35: 111989.29 | I35: 56903.961 | J35: 6617.2253 | K35: 911.77168 | L35: 1146.1895 | M35: 54225.426 | N35: 511723 | O35: 5432.521 | P35: 4794.7746 | Q35: 875987.58 | R35: 182862.94 | S35: 469690.44 | T35: 170190.58 | U35: 22538.802 | V35: 488.92519 | W35: 7580.063 | X35: 153211.47 | Y35: 1882550.8 | Z35: 21738.401 | AA35: 892.82167 | AB35: 147288.54 | AC35: 16826.526 | AD35: 66897.521 | AE35: 30759.793 | AF35: 959.79407 | AG35: 0 | AH35: 993.90526 | AI35: 16580.499 | AJ35: 280306.58 | AK35: 4294.9522
A36: 141+ Years | B36: 5167.6642 | C36: 3762870 | D36: 21912.169 | E36: 387.90378 | F36: 40097.819 | G36: 9583.2684 | H36: 98644.097 | I36: 97736.13 | J36: 735.40148 | K36: 0 | L36: 20712.01 | M36: 2580.3531 | N36: 270089.08 | O36: 1800.7716 | P36: 3322.1155 | Q36: 408035.49 | R36: 153006.95 | S36: 891075.95 | T36: 828850.66 | U36: 2278.4738 | V36: 0 | W36: 125670.75 | X36: 9478.4511 | Y36: 2418396.7 | Z36: 14257.768 | AA36: 1457.6449 | AB36: 202191.74 | AC36: 153909.04 | AD36: 399270.55 | AE36: 268130.63 | AF36: 908.07929 | AG36: 0 | AH36: 48162.392 | AI36: 1811.7643 | AJ36: 1074384.2 | AK36: 5853.6294
A37: Good Total | B37: 12031.28 | C37: 6437450.4 | D37: 53378.043 | E37: 1563.9232 | F37: 271769.78 | G37: 57840.439 | H37: 210633.39 | I37: 154640.09 | J37: 7352.6268 | K37: 911.77168 | L37: 21858.199 | M37: 56805.779 | N37: 781812.08 | O37: 7233.2927 | P37: 8116.8901 | Q37: 1284023.1 | R37: 335869.89 | S37: 1360766.4 | T37: 999041.24 | U37: 24817.276 | V37: 488.92519 | W37: 133250.81 | X37: 162689.92 | Y37: 4300947.5 | Z37: 35996.169 | AA37: 2350.4666 | AB37: 349480.28 | AC37: 170735.57 | AD37: 466168.07 | AE37: 298890.43 | AF37: 1867.8734 | AG37: 0 | AH37: 49156.298 | AI37: 18392.263 | AJ37: 1354690.8 | AK37: 10148.582
A38: Medium
A39: 41-140 Years | B39: 0.20071664 | C39: 56.777117 | D39: 0.87572669 | E39: 0.13680626 | F39: 0 | G39: 0 | H39: 9.6062618 | I39: 29.092398 | J39: 0 | K39: 0 | L39: 0 | M39: 0 | N39: 38.69866 | O39: 0.5968857 | P39: 0.063910381 | Q39: 0 | R39: 0 | S39: 4.4876591 | T39: 13.590798 | U39: 0 | V39: 0 | W39: 0 | X39: 0 | Y39: 18.078457 | Z39: 0.27884099 | AA39: 0 | AB39: 0 | AC39: 0 | AD39: 0 | AE39: 0 | AF39: 0 | AG39: 0 | AH39: 0 | AI39: 0 | AJ39: 0 | AK39: 0
A40: 141+ Years | B40: 26.095015 | C40: 17650.533 | D40: 113.9989 | E40: 4.4396101 | F40: 0 | G40: 120.43215 | H40: 1183.746 | I40: 987.73896 | J40: 0 | K40: 0 | L40: 238.7748 | M40: 0 | N40: 2530.6919 | O40: 19.370019 | P40: 17.353934 | Q40: 0 | R40: 80.42414 | S40: 4418.6795 | T40: 5923.3625 | U40: 0 | V40: 0 | W40: 2027.0589 | X40: 0 | Y40: 12449.525 | Z40: 75.861567 | AA40: 4.3014703 | AB40: 0 | AC40: 2.1961375 | AD40: 1168.8198 | AE40: 1077.5395 | AF40: 0 | AG40: 0 | AH40: 421.76059 | AI40: 0 | AJ40: 2670.3161 | AK40: 18.767315
A41: Medium Total | B41: 26.295731 | C41: 17707.31 | D41: 114.87463 | E41: 4.5764164 | F41: 0 | G41: 120.43215 | H41: 1193.3523 | I41: 1016.8314 | J41: 0 | K41: 0 | L41: 238.7748 | M41: 0 | N41: 2569.3906 | O41: 19.966905 | P41: 17.417845 | Q41: 0 | R41: 80.42414 | S41: 4423.1671 | T41: 5936.9533 | U41: 0 | V41: 0 | W41: 2027.0589 | X41: 0 | Y41: 12467.603 | Z41: 76.140408 | AA41: 4.3014703 | AB41: 0 | AC41: 2.1961375 | AD41: 1168.8198 | AE41: 1077.5395 | AF41: 0 | AG41: 0 | AH41: 421.76059 | AI41: 0 | AJ41: 2670.3161 | AK41: 18.767315
...

Sheet Comparison
A2: October 31, 2016 Licensee - Economic Zones | B2: 2016 Total THLB Area (ha) | C2: Total THLB Area Difference +/-from Benchmark | D2: 2016 Total THLB Vol (m3) | E2: Total THLB Vol Difference +/-from Benchmark | F2: Slope 0-30 % | J2: Slope 31-69% | N2: Slope > 69%
F3: Slope THLB Area (ha) | G3: THLB Area Difference +/-from Benchmark | H3: Slope THLB Volume m3 | I3: THLB Vol Difference +/-from Benchmark | J3: Slope THLB Area (ha) | K3: THLB Area Difference +/- from Benchmark | L3: Slope THLB Volume m3 | M3: THLB Vol Difference +/- from Benchmark | N3: Slope THLB Area (ha) | O3: THLB Area Difference +/- from Benchmark | P3: Slope THLB Volume | Q3: THLB Vol Difference +/- from Benchmark
F4: CFLB Area (ha) | H4: CFLB Volume (m3) | J4: THLBAREA | L4: THLB_RVTOT | N4: Sum of THLBAREA | P4: Sum of THLB_RVTOT
A5: B.C. Timber Sales
A6: Good - Economic Zone
A7: 41-140 Years | B7: 6536.8612 | C7: =B7-'Benchmark 2015'!D20 -> -8227.8918 | D7: 2591234.3 | E7: =D7-'Benchmark 2015'!E20 -> -3195280.1 | F7: 2009.4736 | G7: =F7-'Benchmark 2015'!G20 -> -1499.4345 | H7: 1082622 | I7: =H7-'Benchmark 2015'!P20 -> -366341.98 | J7: 3481.8178 | K7: =J7-'Benchmark 2015'!S20 -> -5295.7049 | L7: 1168908.8 | M7: =L7-'Benchmark 2015'!AB20 -> -2229127.9 | N7: 1045.5698 | O7: =N7-'Benchmark 2015'!AE20 -> -1432.7525 | P7: 339703.45 | Q7: =P7-'Benchmark 2015'!AN20 -> -599810.14
A8: 141+ Years | B8: 1665.5223 | C8: =B8-'Benchmark 2015'!D21 -> -1569.1839 | D8: 1023084.1 | E8: =D8-'Benchmark 2015'!E21 -> -999960.28 | F8: 300.68272 | G8: =F8-'Benchmark 2015'!G21 -> -107.118 | H8: 192914.43 | I8: =H8-'Benchmark 2015'!P21 -> -58986.08 | J8: 820.09712 | K8: =J8-'Benchmark 2015'!S21 -> -1035.7462 | L8: 489606.16 | M8: =L8-'Benchmark 2015'!AB21 -> -703250.53 | N8: 544.74243 | O8: =N8-'Benchmark 2015'!AE21 -> -426.31972 | P8: 340563.53 | Q8: =P8-'Benchmark 2015'!AN21 -> -237723.67
A9: Good - Economic Zone Total | B9: 8202.3835 | C9: =B9-'Benchmark 2015'!D22 -> -9797.0758 | D9: 3614318.4 | E9: =D9-'Benchmark 2015'!E22 -> -4195240.3 | F9: 2310.1563 | G9: =F9-'Benchmark 2015'!G22 -> -1606.5525 | H9: 1275536.5 | I9: =H9-'Benchmark 2015'!P22 -> -425328.06 | J9: 4301.915 | K9: =J9-'Benchmark 2015'!S22 -> -6331.4511 | L9: 1658515 | M9: =L9-'Benchmark 2015'!AB22 -> -2932378.5 | N9: 1590.3122 | O9: =N9-'Benchmark 2015'!AE22 -> -1859.0722 | P9: 680266.98 | Q9: =P9-'Benchmark 2015'!AN22 -> -837533.81
A10: Medium - Economic Zone | C10: =B10-'Benchmark 2015'!D23 -> 0 | E10: =D10-'Benchmark 2015'!E23 -> 0 | G10: =F10-'Benchmark 2015'!G23 -> 0 | I10: =H10-'Benchmark 2015'!P23 -> 0 | K10: =J10-'Benchmark 2015'!S23 -> 0 | M10: =L10-'Benchmark 2015'!AB23 -> 0 | O10: =N10-'Benchmark 2015'!AE23 -> 0 | Q10: =P10-'Benchmark 2015'!AN23 -> 0
A11: 41-140 Years | B11: 8733.9418 | C11: =B11-'Benchmark 2015'!D24 -> 541.28301 | D11: 2470633.4 | E11: =D11-'Benchmark 2015'!E24 -> -100730.11 | F11: 1408.3644 | G11: =F11-'Benchmark 2015'!G24 -> 58.135498 | H11: 342219.72 | I11: =H11-'Benchmark 2015'!P24 -> -60490.941 | J11: 5842.7011 | K11: =J11-'Benchmark 2015'!S24 -> 246.82139 | L11: 1666711.7 | M11: =L11-'Benchmark 2015'!AB24 -> -87270.758 | N11: 1482.8763 | O11: =N11-'Benchmark 2015'!AE24 -> 236.32613 | P11: 461702.04 | Q11: =P11-'Benchmark 2015'!AN24 -> 47031.592
A12: 141+ Years | B12: 3890.821 | C12: =B12-'Benchmark 2015'!D25 -> -462.6474 | D12: 2494359.8 | E12: =D12-'Benchmark 2015'!E25 -> -475136.23 | F12: 293.73982 | G12: =F12-'Benchmark 2015'!G25 -> -15.925926 | H12: 180388.33 | I12: =H12-'Benchmark 2015'!P25 -> -34061.188 | J12: 2245.8927 | K12: =J12-'Benchmark 2015'!S25 -> -501.77262 | L12: 1466927.9 | M12: =L12-'Benchmark 2015'!AB25 -> -404791.3 | N12: 1351.1884 | O12: =N12-'Benchmark 2015'!AE25 -> 55.051152 | P12: 847043.52 | Q12: =P12-'Benchmark 2015'!AN25 -> -36283.738
A13: Medium - Economic Zone Total | B13: 12624.763 | C13: =B13-'Benchmark 2015'!D26 -> 78.635615 | D13: 4964993.2 | E13: =D13-'Benchmark 2015'!E26 -> -575866.33 | F13: 1702.1042 | G13: =F13-'Benchmark 2015'!G26 -> 42.209572 | H13: 522608.04 | I13: =H13-'Benchmark 2015'!P26 -> -94552.129 | J13: 8088.5938 | K13: =J13-'Benchmark 2015'!S26 -> -254.95124 | L13: 3133639.6 | M13: =L13-'Benchmark 2015'!AB26 -> -492062.06 | N13: 2834.0648 | O13: =N13-'Benchmark 2015'!AE26 -> 291.37728 | P13: 1308745.6 | Q13: =P13-'Benchmark 2015'!AN26 -> 10747.853
A14: Poor - Economic Zone | C14: =B14-'Benchmark 2015'!D27 -> 0 | E14: =D14-'Benchmark 2015'!E27 -> 0 | G14: =F14-'Benchmark 2015'!G27 -> 0 | I14: =H14-'Benchmark 2015'!P27 -> 0 | K14: =J14-'Benchmark 2015'!S27 -> 0 | M14: =L14-'Benchmark 2015'!AB27 -> 0 | O14: =N14-'Benchmark 2015'!AE27 -> 0 | Q14: =P14-'Benchmark 2015'!AN27 -> 0
A15: 41-140 Years | B15: 1864.8389 | C15: =B15-'Benchmark 2015'!D28 -> 3.9950873 | D15: 697211.7 | E15: =D15-'Benchmark 2015'!E28 -> 1925.3366 | F15: 661.12932 | G15: =F15-'Benchmark 2015'!G28 -> -0.021263275 | H15: 331469.97 | I15: =H15-'Benchmark 2015'!P28 -> 12.516066 | J15: 1099.2441 | K15: =J15-'Benchmark 2015'!S28 -> 4.0042433 | L15: 342264.42 | M15: =L15-'Benchmark 2015'!AB28 -> 1909.4337 | N15: 104.46552 | O15: =N15-'Benchmark 2015'!AE28 -> 0.012107344 | P15: 23477.312 | Q15: =P15-'Benchmark 2015'!AN28 -> 3.3868793
A16: 141+ Years | B16: 2082.2526 | C16: =B16-'Benchmark 2015'!D29 -> -209.27455 | D16: 1087872.2 | E16: =D16-'Benchmark 2015'!E29 -> -117306.26 | F16: 357.8978 | G16: =F16-'Benchmark 2015'!G29 -> -77.248902 | H16: 208095.28 | I16: =H16-'Benchmark 2015'!P29 -> -45001.514 | J16: 1599.9732 | K16: =J16-'Benchmark 2015'!S29 -> -130.65341 | L16: 823732.9 | M16: =L16-'Benchmark 2015'!AB29 -> -71506.758 | N16: 124.3816 | O16: =N16-'Benchmark 2015'!AE29 -> -1.3722357 | P16: 56044.07 | Q16: =P16-'Benchmark 2015'!AN29 -> -797.98636
A17: Poor - Economic Zone Total | B17: 3947.0915 | C17: =B17-'Benchmark 2015'!D30 -> -205.27946 | D17: 1785083.9 | E17: =D17-'Benchmark 2015'!E30 -> -115380.92 | F17: 1019.0271 | G17: =F17-'Benchmark 2015'!G30 -> -77.270165 | H17: 539565.24 | I17: =H17-'Benchmark 2015'!P30 -> -44988.997 | J17: 2699.2173 | K17: =J17-'Benchmark 2015'!S30 -> -126.64917 | L17: 1165997.3 | M17: =L17-'Benchmark 2015'!AB30 -> -69597.324 | N17: 228.84711 | O17: =N17-'Benchmark 2015'!AE30 -> -1.3601284 | P17: 79521.382 | Q17: =P17-'Benchmark 2015'!AN30 -> -794.59948
A18: B.C. Timber Sales Total | B18: 24774.238 | C18: =B18-'Benchmark 2015'!D31 -> -9923.7196 | D18: 10364396 | E18: =D18-'Benchmark 2015'!E31 -> -4886487.6 | F18: 5031.2876 | G18: =F18-'Benchmark 2015'!G31 -> -1641.6131 | H18: 2337709.8 | I18: =H18-'Benchmark 2015'!P31 -> -564869.18 | J18: 15089.726 | K18: =J18-'Benchmark 2015'!S31 -> -6713.0515 | L18: 5958151.9 | M18: =L18-'Benchmark 2015'!AB31 -> -3494037.9 | N18: 4653.2241 | O18: =N18-'Benchmark 2015'!AE31 -> -1569.0551 | P18: 2068533.9 | Q18: =P18-'Benchmark 2015'!AN31 -> -827580.56
A19: Lakeside Pacific Forest Products
A20: Good - Economic Zone
A21: 41-140 Years | B21: 6863.6157 | C21: =B21-'Benchmark 2015'!D62 -> -73.835247 | D21: 2674580.4 | E21: =D21-'Benchmark 2015'!E62 -> 153637.34 | F21: 1176.0194 | G21: =F21-'Benchmark 2015'!G62 -> 22.192898 | H21: 511723 | I21: =H21-'Benchmark 2015'!P62 -> 38016.614 | J21: 4794.7746 | K21: =J21-'Benchmark 2015'!S62 -> -129.16147 | L21: 1882550.8 | M21: =L21-'Benchmark 2015'!AB62 -> 102608.3 | N21: 892.82167 | O21: =N21-'Benchmark 2015'!AE62 -> 33.133323 | P21: 280306.58 | Q21: =P21-'Benchmark 2015'!AN62 -> 13012.429
A22: 141+ Years | B22: 5167.6642 | C22: =B22-'Benchmark 2015'!D63 -> 704.83371 | D22: 3762870 | E22: =D22-'Benchmark 2015'!E63 -> 643906.22 | F22: 387.90378 | G22: =F22-'Benchmark 2015'!G63 -> -9.3415913 | H22: 270089.08 | I22: =H22-'Benchmark 2015'!P63 -> -4582.4584 | J22: 3322.1155 | K22: =J22-'Benchmark 2015'!S63 -> 418.33945 | L22: 2418396.7 | M22: =L22-'Benchmark 2015'!AB63 -> 383688.79 | N22: 1457.6449 | O22: =N22-'Benchmark 2015'!AE63 -> 295.83585 | P22: 1074384.2 | Q22: =P22-'Benchmark 2015'!AN63 -> 264799.89
A23: Good - Economic Zone Total | B23: 12031.28 | C23: =B23-'Benchmark 2015'!D64 -> 630.99846 | D23: 6437450.4 | E23: =D23-'Benchmark 2015'!E64 -> 797543.56 | F23: 1563.9232 | G23: =F23-'Benchmark 2015'!G64 -> 12.851307 | H23: 781812.08 | I23: =H23-'Benchmark 2015'!P64 -> 33434.156 | J23: 8116.8901 | K23: =J23-'Benchmark 2015'!S64 -> 289.17798 | L23: 4300947.5 | M23: =L23-'Benchmark 2015'!AB64 -> 486297.09 | N23: 2350.4666 | O23: =N23-'Benchmark 2015'!AE64 -> 328.96918 | P23: 1354690.8 | Q23: =P23-'Benchmark 2015'!AN64 -> 277812.32
A24: Medium - Economic Zone | C24: =B24-'Benchmark 2015'!D65 -> 0 | E24: =D24-'Benchmark 2015'!E65 -> 0 | G24: =F24-'Benchmark 2015'!G65 -> 0 | I24: =H24-'Benchmark 2015'!P65 -> 0 | K24: =J24-'Benchmark 2015'!S65 -> 0 | M24: =L24-'Benchmark 2015'!AB65 -> 0 | O24: =N24-'Benchmark 2015'!AE65 -> 0 | Q24: =P24-'Benchmark 2015'!AN65 -> 0
A25: 41-140 Years | B25: 0.20071664 | C25: =B25-'Benchmark 2015'!D66 -> -7.1173623e-13 | D25: 56.777117 | E25: =D25-'Benchmark 2015'!E66 -> -2.0133228e-10 | F25: 0.13680626 | G25: =F25-'Benchmark 2015'!G66 -> -2.4555913e-12 | H25: 38.69866 | I25: =H25-'Benchmark 2015'!P66 -> -6.9461947e-10 | J25: 0.063910381 | K25: =J25-'Benchmark 2015'!S66 -> 1.7438551e-12 | L25: 18.078457 | M25: =L25-'Benchmark 2015'!AB66 -> 4.9328719e-10 | N25: 0 | O25: =N25-'Benchmark 2015'!AE66 -> 0 | P25: 0 | Q25: =P25-'Benchmark 2015'!AN66 -> 0
A26: 141+ Years | B26: 26.095015 | C26: =B26-'Benchmark 2015'!D67 -> 2.9150323e-05 | D26: 17650.533 | E26: =D26-'Benchmark 2015'!E67 -> 0.018823265 | F26: 4.4396101 | G26: =F26-'Benchmark 2015'!G67 -> 7.8728302e-06 | H26: 2530.6919 | I26: =H26-'Benchmark 2015'!P67 -> 0.0046045101 | J26: 17.353934 | K26: =J26-'Benchmark 2015'!S67 -> 1.7470969e-05 | L26: 12449.525 | M26: =L26-'Benchmark 2015'!AB67 -> 0.012159864 | N26: 4.3014703 | O26: =N26-'Benchmark 2015'!AE67 -> 3.8065236e-06 | P26: 2670.3161 | Q26: =P26-'Benchmark 2015'!AN67 -> 0.0020588913
A27: Medium - Economic Zone Total | B27: 26.295731 | C27: =B27-'Benchmark 2015'!D68 -> 2.9150322e-05 | D27: 17707.31 | E27: =D27-'Benchmark 2015'!E68 -> 0.018823265 | F27: 4.5764164 | G27: =F27-'Benchmark 2015'!G68 -> 7.8728278e-06 | H27: 2569.3906 | I27: =H27-'Benchmark 2015'!P68 -> 0.0046045094 | J27: 17.417845 | K27: =J27-'Benchmark 2015'!S68 -> 1.747097e-05 | L27: 12467.603 | M27: =L27-'Benchmark 2015'!AB68 -> 0.012159864 | N27: 4.3014703 | O27: =N27-'Benchmark 2015'!AE68 -> 3.8065236e-06 | P27: 2670.3161 | Q27: =P27-'Benchmark 2015'!AN68 -> 0.0020588913
A28: Poor - Economic Zone | C28: =B28-'Benchmark 2015'!D69 -> 0 | E28: =D28-'Benchmark 2015'!E69 -> 0 | G28: =F28-'Benchmark 2015'!G69 -> 0 | I28: =H28-'Benchmark 2015'!P69 -> 0 | K28: =J28-'Benchmark 2015'!S69 -> 0 | M28: =L28-'Benchmark 2015'!AB69 -> 0 | O28: =N28-'Benchmark 2015'!AE69 -> 0 | Q28: =P28-'Benchmark 2015'!AN69 -> 0
A29: 41-140 Years | B29: 0 | C29: =B29-'Benchmark 2015'!D70 -> 0 | D29: 0 | E29: =D29-'Benchmark 2015'!E70 -> 0 | F29: 0 | G29: =F29-'Benchmark 2015'!G70 -> 0 | H29: 0 | I29: =H29-'Benchmark 2015'!P70 -> 0 | J29: 0 | K29: =J29-'Benchmark 2015'!S70 -> 0 | L29: 0 | M29: =L29-'Benchmark 2015'!AB70 -> 0 | N29: 0 | O29: =N29-'Benchmark 2015'!AE70 -> 0 | P29: 0 | Q29: =P29-'Benchmark 2015'!AN70 -> 0
A30: 141+ Years | B30: 0 | C30: =B30-'Benchmark 2015'!D71 -> 0 | D30: 0 | E30: =D30-'Benchmark 2015'!E71 -> 0 | F30: 0 | G30: =F30-'Benchmark 2015'!G71 -> 0 | H30: 0 | I30: =H30-'Benchmark 2015'!P71 -> 0 | J30: 0 | K30: =J30-'Benchmark 2015'!S71 -> 0 | L30: 0 | M30: =L30-'Benchmark 2015'!AB71 -> 0 | N30: 0 | O30: =N30-'Benchmark 2015'!AE71 -> 0 | P30: 0 | Q30: =P30-'Benchmark 2015'!AN71 -> 0
A31: Poor - Economic Zone Total | B31: 0 | C31: =B31-'Benchmark 2015'!D72 -> 0 | D31: 0 | E31: =D31-'Benchmark 2015'!E72 -> 0 | F31: 0 | G31: =F31-'Benchmark 2015'!G72 -> 0 | H31: 0 | I31: =H31-'Benchmark 2015'!P72 -> 0 | J31: 0 | K31: =J31-'Benchmark 2015'!S72 -> 0 | L31: 0 | M31: =L31-'Benchmark 2015'!AB72 -> 0 | N31: 0 | O31: =N31-'Benchmark 2015'!AE72 -> 0 | P31: 0 | Q31: =P31-'Benchmark 2015'!AN72 -> 0
A32: Lakeside Pacific Forest Products Total | B32: 12057.576 | C32: =B32-'Benchmark 2015'!D73 -> 630.99849 | D32: 6455157.7 | E32: =D32-'Benchmark 2015'!E73 -> 797543.58 | F32: 1568.4996 | G32: =F32-'Benchmark 2015'!G73 -> 12.851315 | H32: 784381.47 | I32: =H32-'Benchmark 2015'!P73 -> 33434.16 | J32: 8134.3079 | K32: =J32-'Benchmark 2015'!S73 -> 289.178 | L32: 4313415.1 | M32: =L32-'Benchmark 2015'!AB73 -> 486297.1 | N32: 2354.7681 | O32: =N32-'Benchmark 2015'!AE73 -> 328.96918 | P32: 1357361.1 | Q32: =P32-'Benchmark 2015'!AN73 -> 277812.32
A33: Probyn Log Ltd
A34: Good - Economic Zone
A35: 41-140 Years | B35: 389.05691 | C35: =B35-'Benchmark 2015'!D90 -> 106.88042 | D35: 130787.04 | E35: =D35-'Benchmark 2015'!E90 -> -44687.588 | F35: 68.039261 | G35: =F35-'Benchmark 2015'!G90 -> -8.2591302 | H35: 22103.591 | I35: =H35-'Benchmark 2015'!P90 -> -23287.339 | J35: 285.19476 | K35: =J35-'Benchmark 2015'!S90 -> 97.710262 | L35: 99665.073 | M35: =L35-'Benchmark 2015'!AB90 -> -20469.889 | N35: 35.822886 | O35: =N35-'Benchmark 2015'!AE90 -> 17.429288 | P35: 9018.3735 | Q35: =P35-'Benchmark 2015'!AN90 -> -930.35956
A36: 141+ Years | B36: 197.21656 | C36: =B36-'Benchmark 2015'!D91 -> 6.776998 | D36: 172288.11 | E36: =D36-'Benchmark 2015'!E91 -> -5264.6813 | F36: 28.626556 | G36: =F36-'Benchmark 2015'!G91 -> 27.487178 | H36: 20764.809 | I36: =H36-'Benchmark 2015'!P91 -> 19994.216 | J36: 104.4909 | K36: =J36-'Benchmark 2015'!S91 -> -16.746434 | L36: 94173.236 | M36: =L36-'Benchmark 2015'!AB91 -> -15191.469 | N36: 64.099103 | O36: =N36-'Benchmark 2015'!AE91 -> -3.9637464 | P36: 57350.069 | Q36: =P36-'Benchmark 2015'!AN91 -> -10067.429
A37: Good - Economic Zone Total | B37: 586.27347 | C37: =B37-'Benchmark 2015'!D92 -> 113.65742 | D37: 303075.15 | E37: =D37-'Benchmark 2015'!E92 -> -49952.269 | F37: 96.665817 | G37: =F37-'Benchmark 2015'!G92 -> 19.228048 | H37: 42868.4 | I37: =H37-'Benchmark 2015'!P92 -> -3293.123 | J37: 389.68566 | K37: =J37-'Benchmark 2015'!S92 -> 80.963828 | L37: 193838.31 | M37: =L37-'Benchmark 2015'!AB92 -> -35661.358 | N37: 99.921989 | O37: =N37-'Benchmark 2015'!AE92 -> 13.465541 | P37: 66368.443 | Q37: =P37-'Benchmark 2015'!AN92 -> -10997.788
A38: Medium - Economic Zone | C38: =B38-'Benchmark 2015'!D93 -> 0 | E38: =D38-'Benchmark 2015'!E93 -> 0 | G38: =F38-'Benchmark 2015'!G93 -> 0 | I38: =H38-'Benchmark 2015'!P93 -> 0 | K38: =J38-'Benchmark 2015'!S93 -> 0 | M38: =L38-'Benchmark 2015'!AB93 -> 0 | O38: =N38-'Benchmark 2015'!AE93 -> 0 | Q38: =P38-'Benchmark 2015'!AN93 -> 0
A39: 41-140 Years | B39: 0 | C39: =B39-'Benchmark 2015'!D94 -> 0 | D39: 0 | E39: =D39-'Benchmark 2015'!E94 -> 0 | F39: 0 | G39: =F39-'Benchmark 2015'!G94 -> 0 | H39: 0 | I39: =H39-'Benchmark 2015'!P94 -> 0 | J39: 0 | K39: =J39-'Benchmark 2015'!S94 -> 0 | L39: 0 | M39: =L39-'Benchmark 2015'!AB94 -> 0 | N39: 0 | O39: =N39-'Benchmark 2015'!AE94 -> 0 | P39: 0 | Q39: =P39-'Benchmark 2015'!AN94 -> 0
A40: 141+ Years | B40: 0 | C40: =B40-'Benchmark 2015'!D95 -> 0 | D40: 0 | E40: =D40-'Benchmark 2015'!E95 -> 0 | F40: 0 | G40: =F40-'Benchmark 2015'!G95 -> 0 | H40: 0 | I40: =H40-'Benchmark 2015'!P95 -> 0 | J40: 0 | K40: =J40-'Benchmark 2015'!S95 -> 0 | L40: 0 | M40: =L40-'Benchmark 2015'!AB95 -> 0 | N40: 0 | O40: =N40-'Benchmark 2015'!AE95 -> 0 | P40: 0 | Q40: =P40-'Benchmark 2015'!AN95 -> 0
A41: Medium - Economic Zone Total | B41: 0 | C41: =B41-'Benchmark 2015'!D96 -> 0 | D41: 0 | E41: =D41-'Benchmark 2015'!E96 -> 0 | F41: 0 | G41: =F41-'Benchmark 2015'!G96 -> 0 | H41: 0 | I41: =H41-'Benchmark 2015'!P96 -> 0 | J41: 0 | K41: =J41-'Benchmark 2015'!S96 -> 0 | L41: 0 | M41: =L41-'Benchmark 2015'!AB96 -> 0 | N41: 0 | O41: =N41-'Benchmark 2015'!AE96 -> 0 | P41: 0 | Q41: =P41-'Benchmark 2015'!AN96 -> 0
...
