Workbook

Sheet Benchmark 2015
A1: Benchmark 2015 Licensee - Economic Zones | B1: Total Summary | G1: Slope 0-30% | S1: Slope 31-69% | AE1: Slope >69%
B2: AAC (m3) | C2: Yrs Supply | D2: Total THLB Area (ha) | E2: Total THLB Vol (m3) | F2: % Total Vol (m3) | G2: Slope THLB Area (ha) | H2: THLB Volume (m3) | P2: Slope THLB Volume | Q2: % of Total Volume | R2: Yrs Supply | S2: Slope THLB Area (ha) | T2: THLB Volume (m3) | AB2: Slope THLB Volume | AC2: % of Total Volume | AD2: Yrs Supply | AE2: Slope THLB Area (ha) | AF2: THLB Volume (m3) | AN2: Slope THLB Volume | AO2: % of Total Volume (m3) | AP2: Yrs Supply
C3: Yrs Supply | F3: % of Total Vol (m3) | G3: CFLB Area (ha) | H3: FIR | I3: CEDAR | J3: HEMLOCK | K3: BALSAM | L3: PINE | M3: SPRUCE | N3: CYPRESS | O3: DECIDUOUS | P3: CFLB Volume (m3) | Q3: % of Total Volume (m3) | R3: Yrs Supply | S3: THLBAREA | T3: FIR | U3: CEDAR | V3: HEMLOCK | W3: BALSAM | X3: PINE | Y3: SPRUCE | Z3: CYPRESS | AA3: DECIDUOUS | AB3: THLB_RVTOT | AE3: Sum of THLBAREA | AF3: FIR | AG3: CEDAR | AH3: HEMLOCK | AI3: BALSAM | AJ3: PINE | AK3: SPRUCE | AL3: CYPRESS | AM3: DECIDUOUS | AN3: Sum of THLB_RVTOT
A4: Western Canadian Timber Products | B4: 205677
A5: Good - Economic Zone
A6: 41-140 Years | C6: =E6/$B$4 -> 14.325254 | D6: 5742.673 | E6: =P6+AB6+AN6 -> 2946375.2 | F6: =E6/$E$17 -> 0.37375242 | G6: 1001.2243 | H6: 145518.34 | I6: 38413.589 | J6: 235436.23 | K6: 65749.9 | L6: 860.84119 | M6: 439.72942 | N6: 1766.9737 | O6: 60596.089 | P6: =SUM(H6:O6) -> 548781.69 | Q6: =P6/$E$17 -> 0.069613837 | R6: =P6/$B$4 -> 2.6681724 | S6: 3843.8402 | T6: 715170.51 | U6: 87388.738 | V6: 665639.05 | W6: 221711.59 | X6: 15373.917 | Y6: 1924.6271 | Z6: 3408.7169 | AA6: 184462.76 | AB6: =SUM(T6:AA6) -> 1895079.9 | AC6: =AB6/$E$17 -> 0.24039393 | AD6: =AB6/$B$4 -> 9.213864 | AE6: 897.60845 | AF6: 251665.39 | AG6: 21398.448 | AH6: 164483.85 | AI6: 39799.963 | AJ6: 7596.3458 | AK6: 43.418435 | AL6: 135.47369 | AM6: 17390.699 | AN6: =SUM(AF6:AM6) -> 502513.59 | AO6: =AN6/$E$17 -> 0.063744655 | AP6: =AN6/$B$4 -> 2.4432172
A7: 141+ Years | C7: =E7/$B$4 -> 7.9519375 | D7: 2257.9476 | E7: =P7+AB7+AN7 -> 1635530.7 | F7: =E7/$E$17 -> 0.20746969 | G7: 254.60599 | H7: 37567.933 | I7: 8874.5198 | J7: 51315.521 | K7: 63458.654 | L7: 278.3455 | M7: 0 | N7: 1974.3855 | O7: 5755.6569 | P7: =SUM(H7:O7) -> 169225.02 | Q7: =P7/$E$17 -> 0.021466465 | R7: =P7/$B$4 -> 0.82277073 | S7: 1649.1475 | T7: 255666.6 | U7: 55660.219 | V7: 455262.84 | W7: 407589.5 | X7: 596.38118 | Y7: 0 | Z7: 24942.453 | AA7: 10607.966 | AB7: =SUM(T7:AA7) -> 1210326 | AC7: =AB7/$E$17 -> 0.15353179 | AD7: =AB7/$B$4 -> 5.8845955 | AE7: 354.19409 | AF7: 83249.48 | AG7: 15250.907 | AH7: 93246.586 | AI7: 58918.896 | AJ7: 87.462348 | AK7: 0 | AL7: 3720.3469 | AM7: 1506.0029 | AN7: =SUM(AF7:AM7) -> 255979.68 | AO7: =AN7/$E$17 -> 0.032471433 | AP7: =AN7/$B$4 -> 1.2445713
A8: Good - Economic Zone Total | C8: =E8/$B$4 -> 22.277191 | D8: 8000.6206 | E8: =P8+AB8+AN8 -> 4581905.8 | F8: =E8/$E$17 -> 0.5812221 | G8: 1255.8303 | H8: 183086.27 | I8: 47288.108 | J8: 286751.75 | K8: 129208.55 | L8: 1139.1867 | M8: 439.72942 | N8: 3741.3592 | O8: 66351.746 | P8: =SUM(H8:O8) -> 718006.7 | Q8: =P8/$E$17 -> 0.091080302 | R8: =P8/$B$4 -> 3.4909431 | S8: 5492.9877 | T8: 970837.11 | U8: 143048.96 | V8: 1120901.9 | W8: 629301.09 | X8: 15970.298 | Y8: 1924.6271 | Z8: 28351.17 | AA8: 195070.72 | AB8: =SUM(T8:AA8) -> 3105405.9 | AC8: =AB8/$E$17 -> 0.39392571 | AD8: =AB8/$B$4 -> 15.09846 | AE8: 1251.8025 | AF8: 334914.87 | AG8: 36649.356 | AH8: 257730.44 | AI8: 98718.859 | AJ8: 7683.8081 | AK8: 43.418435 | AL8: 3855.8206 | AM8: 18896.702 | AN8: =SUM(AF8:AM8) -> 758493.27 | AO8: =AN8/$E$17 -> 0.096216088 | AP8: =AN8/$B$4 -> 3.6877885
A9: Medium - Economic Zone
A10: 41-140 Years | C10: =E10/$B$4 -> 2.9448436 | D10: 1665.6699 | E10: =P10+AB10+AN10 -> 605686.6 | F10: =E10/$E$17 -> 0.076832316 | G10: 438.71873 | H10: 71705.097 | I10: 9210.0957 | J10: 41565.391 | K10: 40640.225 | L10: 49.639369 | M10: 1084.6804 | N10: 0 | O10: 18393.118 | P10: =SUM(H10:O10) -> 182648.25 | Q10: =P10/$E$17 -> 0.023169223 | R10: =P10/$B$4 -> 0.88803437 | S10: 986.2591 | T10: 169806.66 | U10: 8787.5659 | V10: 79903.249 | W10: 75983.11 | X10: 2843.4608 | Y10: 4501.0948 | Z10: 0.7266474 | AA10: 6356.5071 | AB10: =SUM(T10:AA10) -> 348182.37 | AC10: =AB10/$E$17 -> 0.044167492 | AD10: =AB10/$B$4 -> 1.69286 | AE10: 240.69205 | AF10: 41129.421 | AG10: 1640.4537 | AH10: 18963.048 | AI10: 11607.528 | AJ10: 158.02312 | AK10: 158.90791 | AL10: 0 | AM10: 1198.597 | AN10: =SUM(AF10:AM10) -> 74855.98 | AO10: =AN10/$E$17 -> 0.009495601 | AP10: =AN10/$B$4 -> 0.3639492
A11: 141+ Years | C11: =E11/$B$4 -> 2.8630606 | D11: 940.21719 | E11: =P11+AB11+AN11 -> 588865.71 | F11: =E11/$E$17 -> 0.074698559 | G11: 120.71894 | H11: 9925.2942 | I11: 5620.0101 | J11: 31823.804 | K11: 24641.191 | L11: 0 | M11: 7818.1678 | N11: 0 | O11: 3583.6097 | P11: =SUM(H11:O11) -> 83412.077 | Q11: =P11/$E$17 -> 0.010580956 | R11: =P11/$B$4 -> 0.40554888 | S11: 658.71703 | T11: 36471.758 | U11: 13319.408 | V11: 152105.7 | W11: 195706.81 | X11: 93.931297 | Y11: 22968.472 | Z11: 794.96937 | AA11: 24.917731 | AB11: =SUM(T11:AA11) -> 421485.96 | AC11: =AB11/$E$17 -> 0.05346617 | AD11: =AB11/$B$4 -> 2.0492615 | AE11: 160.78122 | AF11: 21748.414 | AG11: 3211.1106 | AH11: 26550.629 | AI11: 31772.874 | AJ11: 4.3530186 | AK11: 545.13632 | AL11: 112.46152 | AM11: 22.693274 | AN11: =SUM(AF11:AM11) -> 83967.672 | AO11: =AN11/$E$17 -> 0.010651434 | AP11: =AN11/$B$4 -> 0.40825018
A12: Medium - Economic Zone Total | C12: =E12/$B$4 -> 5.8079042 | D12: 2605.8871 | E12: =P12+AB12+AN12 -> 1194552.3 | F12: =E12/$E$17 -> 0.15153088 | G12: 559.43767 | H12: 81630.391 | I12: 14830.106 | J12: 73389.195 | K12: 65281.416 | L12: 49.639369 | M12: 8902.8482 | N12: 0 | O12: 21976.727 | P12: =SUM(H12:O12) -> 266060.32 | Q12: =P12/$E$17 -> 0.033750179 | R12: =P12/$B$4 -> 1.2935833 | S12: 1644.9761 | T12: 206278.42 | U12: 22106.974 | V12: 232008.94 | W12: 271689.92 | X12: 2937.3921 | Y12: 27469.567 | Z12: 795.69601 | AA12: 6381.4248 | AB12: =SUM(T12:AA12) -> 769668.33 | AC12: =AB12/$E$17 -> 0.097633662 | AD12: =AB12/$B$4 -> 3.7421215 | AE12: 401.47327 | AF12: 62877.835 | AG12: 4851.5643 | AH12: 45513.678 | AI12: 43380.402 | AJ12: 162.37614 | AK12: 704.04423 | AL12: 112.46152 | AM12: 1221.2903 | AN12: =SUM(AF12:AM12) -> 158823.65 | AO12: =AN12/$E$17 -> 0.020147035 | AP12: =AN12/$B$4 -> 0.77219938
A13: Poor - Economic Zone
A14: 41-140 Years | C14: =E14/$B$4 -> 1.590773 | D14: 1924.3411 | E14: =P14+AB14+AN14 -> 327185.43 | F14: =E14/$E$17 -> 0.041503996 | G14: 469.50516 | H14: 48171.871 | I14: 3602.4451 | J14: 18510.156 | K14: 5788.8498 | L14: 5405.1971 | M14: 124.38496 | N14: 2.0229158 | O14: 5430.2 | P14: =SUM(H14:O14) -> 87035.127 | Q14: =P14/$E$17 -> 0.011040545 | R14: =P14/$B$4 -> 0.42316412 | S14: 1266.718 | T14: 119980.98 | U14: 5397.5808 | V14: 27415.509 | W14: 18156.841 | X14: 41347.556 | Y14: 1055.5838 | Z14: 136.25918 | AA14: 2616.0575 | AB14: =SUM(T14:AA14) -> 216106.37 | AC14: =AB14/$E$17 -> 0.027413439 | AD14: =AB14/$B$4 -> 1.0507075 | AE14: 188.11792 | AF14: 13312.743 | AG14: 595.70656 | AH14: 4650.4595 | AI14: 3368.923 | AJ14: 1542.6154 | AK14: 44.361068 | AL14: 0 | AM14: 529.12522 | AN14: =SUM(AF14:AM14) -> 24043.934 | AO14: =AN14/$E$17 -> 0.0030500116 | AP14: =AN14/$B$4 -> 0.11690142
A15: 141+ Years | C15: =E15/$B$4 -> 8.6523215 | D15: 3076.8704 | E15: =P15+AB15+AN15 -> 1779583.5 | F15: =E15/$E$17 -> 0.22574302 | G15: 592.89143 | H15: 52054.708 | I15: 13641.691 | J15: 109891.03 | K15: 144213.61 | L15: 3036.1718 | M15: 18501.515 | N15: 1765.4707 | O15: 1513.8053 | P15: =SUM(H15:O15) -> 344618 | Q15: =P15/$E$17 -> 0.043715346 | R15: =P15/$B$4 -> 1.6755301 | S15: 2097.4246 | T15: 246224.67 | U15: 39803.34 | V15: 400592.07 | W15: 439874.78 | X15: 11122.306 | Y15: 59965.818 | Z15: 12584.035 | AA15: 550.08297 | AB15: =SUM(T15:AA15) -> 1210717.1 | AC15: =AB15/$E$17 -> 0.15358141 | AD15: =AB15/$B$4 -> 5.8864973 | AE15: 386.5543 | AF15: 41103.036 | AG15: 9208.9158 | AH15: 72811.387 | AI15: 87178.928 | AJ15: 3015.5556 | AK15: 7942.2407 | AL15: 2930.4766 | AM15: 57.881732 | AN15: =SUM(AF15:AM15) -> 224248.42 | AO15: =AN15/$E$17 -> 0.028446272 | AP15: =AN15/$B$4 -> 1.0902941
A16: Poor - Economic Zone Total | C16: =E16/$B$4 -> 10.243095 | D16: 5001.2115 | E16: =P16+AB16+AN16 -> 2106769 | F16: =E16/$E$17 -> 0.26724702 | G16: 1062.3966 | H16: 100226.58 | I16: 17244.136 | J16: 128401.19 | K16: 150002.46 | L16: 8441.3688 | M16: 18625.9 | N16: 1767.4936 | O16: 6944.0053 | P16: =SUM(H16:O16) -> 431653.13 | Q16: =P16/$E$17 -> 0.054755892 | R16: =P16/$B$4 -> 2.0986942 | S16: 3364.1427 | T16: 366205.65 | U16: 45200.921 | V16: 428007.58 | W16: 458031.63 | X16: 52469.863 | Y16: 61021.402 | Z16: 12720.295 | AA16: 3166.1405 | AB16: =SUM(T16:AA16) -> 1426823.5 | AC16: =AB16/$E$17 -> 0.18099485 | AD16: =AB16/$B$4 -> 6.9372048 | AE16: 574.67222 | AF16: 54415.78 | AG16: 9804.6223 | AH16: 77461.847 | AI16: 90547.851 | AJ16: 4558.171 | AK16: 7986.6018 | AL16: 2930.4766 | AM16: 587.00695 | AN16: =SUM(AF16:AM16) -> 248292.36 | AO16: =AN16/$E$17 -> 0.031496284 | AP16: =AN16/$B$4 -> 1.2071955
A17: Western Canadian Timber Products Total | C17: =E17/$B$4 -> 38.32819 | D17: 15607.719 | E17: =P17+AB17+AN17 -> 7883227.1 | F17: =E17/$E$17 -> 1 | G17: 2877.6646 | H17: 364943.24 | I17: 79362.35 | J17: 488542.14 | K17: 344492.43 | L17: 9630.1949 | M17: 27968.477 | N17: 5508.8528 | O17: 95272.478 | P17: =SUM(H17:O17) -> 1415720.2 | Q17: =P17/$E$17 -> 0.17958637 | R17: =P17/$B$4 -> 6.8832206 | S17: 10502.107 | T17: 1543321.2 | U17: 210356.85 | V17: 1780918.4 | W17: 1359022.6 | X17: 71377.552 | Y17: 90415.596 | Z17: 41867.16 | AA17: 204618.29 | AB17: =SUM(T17:AA17) -> 5301897.7 | AC17: =AB17/$E$17 -> 0.67255422 | AD17: =AB17/$B$4 -> 25.777786 | AE17: 2227.948 | AF17: 452208.48 | AG17: 51305.542 | AH17: 380705.96 | AI17: 232647.11 | AJ17: 12404.355 | AK17: 8734.0644 | AL17: 6898.7587 | AM17: 20704.999 | AN17: =SUM(AF17:AM17) -> 1165609.3 | AO17: =AN17/$E$17 -> 0.14785941 | AP17: =AN17/$B$4 -> 5.6671834
A18: B.C. Timber Sales | B18: 246745
A19: Good - Economic Zone
A20: 41-140 Years | C20: =E20/$B$18 -> 23.451395 | D20: 14764.753 | E20: =P20+AB20+AN20 -> 5786514.4 | F20: =E20/$E$31 -> 0.37942159 | G20: 3508.908 | H20: 495915.17 | I20: 85599.043 | J20: 448873.78 | K20: 135655.03 | L20: 5787.2618 | M20: 2015.3575 | N20: 1626.5698 | O20: 273491.81 | P20: =SUM(H20:O20) -> 1448964 | Q20: =P20/$E$31 -> 0.095008532 | R20: =P20/$B$18 -> 5.8723136 | S20: 8777.5227 | T20: 1469908.5 | U20: 200270.01 | V20: 955582.56 | W20: 273515.22 | X20: 16030.575 | Y20: 2448.2078 | Z20: 5111.1989 | AA20: 475170.46 | AB20: =SUM(T20:AA20) -> 3398036.7 | AC20: =AB20/$E$31 -> 0.22280918 | AD20: =AB20/$B$18 -> 13.771451 | AE20: 2478.3223 | AF20: 448957.31 | AG20: 63631.832 | AH20: 256114.28 | AI20: 70324.247 | AJ20: 2164.0645 | AK20: 213.59634 | AL20: 1400.5593 | AM20: 96707.704 | AN20: =SUM(AF20:AM20) -> 939513.6 | AO20: =AN20/$E$31 -> 0.061603881 | AP20: =AN20/$B$18 -> 3.8076297
A21: 141+ Years | C21: =E21/$B$18 -> 8.1989276 | D21: 3234.7062 | E21: =P21+AB21+AN21 -> 2023044.4 | F21: =E21/$E$31 -> 0.13265097 | G21: 407.80072 | H21: 63125.987 | I21: 19234.108 | J21: 87364.771 | K21: 57785.069 | L21: 1598.7304 | M21: 184.92257 | N21: 19179.225 | O21: 3427.7015 | P21: =SUM(H21:O21) -> 251900.51 | Q21: =P21/$E$31 -> 0.01651711 | R21: =P21/$B$18 -> 1.0208941 | S21: 1855.8433 | T21: 184718.3 | U21: 119925.52 | V21: 466737.02 | W21: 377566.57 | X21: 685.58036 | Y21: 2196.8651 | Z21: 35019.237 | AA21: 6007.5914 | AB21: =SUM(T21:AA21) -> 1192856.7 | AC21: =AB21/$E$31 -> 0.078215581 | AD21: =AB21/$B$18 -> 4.8343703 | AE21: 971.06216 | AF21: 94595.815 | AG21: 78732.784 | AH21: 239808.28 | AI21: 151235.68 | AJ21: 391.46314 | AK21: 454.60879 | AL21: 12424.443 | AM21: 644.13068 | AN21: =SUM(AF21:AM21) -> 578287.2 | AO21: =AN21/$E$31 -> 0.037918276 | AP21: =AN21/$B$18 -> 2.3436633
A22: Good - Economic Zone Total | C22: =E22/$B$18 -> 31.650322 | D22: 17999.459 | E22: =P22+AB22+AN22 -> 7809558.8 | F22: =E22/$E$31 -> 0.51207256 | G22: 3916.7088 | H22: 559041.16 | I22: 104833.15 | J22: 536238.55 | K22: 193440.1 | L22: 7385.9922 | M22: 2200.2801 | N22: 20805.795 | O22: 276919.51 | P22: =SUM(H22:O22) -> 1700864.5 | Q22: =P22/$E$31 -> 0.11152564 | R22: =P22/$B$18 -> 6.8932077 | S22: 10633.366 | T22: 1654626.8 | U22: 320195.53 | V22: 1422319.6 | W22: 651081.8 | X22: 16716.156 | Y22: 4645.0729 | Z22: 40130.436 | AA22: 481178.05 | AB22: =SUM(T22:AA22) -> 4590893.4 | AC22: =AB22/$E$31 -> 0.30102476 | AD22: =AB22/$B$18 -> 18.605822 | AE22: 3449.3844 | AF22: 543553.13 | AG22: 142364.62 | AH22: 495922.56 | AI22: 221559.92 | AJ22: 2555.5276 | AK22: 668.20512 | AL22: 13825.002 | AM22: 97351.835 | AN22: =SUM(AF22:AM22) -> 1517800.8 | AO22: =AN22/$E$31 -> 0.099522157 | AP22: =AN22/$B$18 -> 6.151293
A23: Medium - Economic Zone
A24: 41-140 Years | C24: =E24/$B$18 -> 10.421137 | D24: 8192.6588 | E24: =P24+AB24+AN24 -> 2571363.5 | F24: =E24/$E$31 -> 0.16860424 | G24: 1350.2289 | H24: 63240.032 | I24: 15173.802 | J24: 127428.95 | K24: 158185.02 | L24: 0.7277603 | M24: 1790.7378 | N24: 594.39612 | O24: 36296.994 | P24: =SUM(H24:O24) -> 402710.66 | Q24: =P24/$E$31 -> 0.026405727 | R24: =P24/$B$18 -> 1.6320925 | S24: 5595.8797 | T24: 401665.34 | U24: 76580.156 | V24: 564561.85 | W24: 545087.67 | X24: 14.771331 | Y24: 3484.2882 | Z24: 1360.7551 | AA24: 161227.59 | AB24: =SUM(T24:AA24) -> 1753982.4 | AC24: =AB24/$E$31 -> 0.11500858 | AD24: =AB24/$B$18 -> 7.1084821 | AE24: 1246.5502 | AF24: 144842.95 | AG24: 25195.758 | AH24: 149955.76 | AI24: 68174.365 | AJ24: 39.437283 | AK24: 59.786721 | AL24: 308.82035 | AM24: 26093.572 | AN24: =SUM(AF24:AM24) -> 414670.45 | AO24: =AN24/$E$31 -> 0.02718993 | AP24: =AN24/$B$18 -> 1.6805627
A25: 141+ Years | C25: =E25/$B$18 -> 12.034676 | D25: 4353.4684 | E25: =P25+AB25+AN25 -> 2969496 | F25: =E25/$E$31 -> 0.19470977 | G25: 309.66575 | H25: 17746.737 | I25: 7474.0114 | J25: 98420.132 | K25: 88200.895 | L25: 155.66924 | M25: 1201.5948 | N25: 1229.0011 | O25: 21.473687 | P25: =SUM(H25:O25) -> 214449.51 | Q25: =P25/$E$31 -> 0.014061449 | R25: =P25/$B$18 -> 0.86911392 | S25: 2747.6654 | T25: 139628.72 | U25: 70017.149 | V25: 740627.7 | W25: 902465.86 | X25: 106.17832 | Y25: 3810.188 | Z25: 14123.813 | AA25: 939.61835 | AB25: =SUM(T25:AA25) -> 1871719.2 | AC25: =AB25/$E$31 -> 0.12272858 | AD25: =AB25/$B$18 -> 7.585642 | AE25: 1296.1373 | AF25: 90134.509 | AG25: 58756.093 | AH25: 403623.69 | AI25: 323920.4 | AJ25: 0 | AK25: 516.55816 | AL25: 5570.5522 | AM25: 805.45676 | AN25: =SUM(AF25:AM25) -> 883327.26 | AO25: =AN25/$E$31 -> 0.057919745 | AP25: =AN25/$B$18 -> 3.5799196
A26: Medium - Economic Zone Total | C26: =E26/$B$18 -> 22.455813 | D26: 12546.127 | E26: =P26+AB26+AN26 -> 5540859.5 | F26: =E26/$E$31 -> 0.36331401 | G26: 1659.8947 | H26: 80986.769 | I26: 22647.813 | J26: 225849.08 | K26: 246385.92 | L26: 156.397 | M26: 2992.3326 | N26: 1823.3972 | O26: 36318.468 | P26: =SUM(H26:O26) -> 617160.17 | Q26: =P26/$E$31 -> 0.040467176 | R26: =P26/$B$18 -> 2.5012064 | S26: 8343.5451 | T26: 541294.07 | U26: 146597.3 | V26: 1305189.6 | W26: 1447553.5 | X26: 120.94965 | Y26: 7294.4762 | Z26: 15484.568 | AA26: 162167.21 | AB26: =SUM(T26:AA26) -> 3625701.7 | AC26: =AB26/$E$31 -> 0.23773716 | AD26: =AB26/$B$18 -> 14.694124 | AE26: 2542.6875 | AF26: 234977.46 | AG26: 83951.851 | AH26: 553579.45 | AI26: 392094.77 | AJ26: 39.437283 | AK26: 576.34488 | AL26: 5879.3725 | AM26: 26899.029 | AN26: =SUM(AF26:AM26) -> 1297997.7 | AO26: =AN26/$E$31 -> 0.085109675 | AP26: =AN26/$B$18 -> 5.2604823
A27: Poor - Economic Zone
A28: 41-140 Years | C28: =E28/$B$18 -> 2.8178336 | D28: 1860.8438 | E28: =P28+AB28+AN28 -> 695286.36 | F28: =E28/$E$31 -> 0.045589908 | G28: 661.15058 | H28: 250058.05 | I28: 24721.036 | J28: 18485.846 | K28: 13241.099 | L28: 11351.536 | M28: 1242.9647 | N28: 4.6394504 | O28: 12352.275 | P28: =SUM(H28:O28) -> 331457.45 | Q28: =P28/$E$31 -> 0.021733656 | R28: =P28/$B$18 -> 1.3433198 | S28: 1095.2398 | T28: 216069.78 | U28: 17756.756 | V28: 10834.807 | W28: 33094.526 | X28: 39629.14 | Y28: 479.02406 | Z28: 19.143625 | AA28: 22471.808 | AB28: =SUM(T28:AA28) -> 340354.98 | AC28: =AB28/$E$31 -> 0.022317067 | AD28: =AB28/$B$18 -> 1.3793795 | AE28: 104.45341 | AF28: 14743.349 | AG28: 213.22594 | AH28: 1346.1545 | AI28: 3431.3356 | AJ28: 3399.1393 | AK28: 137.13387 | AL28: 2.6792412 | AM28: 200.90765 | AN28: =SUM(AF28:AM28) -> 23473.925 | AO28: =AN28/$E$31 -> 0.0015391846 | AP28: =AN28/$B$18 -> 0.095134349
A29: 141+ Years | C29: =E29/$B$18 -> 4.8843077 | D29: 2291.5272 | E29: =P29+AB29+AN29 -> 1205178.5 | F29: =E29/$E$31 -> 0.079023522 | G29: 435.14671 | H29: 29891.385 | I29: 17085.467 | J29: 70565.592 | K29: 98074.947 | L29: 3447.0364 | M29: 32191.899 | N29: 1835.2325 | O29: 5.2292347 | P29: =SUM(H29:O29) -> 253096.79 | Q29: =P29/$E$31 -> 0.01659555 | R29: =P29/$B$18 -> 1.0257423 | S29: 1730.6266 | T29: 215637.04 | U29: 38019.281 | V29: 254421.27 | W29: 246237.86 | X29: 20542.507 | Y29: 105080.38 | Z29: 14404.746 | AA29: 896.57365 | AB29: =SUM(T29:AA29) -> 895239.66 | AC29: =AB29/$E$31 -> 0.05870084 | AD29: =AB29/$B$18 -> 3.6281978 | AE29: 125.75383 | AF29: 19979.681 | AG29: 869.69377 | AH29: 11535.326 | AI29: 17507.361 | AJ29: 1055.9255 | AK29: 5056.936 | AL29: 565.4543 | AM29: 271.67787 | AN29: =SUM(AF29:AM29) -> 56842.056 | AO29: =AN29/$E$31 -> 0.0037271321 | AP29: =AN29/$B$18 -> 0.23036761
A30: Poor - Economic Zone Total | C30: =E30/$B$18 -> 7.7021413 | D30: 4152.371 | E30: =P30+AB30+AN30 -> 1900464.9 | F30: =E30/$E$31 -> 0.12461343 | G30: 1096.2973 | H30: 279949.44 | I30: 41806.503 | J30: 89051.438 | K30: 111316.05 | L30: 14798.573 | M30: 33434.863 | N30: 1839.8719 | O30: 12357.504 | P30: =SUM(H30:O30) -> 584554.24 | Q30: =P30/$E$31 -> 0.038329206 | R30: =P30/$B$18 -> 2.3690621 | S30: 2825.8665 | T30: 431706.82 | U30: 55776.037 | V30: 265256.08 | W30: 279332.38 | X30: 60171.647 | Y30: 105559.4 | Z30: 14423.89 | AA30: 23368.381 | AB30: =SUM(T30:AA30) -> 1235594.6 | AC30: =AB30/$E$31 -> 0.081017908 | AD30: =AB30/$B$18 -> 5.0075772 | AE30: 230.20724 | AF30: 34723.03 | AG30: 1082.9197 | AH30: 12881.481 | AI30: 20938.697 | AJ30: 4455.0648 | AK30: 5194.0699 | AL30: 568.13354 | AM30: 472.58552 | AN30: =SUM(AF30:AM30) -> 80315.981 | AO30: =AN30/$E$31 -> 0.0052663168 | AP30: =AN30/$B$18 -> 0.32550196
A31: B.C. Timber Sales Total | C31: =E31/$B$18 -> 61.808276 | D31: 34697.957 | E31: =P31+AB31+AN31 -> 15250883 | F31: =E31/$E$31 -> 1 | G31: 6672.9007 | H31: 919977.36 | I31: 169287.47 | J31: 851139.06 | K31: 551142.06 | L31: 22340.962 | M31: 38627.476 | N31: 24469.064 | O31: 325595.49 | P31: =SUM(H31:O31) -> 2902578.9 | Q31: =P31/$E$31 -> 0.19032202 | R31: =P31/$B$18 -> 11.763476 | S31: 21802.778 | T31: 2627627.7 | U31: 522568.88 | V31: 2992765.2 | W31: 2377967.7 | X31: 77008.752 | Y31: 117498.95 | Z31: 70038.893 | AA31: 666713.64 | AB31: =SUM(T31:AA31) -> 9452189.7 | AC31: =AB31/$E$31 -> 0.61977983 | AD31: =AB31/$B$18 -> 38.307523 | AE31: 6222.2792 | AF31: 813253.62 | AG31: 227399.39 | AH31: 1062383.5 | AI31: 634593.39 | AJ31: 7050.0297 | AK31: 6438.6199 | AL31: 20272.508 | AM31: 124723.45 | AN31: =SUM(AF31:AM31) -> 2896114.5 | AO31: =AN31/$E$31 -> 0.18989815 | AP31: =AN31/$B$18 -> 11.737277
A32: Bill 28 | B32: 267115
A33: Good - Economic Zone
A34: 41-140 Years | C34: =E34/$B$32 -> 10.90523 | D34: 8782.7225 | E34: =P34+AB34+AN34 -> 2912950.5 | F34: =E34/$E$45 -> 0.19894693 | G34: 1459.8247 | H34: 125688.49 | I34: 30078.837 | J34: 171548.12 | K34: 68115.603 | L34: 2089.8108 | M34: 0 | N34: 1110.1031 | O34: 128113.21 | P34: =SUM(H34:O34) -> 526744.17 | Q34: =P34/$E$45 -> 0.035975255 | R34: =P34/$B$32 -> 1.9719753 | S34: 5905.7172 | T34: 655479.49 | U34: 116804.35 | V34: 594833.13 | W34: 243027.3 | X34: 15899.047 | Y34: 0 | Z34: 7139.8027 | AA34: 290940.86 | AB34: =SUM(T34:AA34) -> 1924124 | AC34: =AB34/$E$45 -> 0.13141266 | AD34: =AB34/$B$32 -> 7.2033543 | AE34: 1417.1805 | AF34: 178428.66 | AG34: 32455.345 | AH34: 149462.9 | AI34: 33708.449 | AJ34: 4601.675 | AK34: 0 | AL34: 1165.7226 | AM34: 62259.616 | AN34: =SUM(AF34:AM34) -> 462082.37 | AO34: =AN34/$E$45 -> 0.031559022 | AP34: =AN34/$B$32 -> 1.7299005
A35: 141+ Years | C35: =E35/$B$32 -> 17.180677 | D35: 6102.619 | E35: =P35+AB35+AN35 -> 4589216.6 | F35: =E35/$E$45 -> 0.31343154 | G35: 583.01974 | H35: 27216.096 | I35: 44667.791 | J35: 179552.65 | K35: 189755.55 | L35: 713.91736 | M35: 2069.3454 | N35: 18578.494 | O35: 2411.5846 | P35: =SUM(H35:O35) -> 464965.43 | Q35: =P35/$E$45 -> 0.031755928 | R35: =P35/$B$32 -> 1.7406938 | S35: 3729.0976 | T35: 311655.93 | U35: 150776.03 | V35: 955422.57 | W35: 1182816.1 | X35: 3799.8843 | Y35: 3002.61 | Z35: 169548.5 | AA35: 4647.2989 | AB35: =SUM(T35:AA35) -> 2781669 | AC35: =AB35/$E$45 -> 0.18998075 | AD35: =AB35/$B$32 -> 10.41375 | AE35: 1790.5017 | AF35: 295084.02 | AG35: 111253.72 | AH35: 467741.05 | AI35: 408930.8 | AJ35: 1669.9297 | AK35: 818.50661 | AL35: 55420.28 | AM35: 1663.9282 | AN35: =SUM(AF35:AM35) -> 1342582.2 | AO35: =AN35/$E$45 -> 0.09169487 | AP35: =AN35/$B$32 -> 5.026233
A36: Good - Economic Zone Total | C36: =E36/$B$32 -> 28.085907 | D36: 14885.341 | E36: =P36+AB36+AN36 -> 7502167.1 | F36: =E36/$E$45 -> 0.51237848 | G36: 2042.8444 | H36: 152904.59 | I36: 74746.628 | J36: 351100.77 | K36: 257871.15 | L36: 2803.7282 | M36: 2069.3454 | N36: 19688.597 | O36: 130524.8 | P36: =SUM(H36:O36) -> 991709.61 | Q36: =P36/$E$45 -> 0.067731183 | R36: =P36/$B$32 -> 3.7126691 | S36: 9634.8148 | T36: 967135.42 | U36: 267580.38 | V36: 1550255.7 | W36: 1425843.4 | X36: 19698.931 | Y36: 3002.61 | Z36: 176688.3 | AA36: 295588.16 | AB36: =SUM(T36:AA36) -> 4705792.9 | AC36: =AB36/$E$45 -> 0.3213934 | AD36: =AB36/$B$32 -> 17.617105 | AE36: 3207.6822 | AF36: 473512.68 | AG36: 143709.07 | AH36: 617203.95 | AI36: 442639.24 | AJ36: 6271.6048 | AK36: 818.50661 | AL36: 56586.003 | AM36: 63923.544 | AN36: =SUM(AF36:AM36) -> 1804664.6 | AO36: =AN36/$E$45 -> 0.12325389 | AP36: =AN36/$B$32 -> 6.7561335
A37: Medium - Economic Zone
A38: 41-140 Years | C38: =E38/$B$32 -> 11.818871 | D38: 8887.0877 | E38: =P38+AB38+AN38 -> 3156997.6 | F38: =E38/$E$45 -> 0.21561472 | G38: 1528.1282 | H38: 96290.25 | I38: 31205.467 | J38: 176209.24 | K38: 218275.9 | L38: 2878.2782 | M38: 3284.918 | N38: 45.67445 | O38: 63111.067 | P38: =SUM(H38:O38) -> 591300.79 | Q38: =P38/$E$45 -> 0.040384304 | R38: =P38/$B$32 -> 2.2136563 | S38: 5871.5291 | T38: 660757.7 | U38: 98622.438 | V38: 593822.78 | W38: 562637.84 | X38: 11718.11 | Y38: 4144.9238 | Z38: 337.07728 | AA38: 157690.84 | AB38: =SUM(T38:AA38) -> 2089731.7 | AC38: =AB38/$E$45 -> 0.14272323 | AD38: =AB38/$B$32 -> 7.8233409 | AE38: 1487.4304 | AF38: 195907.28 | AG38: 27227.311 | AH38: 134314.43 | AI38: 73557.983 | AJ38: 3658.4817 | AK38: 826.01469 | AL38: 80.765278 | AM38: 40392.871 | AN38: =SUM(AF38:AM38) -> 475965.14 | AO38: =AN38/$E$45 -> 0.032507179 | AP38: =AN38/$B$32 -> 1.7818735
A39: 141+ Years | C39: =E39/$B$32 -> 12.092887 | D39: 5068.3042 | E39: =P39+AB39+AN39 -> 3230191.5 | F39: =E39/$E$45 -> 0.22061366 | G39: 652.55989 | H39: 14576.417 | I39: 22659.574 | J39: 123395.4 | K39: 250896.03 | L39: 64.812983 | M39: 25958.748 | N39: 1078.0747 | O39: 5031.6976 | P39: =SUM(H39:O39) -> 443660.75 | Q39: =P39/$E$45 -> 0.030300874 | R39: =P39/$B$32 -> 1.6609354 | S39: 3052.0099 | T39: 241234.62 | U39: 106707.86 | V39: 739282.24 | W39: 831910.75 | X39: 1840.361 | Y39: 31256.396 | Z39: 9523.6794 | AA39: 1391.3016 | AB39: =SUM(T39:AA39) -> 1963147.2 | AC39: =AB39/$E$45 -> 0.13407784 | AD39: =AB39/$B$32 -> 7.3494458 | AE39: 1363.7344 | AF39: 162295.54 | AG39: 54728.512 | AH39: 363888.68 | AI39: 234779.49 | AJ39: 599.91977 | AK39: 6115.703 | AL39: 244.72334 | AM39: 730.93308 | AN39: =SUM(AF39:AM39) -> 823383.5 | AO39: =AN39/$E$45 -> 0.056234949 | AP39: =AN39/$B$32 -> 3.0825057
A40: Medium - Economic Zone Total | C40: =E40/$B$32 -> 23.911757 | D40: 13955.392 | E40: =P40+AB40+AN40 -> 6387189.1 | F40: =E40/$E$45 -> 0.43622838 | G40: 2180.6881 | H40: 110866.67 | I40: 53865.041 | J40: 299604.64 | K40: 469171.93 | L40: 2943.0911 | M40: 29243.665 | N40: 1123.7492 | O40: 68142.764 | P40: =SUM(H40:O40) -> 1034961.5 | Q40: =P40/$E$45 -> 0.070685178 | R40: =P40/$B$32 -> 3.8745916 | S40: 8923.5391 | T40: 901992.33 | U40: 205330.29 | V40: 1333105 | W40: 1394548.6 | X40: 13558.471 | Y40: 35401.32 | Z40: 9860.7567 | AA40: 159082.15 | AB40: =SUM(T40:AA40) -> 4052878.9 | AC40: =AB40/$E$45 -> 0.27680107 | AD40: =AB40/$B$32 -> 15.172787 | AE40: 2851.1648 | AF40: 358202.83 | AG40: 81955.824 | AH40: 498203.1 | AI40: 308337.48 | AJ40: 4258.4015 | AK40: 6941.7177 | AL40: 325.48862 | AM40: 41123.804 | AN40: =SUM(AF40:AM40) -> 1299348.6 | AO40: =AN40/$E$45 -> 0.088742128 | AP40: =AN40/$B$32 -> 4.8643792
A41: Poor - Economic Zone
A42: 41-140 Years | C42: =E42/$B$32 -> 0.41388006 | D42: 656.07654 | E42: =P42+AB42+AN42 -> 110553.57 | F42: =E42/$E$45 -> 0.007550521 | G42: 109.05134 | H42: 4649.7362 | I42: 328.24243 | J42: 609.89741 | K42: 7279.0163 | L42: 235.7934 | M42: 579.37308 | N42: 0 | O42: 829.59156 | P42: =SUM(H42:O42) -> 14511.65 | Q42: =P42/$E$45 -> 0.00099110792 | R42: =P42/$B$32 -> 0.054327351 | S42: 491.76386 | T42: 51577.873 | U42: 571.05083 | V42: 1208.7095 | W42: 25977.423 | X42: 7389.652 | Y42: 1746.8572 | Z42: 0 | AA42: 2464.5105 | AB42: =SUM(T42:AA42) -> 90936.076 | AC42: =AB42/$E$45 -> 0.0062106971 | AD42: =AB42/$B$32 -> 0.34043792 | AE42: 55.26133 | AF42: 2572.1863 | AG42: 93.087578 | AH42: 149.34712 | AI42: 1494.7267 | AJ42: 375.02404 | AK42: 231.19669 | AL42: 0 | AM42: 190.27701 | AN42: =SUM(AF42:AM42) -> 5105.8455 | AO42: =AN42/$E$45 -> 0.00034871595 | AP42: =AN42/$B$32 -> 0.019114784
A43: 141+ Years | C43: =E43/$B$32 -> 2.4032232 | D43: 1006.4878 | E43: =P43+AB43+AN43 -> 641936.96 | F43: =E43/$E$45 -> 0.043842622 | G43: 252.59473 | H43: 2982.0098 | I43: 2352.6231 | J43: 92610.701 | K43: 73612.58 | L43: 175.67008 | M43: 30889.489 | N43: 577.68877 | O43: 72.64701 | P43: =SUM(H43:O43) -> 203273.41 | Q43: =P43/$E$45 -> 0.013883044 | R43: =P43/$B$32 -> 0.76099586 | S43: 676.53643 | T43: 48237.366 | U43: 8135.4312 | V43: 175526.85 | W43: 151795.09 | X43: 290.77937 | Y43: 30280.312 | Z43: 3318.1022 | AA43: 340.26177 | AB43: =SUM(T43:AA43) -> 417924.2 | AC43: =AB43/$E$45 -> 0.028543134 | AD43: =AB43/$B$32 -> 1.5645853 | AE43: 77.356654 | AF43: 13752.373 | AG43: 266.9998 | AH43: 2390.2587 | AI43: 3654.568 | AJ43: 49.865752 | AK43: 578.58822 | AL43: 11.855095 | AM43: 34.844575 | AN43: =SUM(AF43:AM43) -> 20739.353 | AO43: =AN43/$E$45 -> 0.0014164438 | AP43: =AN43/$B$32 -> 0.077642038
A44: Poor - Economic Zone Total | C44: =E44/$B$32 -> 2.8171032 | D44: 1662.5644 | E44: =P44+AB44+AN44 -> 752490.53 | F44: =E44/$E$45 -> 0.051393143 | G44: 361.64607 | H44: 7631.7459 | I44: 2680.8656 | J44: 93220.598 | K44: 80891.596 | L44: 411.46348 | M44: 31468.863 | N44: 577.68877 | O44: 902.23857 | P44: =SUM(H44:O44) -> 217785.06 | Q44: =P44/$E$45 -> 0.014874152 | R44: =P44/$B$32 -> 0.81532321 | S44: 1168.3003 | T44: 99815.239 | U44: 8706.4821 | V44: 176735.56 | W44: 177772.51 | X44: 7680.4313 | Y44: 32027.169 | Z44: 3318.1022 | AA44: 2804.7723 | AB44: =SUM(T44:AA44) -> 508860.27 | AC44: =AB44/$E$45 -> 0.034753831 | AD44: =AB44/$B$32 -> 1.9050232 | AE44: 132.61798 | AF44: 16324.559 | AG44: 360.08738 | AH44: 2539.6058 | AI44: 5149.2947 | AJ44: 424.88979 | AK44: 809.78491 | AL44: 11.855095 | AM44: 225.12159 | AN44: =SUM(AF44:AM44) -> 25845.199 | AO44: =AN44/$E$45 -> 0.0017651597 | AP44: =AN44/$B$32 -> 0.096756822
A45: Bill 28 Total | C45: =E45/$B$32 -> 54.814768 | D45: 30503.298 | E45: =P45+AB45+AN45 -> 14641847 | F45: =E45/$E$45 -> 1 | G45: 4585.1786 | H45: 271403 | I45: 131292.53 | J45: 743926 | K45: 807934.68 | L45: 6158.2828 | M45: 62781.873 | N45: 21390.035 | O45: 199569.8 | P45: =SUM(H45:O45) -> 2244456.2 | Q45: =P45/$E$45 -> 0.15329051 | R45: =P45/$B$32 -> 8.4025839 | S45: 19726.654 | T45: 1968943 | U45: 481617.15 | V45: 3060096.3 | W45: 2998164.5 | X45: 40937.834 | Y45: 70431.099 | Z45: 189867.16 | AA45: 457475.08 | AB45: =SUM(T45:AA45) -> 9267532.1 | AC45: =AB45/$E$45 -> 0.63294831 | AD45: =AB45/$B$32 -> 34.694915 | AE45: 6191.465 | AF45: 848040.07 | AG45: 226024.98 | AH45: 1117946.7 | AI45: 756126.01 | AJ45: 10954.896 | AK45: 8570.0092 | AL45: 56923.346 | AM45: 105272.47 | AN45: =SUM(AF45:AM45) -> 3129858.4 | AO45: =AN45/$E$45 -> 0.21376118 | AP45: =AN45/$B$32 -> 11.717269
A46: Chawathil First Nation | B46: 13890
A47: Good - Economic Zone
A48: 41-140 Years | C48: =E48/$B$46 -> 0 | D48: 0 | E48: =P48+AB48+AN48 -> 0 | F48: =E48/$E$59 -> 0 | G48: 0 | H48: 0 | I48: 0 | J48: 0 | K48: 0 | L48: 0 | M48: 0 | N48: 0 | O48: 0 | P48: =SUM(H48:O48) -> 0 | Q48: =P48/$E$59 -> 0 | R48: =P48/$B$46 -> 0 | S48: 0 | T48: 0 | U48: 0 | V48: 0 | W48: 0 | X48: 0 | Y48: 0 | Z48: 0 | AA48: 0 | AB48: =SUM(T48:AA48) -> 0 | AC48: =AB48/$E$59 -> 0 | AD48: =AB48/$B$46 -> 0 | AE48: 0 | AF48: 0 | AG48: 0 | AH48: 0 | AI48: 0 | AJ48: 0 | AK48: 0 | AL48: 0 | AM48: 0 | AN48: =SUM(AF48:AM48) -> 0 | AO48: =AN48/$E$59 -> 0 | AP48: =AN48/$B$46 -> 0
A49: 141+ Years | C49: =E49/$B$46 -> 0 | D49: 0 | E49: =P49+AB49+AN49 -> 0 | F49: =E49/$E$59 -> 0 | G49: 0 | H49: 0 | I49: 0 | J49: 0 | K49: 0 | L49: 0 | M49: 0 | N49: 0 | O49: 0 | P49: =SUM(H49:O49) -> 0 | Q49: =P49/$E$59 -> 0 | R49: =P49/$B$46 -> 0 | S49: 0 | T49: 0 | U49: 0 | V49: 0 | W49: 0 | X49: 0 | Y49: 0 | Z49: 0 | AA49: 0 | AB49: =SUM(T49:AA49) -> 0 | AC49: =AB49/$E$59 -> 0 | AD49: =AB49/$B$46 -> 0 | AE49: 0 | AF49: 0 | AG49: 0 | AH49: 0 | AI49: 0 | AJ49: 0 | AK49: 0 | AL49: 0 | AM49: 0 | AN49: =SUM(AF49:AM49) -> 0 | AO49: =AN49/$E$59 -> 0 | AP49: =AN49/$B$46 -> 0
A50: Good - Economic Zone Total | C50: =E50/$B$46 -> 0 | D50: 0 | E50: =P50+AB50+AN50 -> 0 | F50: =E50/$E$59 -> 0 | G50: 0 | H50: 0 | I50: 0 | J50: 0 | K50: 0 | L50: 0 | M50: 0 | N50: 0 | O50: 0 | P50: =SUM(H50:O50) -> 0 | Q50: =P50/$E$59 -> 0 | R50: =P50/$B$46 -> 0 | S50: 0 | T50: 0 | U50: 0 | V50: 0 | W50: 0 | X50: 0 | Y50: 0 | Z50: 0 | AA50: 0 | AB50: =SUM(T50:AA50) -> 0 | AC50: =AB50/$E$59 -> 0 | AD50: =AB50/$B$46 -> 0 | AE50: 0 | AF50: 0 | AG50: 0 | AH50: 0 | AI50: 0 | AJ50: 0 | AK50: 0 | AL50: 0 | AM50: 0 | AN50: =SUM(AF50:AM50) -> 0 | AO50: =AN50/$E$59 -> 0 | AP50: =AN50/$B$46 -> 0
A51: Medium - Economic Zone
A52: 41-140 Years | C52: =E52/$B$46 -> 16.48876 | D52: 770.97911 | E52: =P52+AB52+AN52 -> 229028.87 | F52: =E52/$E$59 -> 0.89394117 | G52: 123.30604 | H52: 17342.841 | I52: 6051.567 | J52: 1600.0253 | K52: 0 | L52: 0 | M52: 0 | N52: 0 | O52: 22979.459 | P52: =SUM(H52:O52) -> 47973.893 | Q52: =P52/$E$59 -> 0.18725079 | R52: =P52/$B$46 -> 3.453844 | S52: 555.31454 | T52: 52270.278 | U52: 9064.7628 | V52: 14736.795 | W52: 515.32918 | X52: 2.0379447 | Y52: 63.13527 | Z52: 0 | AA52: 88976.553 | AB52: =SUM(T52:AA52) -> 165628.89 | AC52: =AB52/$E$59 -> 0.64647957 | AD52: =AB52/$B$46 -> 11.924326 | AE52: 92.358527 | AF52: 6505.6411 | AG52: 1302.0975 | AH52: 3728.6737 | AI52: 190.91126 | AJ52: 0 | AK52: 0 | AL52: 0 | AM52: 3698.7631 | AN52: =SUM(AF52:AM52) -> 15426.087 | AO52: =AN52/$E$59 -> 0.060210811 | AP52: =AN52/$B$46 -> 1.1105894
A53: 141+ Years | C53: =E53/$B$46 -> 1.9562568 | D53: 67.318375 | E53: =P53+AB53+AN53 -> 27172.407 | F53: =E53/$E$59 -> 0.10605883 | G53: 24.091367 | H53: 2043.9334 | I53: 5150.5611 | J53: 209.81643 | K53: 0 | L53: 0 | M53: 0 | N53: 0 | O53: 6355.0444 | P53: =SUM(H53:O53) -> 13759.355 | Q53: =P53/$E$59 -> 0.053705257 | R53: =P53/$B$46 -> 0.99059434 | S53: 26.58328 | T53: 3640.9798 | U53: 2190.7425 | V53: 2026.0942 | W53: 135.10088 | X53: 0 | Y53: 0 | Z53: 0 | AA53: 2130.3738 | AB53: =SUM(T53:AA53) -> 10123.291 | AC53: =AB53/$E$59 -> 0.039513039 | AD53: =AB53/$B$46 -> 0.72881865 | AE53: 16.643727 | AF53: 101.70039 | AG53: 381.36676 | AH53: 2798.5942 | AI53: 8.098886 | AJ53: 0 | AK53: 0 | AL53: 0 | AM53: 0 | AN53: =SUM(AF53:AM53) -> 3289.7603 | AO53: =AN53/$E$59 -> 0.01284053 | AP53: =AN53/$B$46 -> 0.23684379
A54: Medium - Economic Zone Total | C54: =E54/$B$46 -> 18.445016 | D54: 838.29748 | E54: =P54+AB54+AN54 -> 256201.28 | F54: =E54/$E$59 -> 1 | G54: 147.39741 | H54: 19386.775 | I54: 11202.128 | J54: 1809.8417 | K54: 0 | L54: 0 | M54: 0 | N54: 0 | O54: 29334.503 | P54: =SUM(H54:O54) -> 61733.248 | Q54: =P54/$E$59 -> 0.24095605 | R54: =P54/$B$46 -> 4.4444383 | S54: 581.89782 | T54: 55911.258 | U54: 11255.505 | V54: 16762.889 | W54: 650.43006 | X54: 2.0379447 | Y54: 63.13527 | Z54: 0 | AA54: 91106.927 | AB54: =SUM(T54:AA54) -> 175752.18 | AC54: =AB54/$E$59 -> 0.68599261 | AD54: =AB54/$B$46 -> 12.653145 | AE54: 109.00225 | AF54: 6607.3415 | AG54: 1683.4642 | AH54: 6527.2679 | AI54: 199.01014 | AJ54: 0 | AK54: 0 | AL54: 0 | AM54: 3698.7631 | AN54: =SUM(AF54:AM54) -> 18715.847 | AO54: =AN54/$E$59 -> 0.073051341 | AP54: =AN54/$B$46 -> 1.3474332
A55: Poor - Economic Zone
A56: 41-140 Years | C56: =E56/$B$46 -> 0 | D56: 0 | E56: =P56+AB56+AN56 -> 0 | F56: =E56/$E$59 -> 0 | G56: 0 | H56: 0 | I56: 0 | J56: 0 | K56: 0 | L56: 0 | M56: 0 | N56: 0 | O56: 0 | P56: =SUM(H56:O56) -> 0 | Q56: =P56/$E$59 -> 0 | R56: =P56/$B$46 -> 0 | S56: 0 | T56: 0 | U56: 0 | V56: 0 | W56: 0 | X56: 0 | Y56: 0 | Z56: 0 | AA56: 0 | AB56: =SUM(T56:AA56) -> 0 | AC56: =AB56/$E$59 -> 0 | AD56: =AB56/$B$46 -> 0 | AE56: 0 | AF56: 0 | AG56: 0 | AH56: 0 | AI56: 0 | AJ56: 0 | AK56: 0 | AL56: 0 | AM56: 0 | AN56: =SUM(AF56:AM56) -> 0 | AO56: =AN56/$E$59 -> 0 | AP56: =AN56/$B$46 -> 0
A57: 141+ Years | C57: =E57/$B$46 -> 0 | D57: 0 | E57: =P57+AB57+AN57 -> 0 | F57: =E57/$E$59 -> 0 | G57: 0 | H57: 0 | I57: 0 | J57: 0 | K57: 0 | L57: 0 | M57: 0 | N57: 0 | O57: 0 | P57: =SUM(H57:O57) -> 0 | Q57: =P57/$E$59 -> 0 | R57: =P57/$B$46 -> 0 | S57: 0 | T57: 0 | U57: 0 | V57: 0 | W57: 0 | X57: 0 | Y57: 0 | Z57: 0 | AA57: 0 | AB57: =SUM(T57:AA57) -> 0 | AC57: =AB57/$E$59 -> 0 | AD57: =AB57/$B$46 -> 0 | AE57: 0 | AF57: 0 | AG57: 0 | AH57: 0 | AI57: 0 | AJ57: 0 | AK57: 0 | AL57: 0 | AM57: 0 | AN57: =SUM(AF57:AM57) -> 0 | AO57: =AN57/$E$59 -> 0 | AP57: =AN57/$B$46 -> 0
A58: Poor - Economic Zone Total | C58: =E58/$B$46 -> 0 | D58: 0 | E58: =P58+AB58+AN58 -> 0 | F58: =E58/$E$59 -> 0 | G58: 0 | H58: 0 | I58: 0 | J58: 0 | K58: 0 | L58: 0 | M58: 0 | N58: 0 | O58: 0 | P58: =SUM(H58:O58) -> 0 | Q58: =P58/$E$59 -> 0 | R58: =P58/$B$46 -> 0 | S58: 0 | T58: 0 | U58: 0 | V58: 0 | W58: 0 | X58: 0 | Y58: 0 | Z58: 0 | AA58: 0 | AB58: =SUM(T58:AA58) -> 0 | AC58: =AB58/$E$59 -> 0 | AD58: =AB58/$B$46 -> 0 | AE58: 0 | AF58: 0 | AG58: 0 | AH58: 0 | AI58: 0 | AJ58: 0 | AK58: 0 | AL58: 0 | AM58: 0 | AN58: =SUM(AF58:AM58) -> 0 | AO58: =AN58/$E$59 -> 0 | AP58: =AN58/$B$46 -> 0
A59: Chawathil First Nation Total | C59: =E59/$B$46 -> 18.445016 | D59: 838.29748 | E59: =P59+AB59+AN59 -> 256201.28 | F59: =E59/$E$59 -> 1 | G59: 147.39741 | H59: 19386.775 | I59: 11202.128 | J59: 1809.8417 | K59: 0 | L59: 0 | M59: 0 | N59: 0 | O59: 29334.503 | P59: =SUM(H59:O59) -> 61733.248 | Q59: =P59/$E$59 -> 0.24095605 | R59: =P59/$B$46 -> 4.4444383 | S59: 581.89782 | T59: 55911.258 | U59: 11255.505 | V59: 16762.889 | W59: 650.43006 | X59: 2.0379447 | Y59: 63.13527 | Z59: 0 | AA59: 91106.927 | AB59: =SUM(T59:AA59) -> 175752.18 | AC59: =AB59/$E$59 -> 0.68599261 | AD59: =AB59/$B$46 -> 12.653145 | AE59: 109.00225 | AF59: 6607.3415 | AG59: 1683.4642 | AH59: 6527.2679 | AI59: 199.01014 | AJ59: 0 | AK59: 0 | AL59: 0 | AM59: 3698.7631 | AN59: =SUM(AF59:AM59) -> 18715.847 | AO59: =AN59/$E$59 -> 0.073051341 | AP59: =AN59/$B$46 -> 1.3474332
A60: Lakeside Pacific Forest Products | B60: 125484
A61: Good - Economic Zone
A62: 41-140 Years | C62: =E62/$B$60 -> 20.089757 | D62: 6937.4509 | E62: =P62+AB62+AN62 -> 2520943 | F62: =E62/$E$73 -> 0.44558412 | G62: 1153.8265 | H62: 221878.55 | I62: 44502.807 | J62: 112527.13 | K62: 41220.439 | L62: 7161.5148 | M62: 0 | N62: 1192.056 | O62: 45223.882 | P62: =SUM(H62:O62) -> 473706.39 | Q62: =P62/$E$73 -> 0.083729002 | R62: =P62/$B$60 -> 3.7750341 | S62: 4923.9361 | T62: 812954.35 | U62: 169193.47 | V62: 468468.32 | W62: 151208.2 | X62: 23866.753 | Y62: 0 | Z62: 8712.8665 | AA62: 145538.56 | AB62: =SUM(T62:AA62) -> 1779942.5 | AC62: =AB62/$E$73 -> 0.31461009 | AD62: =AB62/$B$60 -> 14.184617 | AE62: 859.68835 | AF62: 139771.39 | AG62: 16288.404 | AH62: 63309.484 | AI62: 30168.09 | AJ62: 1206.2012 | AK62: 0 | AL62: 1026.0904 | AM62: 15524.488 | AN62: =SUM(AF62:AM62) -> 267294.15 | AO62: =AN62/$E$73 -> 0.04724503 | AP62: =AN62/$B$60 -> 2.1301054
A63: 141+ Years | C63: =E63/$B$60 -> 24.85547 | D63: 4462.8305 | E63: =P63+AB63+AN63 -> 3118963.8 | F63: =E63/$E$73 -> 0.55128606 | G63: 397.24537 | H63: 50117.033 | I63: 11359.29 | J63: 98144.978 | K63: 91145.582 | L63: 779.98905 | M63: 0 | N63: 20454.252 | O63: 2670.4139 | P63: =SUM(H63:O63) -> 274671.54 | Q63: =P63/$E$73 -> 0.048549005 | R63: =P63/$B$60 -> 2.1888969 | S63: 2903.776 | T63: 396714.3 | U63: 129579.01 | V63: 759947.66 | W63: 626335.66 | X63: 2750.2684 | Y63: 0 | Z63: 109453.75 | AA63: 9927.2924 | AB63: =SUM(T63:AA63) -> 2034707.9 | AC63: =AB63/$E$73 -> 0.35964064 | AD63: =AB63/$B$60 -> 16.21488 | AE63: 1161.8091 | AF63: 155101.91 | AG63: 121551.97 | AH63: 316026.78 | AI63: 174583.4 | AJ63: 983.44414 | AK63: 0 | AL63: 39658.665 | AM63: 1678.1538 | AN63: =SUM(AF63:AM63) -> 809584.32 | AO63: =AN63/$E$73 -> 0.14309642 | AP63: =AN63/$B$60 -> 6.4516936
A64: Good - Economic Zone Total | C64: =E64/$B$60 -> 44.945227 | D64: 11400.281 | E64: =P64+AB64+AN64 -> 5639906.8 | F64: =E64/$E$73 -> 0.99687018 | G64: 1551.0719 | H64: 271995.59 | I64: 55862.096 | J64: 210672.11 | K64: 132366.02 | L64: 7941.5038 | M64: 0 | N64: 21646.308 | O64: 47894.296 | P64: =SUM(H64:O64) -> 748377.92 | Q64: =P64/$E$73 -> 0.13227801 | R64: =P64/$B$60 -> 5.963931 | S64: 7827.7121 | T64: 1209668.6 | U64: 298772.48 | V64: 1228416 | W64: 777543.86 | X64: 26617.021 | Y64: 0 | Z64: 118166.61 | AA64: 155465.85 | AB64: =SUM(T64:AA64) -> 3814650.4 | AC64: =AB64/$E$73 -> 0.67425073 | AD64: =AB64/$B$60 -> 30.399497 | AE64: 2021.4974 | AF64: 294873.3 | AG64: 137840.37 | AH64: 379336.26 | AI64: 204751.49 | AJ64: 2189.6454 | AK64: 0 | AL64: 40684.755 | AM64: 17202.642 | AN64: =SUM(AF64:AM64) -> 1076878.5 | AO64: =AN64/$E$73 -> 0.19034145 | AP64: =AN64/$B$60 -> 8.581799
A65: Medium - Economic Zone
A66: 41-140 Years | C66: =E66/$B$60 -> 0.00045246499 | D66: 0.20071664 | E66: =P66+AB66+AN66 -> 56.777117 | F66: =E66/$E$73 -> 1.0035523e-05 | G66: 0.13680626 | H66: 0 | I66: 0 | J66: 9.6062618 | K66: 29.092398 | L66: 0 | M66: 0 | N66: 0 | O66: 0 | P66: =SUM(H66:O66) -> 38.69866 | Q66: =P66/$E$73 -> 6.8401023e-06 | R66: =P66/$B$60 -> 0.00030839517 | S66: 0.063910381 | T66: 0 | U66: 0 | V66: 4.4876591 | W66: 13.590798 | X66: 0 | Y66: 0 | Z66: 0 | AA66: 0 | AB66: =SUM(T66:AA66) -> 18.078457 | AC66: =AB66/$E$73 -> 3.1954207e-06 | AD66: =AB66/$B$60 -> 0.00014406982 | AE66: 0 | AF66: 0 | AG66: 0 | AH66: 0 | AI66: 0 | AJ66: 0 | AK66: 0 | AL66: 0 | AM66: 0 | AN66: =SUM(AF66:AM66) -> 0 | AO66: =AN66/$E$73 -> 0 | AP66: =AN66/$B$60 -> 0
A67: 141+ Years | C67: =E67/$B$60 -> 0.14065948 | D67: 26.094986 | E67: =P67+AB67+AN67 -> 17650.514 | F67: =E67/$E$73 -> 0.0031197805 | G67: 4.4396023 | H67: 0 | I67: 120.43187 | J67: 1183.7438 | K67: 987.73712 | L67: 0 | M67: 0 | N67: 238.77451 | O67: 0 | P67: =SUM(H67:O67) -> 2530.6873 | Q67: =P67/$E$73 -> 0.00044730645 | R67: =P67/$B$60 -> 0.02016741 | S67: 17.353917 | T67: 0 | U67: 80.423789 | V67: 4418.6744 | W67: 5923.3584 | X67: 0 | Y67: 0 | Z67: 2027.0563 | AA67: 0 | AB67: =SUM(T67:AA67) -> 12449.513 | AC67: =AB67/$E$73 -> 0.0022004881 | AD67: =AB67/$B$60 -> 0.099211954 | AE67: 4.3014665 | AF67: 0 | AG67: 2.196052 | AH67: 1168.8189 | AI67: 1077.5387 | AJ67: 0 | AK67: 0 | AL67: 421.76037 | AM67: 0 | AN67: =SUM(AF67:AM67) -> 2670.314 | AO67: =AN67/$E$73 -> 0.00047198589 | AP67: =AN67/$B$60 -> 0.021280116
A68: Medium - Economic Zone Total | C68: =E68/$B$60 -> 0.14111194 | D68: 26.295702 | E68: =P68+AB68+AN68 -> 17707.291 | F68: =E68/$E$73 -> 0.003129816 | G68: 4.5764085 | H68: 0 | I68: 120.43187 | J68: 1193.3501 | K68: 1016.8295 | L68: 0 | M68: 0 | N68: 238.77451 | O68: 0 | P68: =SUM(H68:O68) -> 2569.386 | Q68: =P68/$E$73 -> 0.00045414655 | R68: =P68/$B$60 -> 0.020475805 | S68: 17.417827 | T68: 0 | U68: 80.423789 | V68: 4423.162 | W68: 5936.9492 | X68: 0 | Y68: 0 | Z68: 2027.0563 | AA68: 0 | AB68: =SUM(T68:AA68) -> 12467.591 | AC68: =AB68/$E$73 -> 0.0022036836 | AD68: =AB68/$B$60 -> 0.099356024 | AE68: 4.3014665 | AF68: 0 | AG68: 2.196052 | AH68: 1168.8189 | AI68: 1077.5387 | AJ68: 0 | AK68: 0 | AL68: 421.76037 | AM68: 0 | AN68: =SUM(AF68:AM68) -> 2670.314 | AO68: =AN68/$E$73 -> 0.00047198589 | AP68: =AN68/$B$60 -> 0.021280116
A69: Poor - Economic Zone
A70: 41-140 Years | C70: =E70/$B$60 -> 0 | D70: 0 | E70: =P70+AB70+AN70 -> 0 | F70: =E70/$E$73 -> 0 | G70: 0 | H70: 0 | I70: 0 | J70: 0 | K70: 0 | L70: 0 | M70: 0 | N70: 0 | O70: 0 | P70: =SUM(H70:O70) -> 0 | Q70: =P70/$E$73 -> 0 | R70: =P70/$B$60 -> 0 | S70: 0 | T70: 0 | U70: 0 | V70: 0 | W70: 0 | X70: 0 | Y70: 0 | Z70: 0 | AA70: 0 | AB70: =SUM(T70:AA70) -> 0 | AC70: =AB70/$E$73 -> 0 | AD70: =AB70/$B$60 -> 0 | AE70: 0 | AF70: 0 | AG70: 0 | AH70: 0 | AI70: 0 | AJ70: 0 | AK70: 0 | AL70: 0 | AM70: 0 | AN70: =SUM(AF70:AM70) -> 0 | AO70: =AN70/$E$73 -> 0 | AP70: =AN70/$B$60 -> 0
A71: 141+ Years | C71: =E71/$B$60 -> 0 | D71: 0 | E71: =P71+AB71+AN71 -> 0 | F71: =E71/$E$73 -> 0 | G71: 0 | H71: 0 | I71: 0 | J71: 0 | K71: 0 | L71: 0 | M71: 0 | N71: 0 | O71: 0 | P71: =SUM(H71:O71) -> 0 | Q71: =P71/$E$73 -> 0 | R71: =P71/$B$60 -> 0 | S71: 0 | T71: 0 | U71: 0 | V71: 0 | W71: 0 | X71: 0 | Y71: 0 | Z71: 0 | AA71: 0 | AB71: =SUM(T71:AA71) -> 0 | AC71: =AB71/$E$73 -> 0 | AD71: =AB71/$B$60 -> 0 | AE71: 0 | AF71: 0 | AG71: 0 | AH71: 0 | AI71: 0 | AJ71: 0 | AK71: 0 | AL71: 0 | AM71: 0 | AN71: =SUM(AF71:AM71) -> 0 | AO71: =AN71/$E$73 -> 0 | AP71: =AN71/$B$60 -> 0
A72: Poor - Economic Zone Total | C72: =E72/$B$60 -> 0 | D72: 0 | E72: =P72+AB72+AN72 -> 0 | F72: =E72/$E$73 -> 0 | G72: 0 | H72: 0 | I72: 0 | J72: 0 | K72: 0 | L72: 0 | M72: 0 | N72: 0 | O72: 0 | P72: =SUM(H72:O72) -> 0 | Q72: =P72/$E$73 -> 0 | R72: =P72/$B$60 -> 0 | S72: 0 | T72: 0 | U72: 0 | V72: 0 | W72: 0 | X72: 0 | Y72: 0 | Z72: 0 | AA72: 0 | AB72: =SUM(T72:AA72) -> 0 | AC72: =AB72/$E$73 -> 0 | AD72: =AB72/$B$60 -> 0 | AE72: 0 | AF72: 0 | AG72: 0 | AH72: 0 | AI72: 0 | AJ72: 0 | AK72: 0 | AL72: 0 | AM72: 0 | AN72: =SUM(AF72:AM72) -> 0 | AO72: =AN72/$E$73 -> 0 | AP72: =AN72/$B$60 -> 0
A73: Lakeside Pacific Forest Products Total | C73: =E73/$B$60 -> 45.086339 | D73: 11426.577 | E73: =P73+AB73+AN73 -> 5657614.1 | F73: =E73/$E$73 -> 1 | G73: 1555.6483 | H73: 271995.59 | I73: 55982.528 | J73: 211865.46 | K73: 133382.85 | L73: 7941.5038 | M73: 0 | N73: 21885.083 | O73: 47894.296 | P73: =SUM(H73:O73) -> 750947.31 | Q73: =P73/$E$73 -> 0.13273215 | R73: =P73/$B$60 -> 5.9844068 | S73: 7845.1299 | T73: 1209668.6 | U73: 298852.9 | V73: 1232839.1 | W73: 783480.81 | X73: 26617.021 | Y73: 0 | Z73: 120193.67 | AA73: 155465.85 | AB73: =SUM(T73:AA73) -> 3827118 | AC73: =AB73/$E$73 -> 0.67645441 | AD73: =AB73/$B$60 -> 30.498853 | AE73: 2025.7989 | AF73: 294873.3 | AG73: 137842.57 | AH73: 380505.08 | AI73: 205829.03 | AJ73: 2189.6454 | AK73: 0 | AL73: 41106.516 | AM73: 17202.642 | AN73: =SUM(AF73:AM73) -> 1079548.8 | AO73: =AN73/$E$73 -> 0.19081343 | AP73: =AN73/$B$60 -> 8.6030791
A74: Northwest Hardwoods | B74: 10001
A75: Good - Economic Zone
A76: 41-140 Years | C76: =E76/$B$74 -> 23.588668 | D76: 605.02592 | E76: =P76+AB76+AN76 -> 235910.27 | F76: =E76/$E$87 -> 1 | G76: 160.26151 | H76: 20570.783 | I76: 2618.2001 | J76: 13199.893 | K76: 0 | L76: 25.24733 | M76: 0 | N76: 0 | O76: 25863.407 | P76: =SUM(H76:O76) -> 62277.53 | Q76: =P76/$E$87 -> 0.26398821 | R76: =P76/$B$74 -> 6.2271303 | S76: 372.14814 | T76: 33298.643 | U76: 4136.1915 | V76: 20378.505 | W76: 0 | X76: 55.308197 | Y76: 0 | Z76: 0 | AA76: 85170.569 | AB76: =SUM(T76:AA76) -> 143039.22 | AC76: =AB76/$E$87 -> 0.60632892 | AD76: =AB76/$B$74 -> 14.302491 | AE76: 72.616266 | AF76: 9797.0743 | AG76: 962.42835 | AH76: 8213.7327 | AI76: 0 | AJ76: 63.938851 | AK76: 0 | AL76: 0 | AM76: 11556.345 | AN76: =SUM(AF76:AM76) -> 30593.519 | AO76: =AN76/$E$87 -> 0.12968287 | AP76: =AN76/$B$74 -> 3.059046
A77: 141+ Years | C77: 0 | D77: 0 | E77: 0 | F77: 0 | G77: 0 | H77: 0 | I77: 0 | J77: 0 | K77: 0 | L77: 0 | M77: 0 | N77: 0 | O77: 0 | P77: 0 | Q77: 0 | R77: 0
A78: Good - Economic Zone Total | C78: =E78/$B$74 -> 23.588668 | D78: 605.02592 | E78: =P78+AB78+AN78 -> 235910.27 | F78: =E78/$E$87 -> 1 | G78: 160.26151 | H78: 20570.783 | I78: 2618.2001 | J78: 13199.893 | K78: 0 | L78: 25.24733 | M78: 0 | N78: 0 | O78: 25863.407 | P78: =SUM(H78:O78) -> 62277.53 | Q78: =P78/$E$87 -> 0.26398821 | R78: =P78/$B$74 -> 6.2271303 | S78: 372.14814 | T78: 33298.643 | U78: 4136.1915 | V78: 20378.505 | W78: 0 | X78: 55.308197 | Y78: 0 | Z78: 0 | AA78: 85170.569 | AB78: =SUM(T78:AA78) -> 143039.22 | AC78: =AB78/$E$87 -> 0.60632892 | AD78: =AB78/$B$74 -> 14.302491 | AE78: 72.616266 | AF78: 9797.0743 | AG78: 962.42835 | AH78: 8213.7327 | AI78: 0 | AJ78: 63.938851 | AK78: 0 | AL78: 0 | AM78: 11556.345 | AN78: =SUM(AF78:AM78) -> 30593.519 | AO78: =AN78/$E$87 -> 0.12968287 | AP78: =AN78/$B$74 -> 3.059046
A79: Medium - Economic Zone
A80: 41-140 Years | C80: =E80/$B$74 -> 0 | D80: 0 | E80: =P80+AB80+AN80 -> 0 | F80: =E80/$E$87 -> 0 | G80: 0 | H80: 0 | I80: 0 | J80: 0 | K80: 0 | L80: 0 | M80: 0 | N80: 0 | O80: 0 | P80: =SUM(H80:O80) -> 0 | Q80: =P80/$E$87 -> 0 | R80: =P80/$B$74 -> 0 | S80: 0 | T80: 0 | U80: 0 | V80: 0 | W80: 0 | X80: 0 | Y80: 0 | Z80: 0 | AA80: 0 | AB80: =SUM(T80:AA80) -> 0 | AC80: =AB80/$E$87 -> 0 | AD80: =AB80/$B$74 -> 0 | AE80: 0 | AF80: 0 | AG80: 0 | AH80: 0 | AI80: 0 | AJ80: 0 | AK80: 0 | AL80: 0 | AM80: 0 | AN80: =SUM(AF80:AM80) -> 0 | AO80: =AN80/$E$87 -> 0 | AP80: =AN80/$B$74 -> 0
A81: 141+ Years | C81: =E81/$B$74 -> 0 | D81: 0 | E81: =P81+AB81+AN81 -> 0 | F81: =E81/$E$87 -> 0 | G81: 0 | H81: 0 | I81: 0 | J81: 0 | K81: 0 | L81: 0 | M81: 0 | N81: 0 | O81: 0 | P81: =SUM(H81:O81) -> 0 | Q81: =P81/$E$87 -> 0 | R81: =P81/$B$74 -> 0 | S81: 0 | T81: 0 | U81: 0 | V81: 0 | W81: 0 | X81: 0 | Y81: 0 | Z81: 0 | AA81: 0 | AB81: =SUM(T81:AA81) -> 0 | AC81: =AB81/$E$87 -> 0 | AD81: =AB81/$B$74 -> 0 | AE81: 0 | AF81: 0 | AG81: 0 | AH81: 0 | AI81: 0 | AJ81: 0 | AK81: 0 | AL81: 0 | AM81: 0 | AN81: =SUM(AF81:AM81) -> 0 | AO81: =AN81/$E$87 -> 0 | AP81: =AN81/$B$74 -> 0
A82: Medium - Economic Zone Total | C82: =E82/$B$74 -> 0 | D82: 0 | E82: =P82+AB82+AN82 -> 0 | F82: =E82/$E$87 -> 0 | G82: 0 | H82: 0 | I82: 0 | J82: 0 | K82: 0 | L82: 0 | M82: 0 | N82: 0 | O82: 0 | P82: =SUM(H82:O82) -> 0 | Q82: =P82/$E$87 -> 0 | R82: =P82/$B$74 -> 0 | S82: 0 | T82: 0 | U82: 0 | V82: 0 | W82: 0 | X82: 0 | Y82: 0 | Z82: 0 | AA82: 0 | AB82: =SUM(T82:AA82) -> 0 | AC82: =AB82/$E$87 -> 0 | AD82: =AB82/$B$74 -> 0 | AE82: 0 | AF82: 0 | AG82: 0 | AH82: 0 | AI82: 0 | AJ82: 0 | AK82: 0 | AL82: 0 | AM82: 0 | AN82: =SUM(AF82:AM82) -> 0 | AO82: =AN82/$E$87 -> 0 | AP82: =AN82/$B$74 -> 0
A83: Poor - Economic Zone
A84: 41-140 Years | C84: =E84/$B$74 -> 0 | D84: 0 | E84: =P84+AB84+AN84 -> 0 | F84: =E84/$E$87 -> 0 | G84: 0 | H84: 0 | I84: 0 | J84: 0 | K84: 0 | L84: 0 | M84: 0 | N84: 0 | O84: 0 | P84: =SUM(H84:O84) -> 0 | Q84: =P84/$E$87 -> 0 | R84: =P84/$B$74 -> 0 | S84: 0 | T84: 0 | U84: 0 | V84: 0 | W84: 0 | X84: 0 | Y84: 0 | Z84: 0 | AA84: 0 | AB84: =SUM(T84:AA84) -> 0 | AC84: =AB84/$E$87 -> 0 | AD84: =AB84/$B$74 -> 0 | AE84: 0 | AF84: 0 | AG84: 0 | AH84: 0 | AI84: 0 | AJ84: 0 | AK84: 0 | AL84: 0 | AM84: 0 | AN84: =SUM(AF84:AM84) -> 0 | AO84: =AN84/$E$87 -> 0 | AP84: =AN84/$B$74 -> 0
A85: 141+ Years | C85: =E85/$B$74 -> 0 | D85: 0 | E85: =P85+AB85+AN85 -> 0 | F85: =E85/$E$87 -> 0 | G85: 0 | H85: 0 | I85: 0 | J85: 0 | K85: 0 | L85: 0 | M85: 0 | N85: 0 | O85: 0 | P85: =SUM(H85:O85) -> 0 | Q85: =P85/$E$87 -> 0 | R85: =P85/$B$74 -> 0 | S85: 0 | T85: 0 | U85: 0 | V85: 0 | W85: 0 | X85: 0 | Y85: 0 | Z85: 0 | AA85: 0 | AB85: =SUM(T85:AA85) -> 0 | AC85: =AB85/$E$87 -> 0 | AD85: =AB85/$B$74 -> 0 | AE85: 0 | AF85: 0 | AG85: 0 | AH85: 0 | AI85: 0 | AJ85: 0 | AK85: 0 | AL85: 0 | AM85: 0 | AN85: =SUM(AF85:AM85) -> 0 | AO85: =AN85/$E$87 -> 0 | AP85: =AN85/$B$74 -> 0
A86: Poor - Economic Zone Total | C86: =E86/$B$74 -> 0 | D86: 0 | E86: =P86+AB86+AN86 -> 0 | F86: =E86/$E$87 -> 0 | G86: 0 | H86: 0 | I86: 0 | J86: 0 | K86: 0 | L86: 0 | M86: 0 | N86: 0 | O86: 0 | P86: =SUM(H86:O86) -> 0 | Q86: =P86/$E$87 -> 0 | R86: =P86/$B$74 -> 0 | S86: 0 | T86: 0 | U86: 0 | V86: 0 | W86: 0 | X86: 0 | Y86: 0 | Z86: 0 | AA86: 0 | AB86: =SUM(T86:AA86) -> 0 | AC86: =AB86/$E$87 -> 0 | AD86: =AB86/$B$74 -> 0 | AE86: 0 | AF86: 0 | AG86: 0 | AH86: 0 | AI86: 0 | AJ86: 0 | AK86: 0 | AL86: 0 | AM86: 0 | AN86: =SUM(AF86:AM86) -> 0 | AO86: =AN86/$E$87 -> 0 | AP86: =AN86/$B$74 -> 0
A87: Northwest Hardwoods Total | C87: =E87/$B$74 -> 23.588668 | D87: 605.02592 | E87: =P87+AB87+AN87 -> 235910.27 | F87: =E87/$E$87 -> 1 | G87: 160.26151 | H87: 20570.783 | I87: 2618.2001 | J87: 13199.893 | K87: 0 | L87: 25.24733 | M87: 0 | N87: 0 | O87: 25863.407 | P87: =SUM(H87:O87) -> 62277.53 | Q87: =P87/$E$87 -> 0.26398821 | R87: =P87/$B$74 -> 6.2271303 | S87: 372.14814 | T87: 33298.643 | U87: 4136.1915 | V87: 20378.505 | W87: 0 | X87: 55.308197 | Y87: 0 | Z87: 0 | AA87: 85170.569 | AB87: =SUM(T87:AA87) -> 143039.22 | AC87: =AB87/$E$87 -> 0.60632892 | AD87: =AB87/$B$74 -> 14.302491 | AE87: 72.616266 | AF87: 9797.0743 | AG87: 962.42835 | AH87: 8213.7327 | AI87: 0 | AJ87: 63.938851 | AK87: 0 | AL87: 0 | AM87: 11556.345 | AN87: =SUM(AF87:AM87) -> 30593.519 | AO87: =AN87/$E$87 -> 0.12968287 | AP87: =AN87/$B$74 -> 3.059046
A88: Probyn Log Ltd | B88: 4578
A89: Good - Economic Zone
A90: 41-140 Years | C90: =E90/$B$88 -> 38.329975 | D90: 282.17649 | E90: =P90+AB90+AN90 -> 175474.63 | F90: =E90/$E$101 -> 0.49705665 | G90: 76.298392 | H90: 28876.435 | I90: 4257.5744 | J90: 10523.301 | K90: 480.66711 | L90: 0 | M90: 0 | N90: 0.3425154 | O90: 1252.6107 | P90: =SUM(H90:O90) -> 45390.931 | Q90: =P90/$E$101 -> 0.12857622 | R90: =P90/$B$88 -> 9.9150132 | S90: 187.4845 | T90: 51253.655 | U90: 9318.1346 | V90: 49729.039 | W90: 2906.796 | X90: 0 | Y90: 0 | Z90: 2.7424287 | AA90: 6924.5953 | AB90: =SUM(T90:AA90) -> 120134.96 | AC90: =AB90/$E$101 -> 0.34029924 | AD90: =AB90/$B$88 -> 26.2418 | AE90: 18.393599 | AF90: 6340.4442 | AG90: 1080.4981 | AH90: 2251.1993 | AI90: 118.29674 | AJ90: 0 | AK90: 0 | AL90: 0.76914733 | AM90: 157.52552 | AN90: =SUM(AF90:AM90) -> 9948.733 | AO90: =AN90/$E$101 -> 0.028181191 | AP90: =AN90/$B$88 -> 2.1731614
A91: 141+ Years | C91: =E91/$B$88 -> 38.783922 | D91: 190.43956 | E91: =P91+AB91+AN91 -> 177552.8 | F91: =E91/$E$101 -> 0.50294335 | G91: 1.1393774 | H91: 17.704 | I91: 152.60229 | J91: 463.4128 | K91: 65.826168 | L91: 0 | M91: 0 | N91: 65.620639 | O91: 5.4269741 | P91: =SUM(H91:O91) -> 770.59286 | Q91: =P91/$E$101 -> 0.0021828131 | R91: =P91/$B$88 -> 0.16832522 | S91: 121.23733 | T91: 20298.513 | U91: 17901.73 | V91: 37580.631 | W91: 31355.361 | X91: 0 | Y91: 0 | Z91: 2189.6293 | AA91: 38.841236 | AB91: =SUM(T91:AA91) -> 109364.7 | AC91: =AB91/$E$101 -> 0.30979096 | AD91: =AB91/$B$88 -> 23.889188 | AE91: 68.062849 | AF91: 11835.892 | AG91: 16549.652 | AH91: 25111.747 | AI91: 13028.469 | AJ91: 0 | AK91: 0 | AL91: 891.7377 | AM91: 0 | AN91: =SUM(AF91:AM91) -> 67417.498 | AO91: =AN91/$E$101 -> 0.19096958 | AP91: =AN91/$B$88 -> 14.726408
A92: Good - Economic Zone Total | C92: =E92/$B$88 -> 77.113897 | D92: 472.61605 | E92: =P92+AB92+AN92 -> 353027.42 | F92: =E92/$E$101 -> 1 | G92: 77.437769 | H92: 28894.139 | I92: 4410.1767 | J92: 10986.714 | K92: 546.49328 | L92: 0 | M92: 0 | N92: 65.963154 | O92: 1258.0377 | P92: =SUM(H92:O92) -> 46161.523 | Q92: =P92/$E$101 -> 0.13075903 | R92: =P92/$B$88 -> 10.083338 | S92: 308.72183 | T92: 71552.168 | U92: 27219.864 | V92: 87309.67 | W92: 34262.157 | X92: 0 | Y92: 0 | Z92: 2192.3717 | AA92: 6963.4366 | AB92: =SUM(T92:AA92) -> 229499.67 | AC92: =AB92/$E$101 -> 0.6500902 | AD92: =AB92/$B$88 -> 50.130989 | AE92: 86.456448 | AF92: 18176.337 | AG92: 17630.15 | AH92: 27362.946 | AI92: 13146.766 | AJ92: 0 | AK92: 0 | AL92: 892.50685 | AM92: 157.52552 | AN92: =SUM(AF92:AM92) -> 77366.231 | AO92: =AN92/$E$101 -> 0.21915077 | AP92: =AN92/$B$88 -> 16.89957
A93: Medium - Economic Zone
A94: 41-140 Years | C94: =E94/$B$88 -> 0 | D94: 0 | E94: =P94+AB94+AN94 -> 0 | F94: =E94/$E$101 -> 0 | G94: 0 | H94: 0 | I94: 0 | J94: 0 | K94: 0 | L94: 0 | M94: 0 | N94: 0 | O94: 0 | P94: =SUM(H94:O94) -> 0 | Q94: =P94/$E$101 -> 0 | R94: =P94/$B$88 -> 0 | S94: 0 | T94: 0 | U94: 0 | V94: 0 | W94: 0 | X94: 0 | Y94: 0 | Z94: 0 | AA94: 0 | AB94: =SUM(T94:AA94) -> 0 | AC94: =AB94/$E$101 -> 0 | AD94: =AB94/$B$88 -> 0 | AE94: 0 | AF94: 0 | AG94: 0 | AH94: 0 | AI94: 0 | AJ94: 0 | AK94: 0 | AL94: 0 | AM94: 0 | AN94: =SUM(AF94:AM94) -> 0 | AO94: =AN94/$E$101 -> 0 | AP94: =AN94/$B$88 -> 0
A95: 141+ Years | C95: =E95/$B$88 -> 0 | D95: 0 | E95: =P95+AB95+AN95 -> 0 | F95: =E95/$E$101 -> 0 | G95: 0 | H95: 0 | I95: 0 | J95: 0 | K95: 0 | L95: 0 | M95: 0 | N95: 0 | O95: 0 | P95: =SUM(H95:O95) -> 0 | Q95: =P95/$E$101 -> 0 | R95: =P95/$B$88 -> 0 | S95: 0 | T95: 0 | U95: 0 | V95: 0 | W95: 0 | X95: 0 | Y95: 0 | Z95: 0 | AA95: 0 | AB95: =SUM(T95:AA95) -> 0 | AC95: =AB95/$E$101 -> 0 | AD95: =AB95/$B$88 -> 0 | AE95: 0 | AF95: 0 | AG95: 0 | AH95: 0 | AI95: 0 | AJ95: 0 | AK95: 0 | AL95: 0 | AM95: 0 | AN95: =SUM(AF95:AM95) -> 0 | AO95: =AN95/$E$101 -> 0 | AP95: =AN95/$B$88 -> 0
A96: Medium - Economic Zone Total | C96: =E96/$B$88 -> 0 | D96: 0 | E96: =P96+AB96+AN96 -> 0 | F96: =E96/$E$101 -> 0 | G96: 0 | H96: 0 | I96: 0 | J96: 0 | K96: 0 | L96: 0 | M96: 0 | N96: 0 | O96: 0 | P96: =SUM(H96:O96) -> 0 | Q96: =P96/$E$101 -> 0 | R96: =P96/$B$88 -> 0 | S96: 0 | T96: 0 | U96: 0 | V96: 0 | W96: 0 | X96: 0 | Y96: 0 | Z96: 0 | AA96: 0 | AB96: =SUM(T96:AA96) -> 0 | AC96: =AB96/$E$101 -> 0 | AD96: =AB96/$B$88 -> 0 | AE96: 0 | AF96: 0 | AG96: 0 | AH96: 0 | AI96: 0 | AJ96: 0 | AK96: 0 | AL96: 0 | AM96: 0 | AN96: =SUM(AF96:AM96) -> 0 | AO96: =AN96/$E$101 -> 0 | AP96: =AN96/$B$88 -> 0
A97: Poor - Economic Zone
A98: 41-140 Years | C98: =E98/$B$88 -> 0 | D98: 0 | E98: =P98+AB98+AN98 -> 0 | F98: =E98/$E$101 -> 0 | G98: 0 | H98: 0 | I98: 0 | J98: 0 | K98: 0 | L98: 0 | M98: 0 | N98: 0 | O98: 0 | P98: =SUM(H98:O98) -> 0 | Q98: =P98/$E$101 -> 0 | R98: =P98/$B$88 -> 0 | S98: 0 | T98: 0 | U98: 0 | V98: 0 | W98: 0 | X98: 0 | Y98: 0 | Z98: 0 | AA98: 0 | AB98: =SUM(T98:AA98) -> 0 | AC98: =AB98/$E$101 -> 0 | AD98: =AB98/$B$88 -> 0 | AE98: 0 | AF98: 0 | AG98: 0 | AH98: 0 | AI98: 0 | AJ98: 0 | AK98: 0 | AL98: 0 | AM98: 0 | AN98: =SUM(AF98:AM98) -> 0 | AO98: =AN98/$E$101 -> 0 | AP98: =AN98/$B$88 -> 0
A99: 141+ Years | C99: =E99/$B$88 -> 0 | D99: 0 | E99: =P99+AB99+AN99 -> 0 | F99: =E99/$E$101 -> 0 | G99: 0 | H99: 0 | I99: 0 | J99: 0 | K99: 0 | L99: 0 | M99: 0 | N99: 0 | O99: 0 | P99: =SUM(H99:O99) -> 0 | Q99: =P99/$E$101 -> 0 | R99: =P99/$B$88 -> 0 | S99: 0 | T99: 0 | U99: 0 | V99: 0 | W99: 0 | X99: 0 | Y99: 0 | Z99: 0 | AA99: 0 | AB99: =SUM(T99:AA99) -> 0 | AC99: =AB99/$E$101 -> 0 | AD99: =AB99/$B$88 -> 0 | AE99: 0 | AF99: 0 | AG99: 0 | AH99: 0 | AI99: 0 | AJ99: 0 | AK99: 0 | AL99: 0 | AM99: 0 | AN99: =SUM(AF99:AM99) -> 0 | AO99: =AN99/$E$101 -> 0 | AP99: =AN99/$B$88 -> 0
A100: Poor - Economic Zone Total | C100: =E100/$B$88 -> 0 | D100: 0 | E100: =P100+AB100+AN100 -> 0 | F100: =E100/$E$101 -> 0 | G100: 0 | H100: 0 | I100: 0 | J100: 0 | K100: 0 | L100: 0 | M100: 0 | N100: 0 | O100: 0 | P100: =SUM(H100:O100) -> 0 | Q100: =P100/$E$101 -> 0 | R100: =P100/$B$88 -> 0 | S100: 0 | T100: 0 | U100: 0 | V100: 0 | W100: 0 | X100: 0 | Y100: 0 | Z100: 0 | AA100: 0 | AB100: =SUM(T100:AA100) -> 0 | AC100: =AB100/$E$101 -> 0 | AD100: =AB100/$B$88 -> 0 | AE100: 0 | AF100: 0 | AG100: 0 | AH100: 0 | AI100: 0 | AJ100: 0 | AK100: 0 | AL100: 0 | AM100: 0 | AN100: =SUM(AF100:AM100) -> 0 | AO100: =AN100/$E$101 -> 0 | AP100: =AN100/$B$88 -> 0
...

Sheet OCT 2016
A2: October 31, 2016 Licensee - Economic Zones | B2: Total THLB Area (ha) | C2: Total THLB Vol (m3) | D2: Total Annual Yield (m3/yr) | E2: Slope 0-30 % | P2: Slope 31-69 % | AA2: > 69%
E3: Slope THLB Area (ha) | F3: THLB Volume (m3) | N3: Slope THLB Volume m3 | O3: Annual Yield m3/yr | P3: Slope THLB Area (ha) | Q3: THLB Volume (m3) | Y3: Slope THLB Volume | Z3: Annual Yield m3/yr | AA3: Slope THLB Area (ha) | AB3: THLB Volume (m3) | AJ3: Slope THLB Volume | AK3: Annual Yield m3/yr
E4: CFLB Area (ha) | F4: FIR | G4: CEDAR | H4: HEMLOCK | I4: BALSAM | J4: PINE | K4: SPRUCE | L4: CYPRESS | M4: DECIDUOUS | N4: CFLB Volume (m3) | P4: THLBAREA | Q4: FIR | R4: CEDAR | S4: HEMLOCK | T4: BALSAM | U4: PINE | V4: SPRUCE | W4: CYPRESS | X4: DECIDUOUS | Y4: THLB_RVTOT | AA4: Sum of THLBAREA | AB4: FIR | AC4: CEDAR | AD4: HEMLOCK | AE4: BALSAM | AF4: PINE | AG4: SPRUCE | AH4: CYPRESS | AI4: DECIDUOUS | AJ4: Sum of THLB_RVTOT
A5: B.C. Timber Sales
A6: Good
A7: 41-140 Years | B7: 6536.8612 | C7: 2591234.3 | D7: 29703.265 | E7: 2009.4736 | F7: 197513.7 | G7: 59283.92 | H7: 409605.03 | I7: 129110.45 | J7: 4020.2357 | K7: 1636.6652 | L7: 467.5311 | M7: 280984.51 | N7: 1082622 | O7: 8915.9854 | P7: 3481.8178 | Q7: 485163.67 | R7: 88303.368 | S7: 283070.76 | T7: 99500.805 | U7: 5394.0275 | V7: 2380.862 | W7: 2945.8226 | X7: 202149.49 | Y7: 1168908.8 | Z7: 15790.687 | AA7: 1045.5698 | AB7: 160841.22 | AC7: 23890.137 | AD7: 77530.878 | AE7: 22809.348 | AF7: 335.05249 | AG7: 213.596 | AH7: 1181.8509 | AI7: 52901.372 | AJ7: 339703.45 | AK7: 4996.5929
A8: 141+ Years | B8: 1665.5223 | C8: 1023084.1 | D8: 6841.7479 | E8: 300.68272 | F8: 37192.676 | G8: 19511.271 | H8: 73554.522 | I8: 54366.727 | J8: 1595.1677 | K8: 0 | L8: 5159.3112 | M8: 1534.7591 | N8: 192914.43 | O8: 1205.3785 | P8: 820.09712 | Q8: 88052.086 | R8: 96424.217 | S8: 184438.37 | T8: 106173.07 | U8: 324.53876 | V8: 0 | W8: 11661.591 | X8: 2532.2802 | Y8: 489606.16 | Z8: 3345.3578 | AA8: 544.74243 | AB8: 55132.272 | AC8: 90707.406 | AD8: 119916.92 | AE8: 66727.574 | AF8: 36.150257 | AG8: 0 | AH8: 7199.4105 | AI8: 843.79286 | AJ8: 340563.53 | AK8: 2291.0117
A9: Good Total | B9: 8202.3835 | C9: 3614318.4 | D9: 36545.013 | E9: 2310.1563 | F9: 234706.38 | G9: 78795.191 | H9: 483159.55 | I9: 183477.18 | J9: 5615.4035 | K9: 1636.6652 | L9: 5626.8423 | M9: 282519.27 | N9: 1275536.5 | O9: 10121.364 | P9: 4301.915 | Q9: 573215.76 | R9: 184727.58 | S9: 467509.13 | T9: 205673.88 | U9: 5718.5663 | V9: 2380.862 | W9: 14607.413 | X9: 204681.77 | Y9: 1658515 | Z9: 19136.044 | AA9: 1590.3122 | AB9: 215973.49 | AC9: 114597.54 | AD9: 197447.8 | AE9: 89536.921 | AF9: 371.20275 | AG9: 213.596 | AH9: 8381.2613 | AI9: 53745.165 | AJ9: 680266.98 | AK9: 7287.6046
A10: Medium
A11: 41-140 Years | B11: 8733.9418 | C11: 2470633.4 | D11: 34234.731 | E11: 1408.3644 | F11: 65087.983 | G11: 15438.436 | H11: 106548.22 | I11: 116597.16 | J11: 79.654197 | K11: 3685.55 | L11: 629.98014 | M11: 34152.731 | N11: 342219.72 | O11: 5304.9103 | P11: 5842.7011 | Q11: 447268.43 | R11: 74661.69 | S11: 524508.44 | T11: 444906.21 | U11: 2451.9817 | V11: 5495.6664 | W11: 1365.1029 | X11: 166054.15 | Y11: 1666711.7 | Z11: 23062.96 | AA11: 1482.8763 | AB11: 177162.58 | AC11: 26480.708 | AD11: 158003.35 | AE11: 72016.59 | AF11: 735.01018 | AG11: 879.54483 | AH11: 360.90052 | AI11: 26063.353 | AJ11: 461702.04 | AK11: 5866.8612
A12: 141+ Years | B12: 3890.821 | C12: 2494359.8 | D12: 14591.259 | E12: 293.73982 | F12: 19069.732 | G12: 5664.0085 | H12: 74070.498 | I12: 78222.568 | J12: 220.48223 | K12: 1676.5344 | L12: 1229.0011 | M12: 235.501 | N12: 180388.33 | O12: 1083.5653 | P12: 2245.8927 | Q12: 129128.4 | R12: 46220.119 | S12: 574692.34 | T12: 698387.11 | U12: 184.24104 | V12: 3782.4465 | W12: 13777.903 | X12: 755.36344 | Y12: 1466927.9 | Z12: 8504.3404 | AA12: 1351.1884 | AB12: 123224.43 | AC12: 52327.231 | AD12: 373104.43 | AE12: 289530.08 | AF12: 125.63292 | AG12: 516.55816 | AH12: 5570.3789 | AI12: 2644.7847 | AJ12: 847043.52 | AK12: 5003.3537
A13: Medium Total | B13: 12624.763 | C13: 4964993.2 | D13: 48825.991 | E13: 1702.1042 | F13: 84157.715 | G13: 21102.445 | H13: 180618.72 | I13: 194819.73 | J13: 300.13642 | K13: 5362.0844 | L13: 1858.9813 | M13: 34388.232 | N13: 522608.04 | O13: 6388.4756 | P13: 8088.5938 | Q13: 576396.83 | R13: 120881.81 | S13: 1099200.8 | T13: 1143293.3 | U13: 2636.2227 | V13: 9278.1129 | W13: 15143.006 | X13: 166809.51 | Y13: 3133639.6 | Z13: 31567.3 | AA13: 2834.0648 | AB13: 300387.01 | AC13: 78807.94 | AD13: 531107.78 | AE13: 361546.67 | AF13: 860.64311 | AG13: 1396.103 | AH13: 5931.2794 | AI13: 28708.137 | AJ13: 1308745.6 | AK13: 10870.215
A14: Poor
A15: 41-140 Years | B15: 1864.8389 | C15: 697211.7 | D15: 7471.8638 | E15: 661.12932 | F15: 250080.65 | G15: 24722.984 | H15: 18478.04 | I15: 13234.402 | J15: 11351.537 | K15: 1242.9652 | L15: 4.6394504 | M15: 12354.749 | N15: 331469.97 | O15: 2885.5782 | P15: 1099.2441 | Q15: 217636.55 | R15: 17756.466 | S15: 10399.684 | T15: 32655.146 | U15: 40822.668 | V15: 479.02395 | W15: 19.143625 | X15: 22495.736 | Y15: 342264.42 | Z15: 4222.8671 | AA15: 104.46552 | AB15: 14745.456 | AC15: 213.22595 | AD15: 1346.1545 | AE15: 3431.3356 | AF15: 3399.1377 | AG15: 137.13387 | AH15: 2.6792412 | AI15: 202.18886 | AJ15: 23477.312 | AK15: 363.41855
A16: 141+ Years | B16: 2082.2526 | C16: 1087872.2 | D16: 5952.2245 | E16: 357.8978 | F16: 22398.229 | G16: 13668.413 | H16: 50201.993 | I16: 87992.832 | J16: 2099.8258 | K16: 30681.824 | L16: 1046.9296 | M16: 5.2291864 | N16: 208095.28 | O16: 1012.3589 | P16: 1599.9732 | Q16: 202526.32 | R16: 31647.201 | S16: 225818.69 | T16: 230628.31 | U16: 18241.52 | V16: 101093.45 | W16: 12880.832 | X16: 896.57545 | Y16: 823732.9 | Z16: 4584.6134 | AA16: 124.3816 | AB16: 19975.792 | AC16: 847.16182 | AD16: 11010.045 | AE16: 17327.07 | AF16: 1049.5544 | AG16: 5006.9612 | AH16: 555.34921 | AI16: 272.13542 | AJ16: 56044.07 | AK16: 355.25223
A17: Poor Total | B17: 3947.0915 | C17: 1785083.9 | D17: 13424.088 | E17: 1019.0271 | F17: 272478.88 | G17: 38391.397 | H17: 68680.033 | I17: 101227.23 | J17: 13451.362 | K17: 31924.79 | L17: 1051.569 | M17: 12359.979 | N17: 539565.24 | O17: 3897.937 | P17: 2699.2173 | Q17: 420162.87 | R17: 49403.666 | S17: 236218.38 | T17: 263283.45 | U17: 59064.188 | V17: 101572.48 | W17: 12899.976 | X17: 23392.312 | Y17: 1165997.3 | Z17: 8807.4804 | AA17: 228.84711 | AB17: 34721.249 | AC17: 1060.3878 | AD17: 12356.2 | AE17: 20758.406 | AF17: 4448.6921 | AG17: 5144.095 | AH17: 558.02845 | AI17: 474.32428 | AJ17: 79521.382 | AK17: 718.67078
A18: B.C. Timber Sales Total | B18: 24774.238 | C18: 10364396 | D18: 98795.092 | E18: 5031.2876 | F18: 591342.97 | G18: 138289.03 | H18: 732458.3 | I18: 479524.14 | J18: 19366.902 | K18: 38923.539 | L18: 8537.3925 | M18: 329267.48 | N18: 2337709.8 | O18: 20407.777 | P18: 15089.726 | Q18: 1569775.5 | R18: 355013.06 | S18: 1802928.3 | T18: 1612250.6 | U18: 67418.977 | V18: 113231.45 | W18: 42650.395 | X18: 394883.6 | Y18: 5958151.9 | Z18: 59510.825 | AA18: 4653.2241 | AB18: 551081.75 | AC18: 194465.87 | AD18: 740911.78 | AE18: 471842 | AF18: 5680.5379 | AG18: 6753.794 | AH18: 14870.569 | AI18: 82927.627 | AJ18: 2068533.9 | AK18: 18876.49
A19: First Nations District Area
A20: Good
A21: 41-140 Years | B21: 5246.1625 | C21: 2266818.2 | D21: 25731.072 | E21: 909.16063 | F21: 98579.068 | G21: 24037.048 | H21: 112552.22 | I21: 88023.886 | J21: 6228.9977 | K21: 0 | L21: 463.71954 | M21: 86654.219 | N21: 416539.15 | O21: 4541.8329 | P21: 3164.0019 | Q21: 248241.1 | R21: 69072.794 | S21: 378370.58 | T21: 342136.21 | U21: 2184.2161 | V21: 0 | W21: 1930.57 | X21: 308875.15 | Y21: 1350810.6 | Z21: 15517.568 | AA21: 1172.9999 | AB21: 169222.98 | AC21: 18263.684 | AD21: 151459.9 | AE21: 41259.996 | AF21: 515.20547 | AG21: 0 | AH21: 282.55193 | AI21: 118464.07 | AJ21: 499468.38 | AK21: 5671.6707
A22: 141+ Years | B22: 2023.1534 | C22: 1540804.7 | D22: 7669.2567 | E22: 158.13267 | F22: 9226.8564 | G22: 1936.2237 | H22: 37409.844 | I22: 51361.282 | J22: 2003.9698 | K22: 0 | L22: 8755.611 | M22: 407.95165 | N22: 111101.74 | O22: 529.03301 | P22: 1317.7495 | Q22: 120061.13 | R22: 65614.052 | S22: 362346.23 | T22: 381092.1 | U22: 628.61107 | V22: 35.876725 | W22: 71838.703 | X22: 1349.2531 | Y22: 1002966 | Z22: 4823.7132 | AA22: 547.2713 | AB22: 87906.557 | AC22: 42066.298 | AD22: 175992.62 | AE22: 101399.94 | AF22: 0 | AG22: 3.0112292 | AH22: 18218.645 | AI22: 1149.9264 | AJ22: 426737 | AK22: 2316.5105
A23: Good Total | B23: 7269.3159 | C23: 3807622.8 | D23: 33400.328 | E23: 1067.2933 | F23: 107805.92 | G23: 25973.272 | H23: 149962.06 | I23: 139385.17 | J23: 8232.9674 | K23: 0 | L23: 9219.3306 | M23: 87062.171 | N23: 527640.89 | O23: 5070.8659 | P23: 4481.7514 | Q23: 368302.23 | R23: 134686.85 | S23: 740716.81 | T23: 723228.31 | U23: 2812.8272 | V23: 35.876725 | W23: 73769.273 | X23: 310224.4 | Y23: 2353776.6 | Z23: 20341.281 | AA23: 1720.2712 | AB23: 257129.54 | AC23: 60329.983 | AD23: 327452.51 | AE23: 142659.94 | AF23: 515.20547 | AG23: 3.0112292 | AH23: 18501.197 | AI23: 119613.99 | AJ23: 926205.38 | AK23: 7988.1812
A24: Medium
A25: 41-140 Years | B25: 4037.5089 | C25: 1733914.9 | D25: 18844.502 | E25: 544.65254 | F25: 45994.44 | G25: 11319.126 | H25: 70052.561 | I25: 105759.03 | J25: 130.136 | K25: 10.745128 | L25: 0 | M25: 35753.496 | N25: 269019.53 | O25: 2612.0999 | P25: 2797.8359 | Q25: 282782.95 | R25: 49180.84 | S25: 346095.75 | T25: 405785.03 | U25: 6653.1705 | V25: 573.83888 | W25: 220.83233 | X25: 129106.95 | Y25: 1220399.4 | Z25: 13053.382 | AA25: 695.02052 | AB25: 72665.46 | AC25: 17353.38 | AD25: 69974.417 | AE25: 41472.269 | AF25: 2710.4076 | AG25: 4.138146 | AH25: 0 | AI25: 40315.918 | AJ25: 244495.99 | AK25: 3179.0198
A26: 141+ Years | B26: 2307.7006 | C26: 1484373 | D26: 9512.2047 | E26: 181.14576 | F26: 12856.763 | G26: 3469.387 | H26: 29216.172 | I26: 60377.345 | J26: 0 | K26: 7108.9722 | L26: 98.93211 | M26: 156.82138 | N26: 113284.39 | O26: 664.16631 | P26: 1298.3924 | Q26: 135098.29 | R26: 44813.555 | S26: 314949.97 | T26: 327732.71 | U26: 1375.0659 | V26: 20074.501 | W26: 1097.9307 | X26: 1698.5549 | Y26: 846840.57 | Z26: 5326.653 | AA26: 828.16243 | AB26: 96433.436 | AC26: 38805.101 | AD26: 243418.34 | AE26: 140908.25 | AF26: 96.553343 | AG26: 4141.9061 | AH26: 0 | AI26: 444.43258 | AJ26: 524248.02 | AK26: 3521.3854
A27: Medium Total | B27: 6345.2095 | C27: 3218287.9 | D27: 28356.707 | E27: 725.79831 | F27: 58851.203 | G27: 14788.513 | H27: 99268.733 | I27: 166136.37 | J27: 130.136 | K27: 7119.7173 | L27: 98.93211 | M27: 35910.318 | N27: 382303.92 | O27: 3276.2662 | P27: 4096.2282 | Q27: 417881.24 | R27: 93994.395 | S27: 661045.72 | T27: 733517.74 | U27: 8028.2364 | V27: 20648.339 | W27: 1318.763 | X27: 130805.51 | Y27: 2067239.9 | Z27: 18380.035 | AA27: 1523.1829 | AB27: 169098.9 | AC27: 56158.481 | AD27: 313392.76 | AE27: 182380.52 | AF27: 2806.9609 | AG27: 4146.0442 | AH27: 0 | AI27: 40760.351 | AJ27: 768744.01 | AK27: 6700.4052
A28: Poor
A29: 41-140 Years | B29: 683.26087 | C29: 110065.73 | D29: 2000.4003 | E29: 109.37504 | F29: 4709.0658 | G29: 327.86084 | H29: 609.89695 | I29: 7279.0146 | J29: 235.7946 | K29: 579.37308 | L29: 0 | M29: 829.30278 | N29: 14570.309 | O29: 321.84681 | P29: 510.70461 | Q29: 51335.947 | R29: 569.70809 | S29: 1185.6578 | T29: 25957.838 | U29: 7117.535 | V29: 1746.8572 | W29: 0 | X29: 2463.686 | Y29: 90377.229 | Z29: 1536.8777 | AA29: 63.181218 | AB29: 2572.1937 | AC29: 93.087544 | AD29: 149.34712 | AE29: 1507.0697 | AF29: 375.02398 | AG29: 231.19669 | AH29: 0 | AI29: 190.27768 | AJ29: 5118.1964 | AK29: 141.6758
A30: 141+ Years | B30: 573.22152 | C30: 188704.63 | D30: 1648.4268 | E30: 97.304996 | F30: 1986.6558 | G30: 5.4903234 | H30: 3870.1473 | I30: 26742.28 | J30: 20.289799 | K30: 9705.4995 | L30: 83.300183 | M30: 72.451452 | N30: 42486.114 | O30: 284.3478 | P30: 377.1505 | Q30: 47129.563 | R30: 255.26195 | S30: 7175.272 | T30: 54452.013 | U30: 58.203843 | V30: 18503.009 | W30: 91.816478 | X30: 339.48743 | Y30: 128004.63 | Z30: 1107.1833 | AA30: 98.766025 | AB30: 14931.405 | AC30: 243.0125 | AD30: 487.61037 | AE30: 2107.6386 | AF30: 73.899194 | AG30: 335.48008 | AH30: 0 | AI30: 34.844575 | AJ30: 18213.89 | AK30: 256.89569
A31: Poor Total | B31: 1256.4824 | C31: 298770.37 | D31: 3648.8272 | E31: 206.68004 | F31: 6695.7216 | G31: 333.35116 | H31: 4480.0443 | I31: 34021.294 | J31: 256.0844 | K31: 10284.873 | L31: 83.300183 | M31: 901.75423 | N31: 57056.423 | O31: 606.19461 | P31: 887.85511 | Q31: 98465.511 | R31: 824.97005 | S31: 8360.9298 | T31: 80409.851 | U31: 7175.7388 | V31: 20249.866 | W31: 91.816478 | X31: 2803.1734 | Y31: 218381.86 | Z31: 2644.0611 | AA31: 161.94724 | AB31: 17503.598 | AC31: 336.10004 | AD31: 636.95748 | AE31: 3614.7083 | AF31: 448.92318 | AG31: 566.67677 | AH31: 0 | AI31: 225.12225 | AJ31: 23332.086 | AK31: 398.57149
A32: First Nations District Area Total | B32: 14871.008 | C32: 7324681.1 | D32: 65405.862 | E32: 1999.7716 | F32: 173352.85 | G32: 41095.135 | H32: 253710.84 | I32: 339542.83 | J32: 8619.1878 | K32: 17404.59 | L32: 9401.5629 | M32: 123874.24 | N32: 967001.24 | O32: 8953.3267 | P32: 9465.8347 | Q32: 884648.98 | R32: 229506.21 | S32: 1410123.5 | T32: 1537155.9 | U32: 18016.802 | V32: 40934.083 | W32: 75179.853 | X32: 443833.08 | Y32: 4639398.4 | Z32: 41365.377 | AA32: 3405.4014 | AB32: 443732.03 | AC32: 116824.56 | AD32: 641482.23 | AE32: 328655.17 | AF32: 3771.0895 | AG32: 4715.7322 | AH32: 18501.197 | AI32: 160599.47 | AJ32: 1718281.5 | AK32: 15087.158
A33: Lakeside Pacific Forest Products
A34: Good
A35: 41-140 Years | B35: 6863.6157 | C35: 2674580.4 | D35: 31465.874 | E35: 1176.0194 | F35: 231671.96 | G35: 48257.171 | H35: 111989.29 | I35: 56903.961 | J35: 6617.2253 | K35: 911.77168 | L35: 1146.1895 | M35: 54225.426 | N35: 511723 | O35: 5432.521 | P35: 4794.7746 | Q35: 875987.58 | R35: 182862.94 | S35: 469690.44 | T35: 170190.58 | U35: 22538.802 | V35: 488.92519 | W35: 7580.063 | X35: 153211.47 | Y35: 1882550.8 | Z35: 21738.401 | AA35: 892.82167 | AB35: 147288.54 | AC35: 16826.526 | AD35: 66897.521 | AE35: 30759.793 | AF35: 959.79407 | AG35: 0 | AH35: 993.90526 | AI35: 16580.499 | AJ35: 280306.58 | AK35: 4294.9522
A36: 141+ Years | B36: 5167.6642 | C36: 3762870 | D36: 21912.169 | E36: 387.90378 | F36: 40097.819 | G36: 9583.2684 | H36: 98644.097 | I36: 97736.13 | J36: 735.40148 | K36: 0 | L36: 20712.01 | M36: 2580.3531 | N36: 270089.08 | O36: 1800.7716 | P36: 3322.1155 | Q36: 408035.49 | R36: 153006.95 | S36: 891075.95 | T36: 828850.66 | U36: 2278.4738 | V36: 0 | W36: 125670.75 | X36: 9478.4511 | Y36: 2418396.7 | Z36: 14257.768 | AA36: 1457.6449 | AB36: 202191.74 | AC36: 153909.04 | AD36: 399270.55 | AE36: 268130.63 | AF36: 908.07929 | AG36: 0 | AH36: 48162.392 | AI36: 1811.7643 | AJ36: 1074384.2 | AK36: 5853.6294
A37: Good Total | B37: 12031.28 | C37: 6437450.4 | D37: 53378.043 | E37: 1563.9232 | F37: 271769.78 | G37: 57840.439 | H37: 210633.39 | I37: 154640.09 | J37: 7352.6268 | K37: 911.77168 | L37: 21858.199 | M37: 56805.779 | N37: 781812.08 | O37: 7233.2927 | P37: 8116.8901 | Q37: 1284023.1 | R37: 335869.89 | S37: 1360766.4 | T37: 999041.24 | U37: 24817.276 | V37: 488.92519 | W37: 133250.81 | X37: 162689.92 | Y37: 4300947.5 | Z37: 35996.169 | AA37: 2350.4666 | AB37: 349480.28 | AC37: 170735.57 | AD37: 466168.07 | AE37: 298890.43 | AF37: 1867.8734 | AG37: 0 | AH37: 49156.298 | AI37: 18392.263 | AJ37: 1354690.8 | AK37: 10148.582
A38: Medium
A39: 41-140 Years | B39: 0.20071664 | C39: 56.777117 | D39: 0.87572669 | E39: 0.13680626 | F39: 0 | G39: 0 | H39: 9.6062618 | I39: 29.092398 | J39: 0 | K39: 0 | L39: 0 | M39: 0 | N39: 38.69866 | O39: 0.5968857 | P39: 0.063910381 | Q39: 0 | R39: 0 | S39: 4.4876591 | T39: 13.590798 | U39: 0 | V39: 0 | W39: 0 | X39: 0 | Y39: 18.078457 | Z39: 0.27884099 | AA39: 0 | AB39: 0 | AC39: 0 | AD39: 0 | AE39: 0 | AF39: 0 | AG39: 0 | AH39: 0 | AI39: 0 | AJ39: 0 | AK39: 0
A40: 141+ Years | B40: 26.095015 | C40: 17650.533 | D40: 113.9989 | E40: 4.4396101 | F40: 0 | G40: 120.43215 | H40: 1183.746 | I40: 987.73896 | J40: 0 | K40: 0 | L40: 238.7748 | M40: 0 | N40: 2530.6919 | O40: 19.370019 | P40: 17.353934 | Q40: 0 | R40: 80.42414 | S40: 4418.6795 | T40: 5923.3625 | U40: 0 | V40: 0 | W40: 2027.0589 | X40: 0 | Y40: 12449.525 | Z40: 75.861567 | AA40: 4.3014703 | AB40: 0 | AC40: 2.1961375 | AD40: 1168.8198 | AE40: 1077.5395 | AF40: 0 | AG40: 0 | AH40: 421.76059 | AI40: 0 | AJ40: 2670.3161 | AK40: 18.767315
A41: Medium Total | B41: 26.295731 | C41: 17707.31 | D41: 114.87463 | E41: 4.5764164 | F41: 0 | G41: 120.43215 | H41: 1193.3523 | I41: 1016.8314 | J41: 0 | K41: 0 | L41: 238.7748 | M41: 0 | N41: 2569.3906 | O41: 19.966905 | P41: 17.417845 | Q41: 0 | R41: 80.42414 | S41: 4423.1671 | T41: 5936.9533 | U41: 0 | V41: 0 | W41: 2027.0589 | X41: 0 | Y41: 12467.603 | Z41: 76.140408 | AA41: 4.3014703 | AB41: 0 | AC41: 2.1961375 | AD41: 1168.8198 | AE41: 1077.5395 | AF41: 0 | AG41: 0 | AH41: 421.76059 | AI41: 0 | AJ41: 2670.3161 | AK41: 18.767315
A42: Poor
A43: 41-140 Years | B43: 0 | C43: 0 | D43: 0 | E43: 0 | F43: 0 | G43: 0 | H43: 0 | I43: 0 | J43: 0 | K43: 0 | L43: 0 | M43: 0 | N43: 0 | O43: 0 | P43: 0 | Q43: 0 | R43: 0 | S43: 0 | T43: 0 | U43: 0 | V43: 0 | W43: 0 | X43: 0 | Y43: 0 | Z43: 0 | AA43: 0 | AB43: 0 | AC43: 0 | AD43: 0 | AE43: 0 | AF43: 0 | AG43: 0 | AH43: 0 | AI43: 0 | AJ43: 0 | AK43: 0
A44: 141+ Years | B44: 0 | C44: 0 | D44: 0 | E44: 0 | F44: 0 | G44: 0 | H44: 0 | I44: 0 | J44: 0 | K44: 0 | L44: 0 | M44: 0 | N44: 0 | O44: 0 | P44: 0 | Q44: 0 | R44: 0 | S44: 0 | T44: 0 | U44: 0 | V44: 0 | W44: 0 | X44: 0 | Y44: 0 | Z44: 0 | AA44: 0 | AB44: 0 | AC44: 0 | AD44: 0 | AE44: 0 | AF44: 0 | AG44: 0 | AH44: 0 | AI44: 0 | AJ44: 0 | AK44: 0
A45: Poor Total | B45: 0 | C45: 0 | D45: 0 | E45: 0 | F45: 0 | G45: 0 | H45: 0 | I45: 0 | J45: 0 | K45: 0 | L45: 0 | M45: 0 | N45: 0 | O45: 0 | P45: 0 | Q45: 0 | R45: 0 | S45: 0 | T45: 0 | U45: 0 | V45: 0 | W45: 0 | X45: 0 | Y45: 0 | Z45: 0 | AA45: 0 | AB45: 0 | AC45: 0 | AD45: 0 | AE45: 0 | AF45: 0 | AG45: 0 | AH45: 0 | AI45: 0 | AJ45: 0 | AK45: 0
A46: Lakeside Pacific Forest Products Total | B46: 12057.576 | C46: 6455157.7 | D46: 53492.918 | E46: 1568.4996 | F46: 271769.78 | G46: 57960.871 | H46: 211826.74 | I46: 155656.92 | J46: 7352.6268 | K46: 911.77168 | L46: 22096.974 | M46: 56805.779 | N46: 784381.47 | O46: 7253.2596 | P46: 8134.3079 | Q46: 1284023.1 | R46: 335950.32 | S46: 1365189.6 | T46: 1004978.2 | U46: 24817.276 | V46: 488.92519 | W46: 135277.87 | X46: 162689.92 | Y46: 4313415.1 | Z46: 36072.309 | AA46: 2354.7681 | AB46: 349480.28 | AC46: 170737.76 | AD46: 467336.89 | AE46: 299967.97 | AF46: 1867.8734 | AG46: 0 | AH46: 49578.058 | AI46: 18392.263 | AJ46: 1357361.1 | AK46: 10167.349
A47: Probyn Log Ltd
A48: Good
A49: 41-140 Years | B49: 389.05691 | C49: 130787.04 | D49: 1444.1793 | E49: 68.039261 | F49: 5244.7578 | G49: 3527.1429 | H49: 6396.0243 | I49: 1475.6856 | J49: 0 | K49: 0 | L49: 93.667236 | M49: 5366.3133 | N49: 22103.591 | O49: 252.56174 | P49: 285.19476 | Q49: 47943.901 | R49: 9672.897 | S49: 18771.813 | T49: 2724.1633 | U49: 142.99348 | V49: 0 | W49: 108.78873 | X49: 20300.516 | Y49: 99665.073 | Z49: 1058.643 | AA49: 35.822886 | AB49: 4785.3486 | AC49: 547.11774 | AD49: 1311.0169 | AE49: 416.68957 | AF49: 13.96396 | AG49: 0 | AH49: 13.405574 | AI49: 1930.8311 | AJ49: 9018.3735 | AK49: 132.97455
A50: 141+ Years | B50: 197.21656 | C50: 172288.11 | D50: 732.06786 | E50: 28.626556 | F50: 1216.6412 | G50: 161.5582 | H50: 8607.2249 | I50: 9681.5903 | J50: 0 | K50: 0 | L50: 1097.3511 | M50: 0.44344242 | N50: 20764.809 | O50: 106.26177 | P50: 104.4909 | Q50: 13749.273 | R50: 3127.7432 | S50: 34008.502 | T50: 35020.345 | U50: 0 | V50: 0 | W50: 8267.3722 | X50: 0 | Y50: 94173.236 | Z50: 387.87022 | AA50: 64.099103 | AB50: 10881.314 | AC50: 2551.6605 | AD50: 17872.482 | AE50: 16755.092 | AF50: 0 | AG50: 0 | AH50: 9289.522 | AI50: 0 | AJ50: 57350.069 | AK50: 237.93587
A51: Good Total | B51: 586.27347 | C51: 303075.15 | D51: 2176.2471 | E51: 96.665817 | F51: 6461.399 | G51: 3688.7011 | H51: 15003.249 | I51: 11157.276 | J51: 0 | K51: 0 | L51: 1191.0183 | M51: 5366.7568 | N51: 42868.4 | O51: 358.82351 | P51: 389.68566 | Q51: 61693.174 | R51: 12800.64 | S51: 52780.316 | T51: 37744.508 | U51: 142.99348 | V51: 0 | W51: 8376.161 | X51: 20300.516 | Y51: 193838.31 | Z51: 1446.5132 | AA51: 99.921989 | AB51: 15666.662 | AC51: 3098.7783 | AD51: 19183.499 | AE51: 17171.781 | AF51: 13.96396 | AG51: 0 | AH51: 9302.9275 | AI51: 1930.8311 | AJ51: 66368.443 | AK51: 370.91042
A52: Medium
A53: 41-140 Years | B53: 0 | C53: 0 | D53: 0 | E53: 0 | F53: 0 | G53: 0 | H53: 0 | I53: 0 | J53: 0 | K53: 0 | L53: 0 | M53: 0 | N53: 0 | O53: 0 | P53: 0 | Q53: 0 | R53: 0 | S53: 0 | T53: 0 | U53: 0 | V53: 0 | W53: 0 | X53: 0 | Y53: 0 | Z53: 0 | AA53: 0 | AB53: 0 | AC53: 0 | AD53: 0 | AE53: 0 | AF53: 0 | AG53: 0 | AH53: 0 | AI53: 0 | AJ53: 0 | AK53: 0
A54: 141+ Years | B54: 0 | C54: 0 | D54: 0 | E54: 0 | F54: 0 | G54: 0 | H54: 0 | I54: 0 | J54: 0 | K54: 0 | L54: 0 | M54: 0 | N54: 0 | O54: 0 | P54: 0 | Q54: 0 | R54: 0 | S54: 0 | T54: 0 | U54: 0 | V54: 0 | W54: 0 | X54: 0 | Y54: 0 | Z54: 0 | AA54: 0 | AB54: 0 | AC54: 0 | AD54: 0 | AE54: 0 | AF54: 0 | AG54: 0 | AH54: 0 | AI54: 0 | AJ54: 0 | AK54: 0
A55: Medium Total | B55: 0 | C55: 0 | D55: 0 | E55: 0 | F55: 0 | G55: 0 | H55: 0 | I55: 0 | J55: 0 | K55: 0 | L55: 0 | M55: 0 | N55: 0 | O55: 0 | P55: 0 | Q55: 0 | R55: 0 | S55: 0 | T55: 0 | U55: 0 | V55: 0 | W55: 0 | X55: 0 | Y55: 0 | Z55: 0 | AA55: 0 | AB55: 0 | AC55: 0 | AD55: 0 | AE55: 0 | AF55: 0 | AG55: 0 | AH55: 0 | AI55: 0 | AJ55: 0 | AK55: 0
A56: Poor
A57: 41-140 Years | B57: 0 | C57: 0 | D57: 0 | E57: 0 | F57: 0 | G57: 0 | H57: 0 | I57: 0 | J57: 0 | K57: 0 | L57: 0 | M57: 0 | N57: 0 | O57: 0 | P57: 0 | Q57: 0 | R57: 0 | S57: 0 | T57: 0 | U57: 0 | V57: 0 | W57: 0 | X57: 0 | Y57: 0 | Z57: 0 | AA57: 0 | AB57: 0 | AC57: 0 | AD57: 0 | AE57: 0 | AF57: 0 | AG57: 0 | AH57: 0 | AI57: 0 | AJ57: 0 | AK57: 0
A58: 141+ Years | B58: 0 | C58: 0 | D58: 0 | E58: 0 | F58: 0 | G58: 0 | H58: 0 | I58: 0 | J58: 0 | K58: 0 | L58: 0 | M58: 0 | N58: 0 | O58: 0 | P58: 0 | Q58: 0 | R58: 0 | S58: 0 | T58: 0 | U58: 0 | V58: 0 | W58: 0 | X58: 0 | Y58: 0 | Z58: 0 | AA58: 0 | AB58: 0 | AC58: 0 | AD58: 0 | AE58: 0 | AF58: 0 | AG58: 0 | AH58: 0 | AI58: 0 | AJ58: 0 | AK58: 0
A59: Poor Total | B59: 0 | C59: 0 | D59: 0 | E59: 0 | F59: 0 | G59: 0 | H59: 0 | I59: 0 | J59: 0 | K59: 0 | L59: 0 | M59: 0 | N59: 0 | O59: 0 | P59: 0 | Q59: 0 | R59: 0 | S59: 0 | T59: 0 | U59: 0 | V59: 0 | W59: 0 | X59: 0 | Y59: 0 | Z59: 0 | AA59: 0 | AB59: 0 | AC59: 0 | AD59: 0 | AE59: 0 | AF59: 0 | AG59: 0 | AH59: 0 | AI59: 0 | AJ59: 0 | AK59: 0
A60: Probyn Log Ltd Total | B60: 586.27347 | C60: 303075.15 | D60: 2176.2471 | E60: 96.665817 | F60: 6461.399 | G60: 3688.7011 | H60: 15003.249 | I60: 11157.276 | J60: 0 | K60: 0 | L60: 1191.0183 | M60: 5366.7568 | N60: 42868.4 | O60: 358.82351 | P60: 389.68566 | Q60: 61693.174 | R60: 12800.64 | S60: 52780.316 | T60: 37744.508 | U60: 142.99348 | V60: 0 | W60: 8376.161 | X60: 20300.516 | Y60: 193838.31 | Z60: 1446.5132 | AA60: 99.921989 | AB60: 15666.662 | AC60: 3098.7783 | AD60: 19183.499 | AE60: 17171.781 | AF60: 13.96396 | AG60: 0 | AH60: 9302.9275 | AI60: 1930.8311 | AJ60: 66368.443 | AK60: 370.91042
A61: Teal Cedar Products
A62: Good
A63: 41-140 Years | B63: 7954.8438 | C63: 3365040.1 | D63: 41729.791 | E63: 1990.5012 | F63: 159126.49 | G63: 83343.613 | H63: 374959.04 | I63: 189175.11 | J63: 444.93239 | K63: 26.052086 | L63: 10213.512 | M63: 79545.991 | N63: 896834.74 | O63: 10321.466 | P63: 5501.6708 | Q63: 430681.93 | R63: 213382.34 | S63: 933753.21 | T63: 517014.41 | U63: 2407.2206 | V63: 0.15164336 | W63: 21588.494 | X63: 145421.79 | Y63: 2264249.5 | Z63: 29099.586 | AA63: 462.67173 | AB63: 59229.955 | AC63: 20171.43 | AD63: 100528.56 | AE63: 13172.278 | AF63: 132.16799 | AG63: 0 | AH63: 3181.8659 | AI63: 7539.5333 | AJ63: 203955.79 | AK63: 2308.7391
A64: 141+ Years | B64: 2977.7725 | C64: 2404459.4 | D64: 14715.522 | E64: 249.97037 | F64: 9559.1044 | G64: 5764.9343 | H64: 65647.849 | I64: 70218.708 | J64: 0 | K64: 0 | L64: 28720.817 | M64: 491.96581 | N64: 180403.38 | O64: 1272.3121 | P64: 2062.3209 | Q64: 127262.66 | R64: 66462.049 | S64: 618986 | T64: 763124.76 | U64: 574.18148 | V64: 0 | W64: 97503.225 | X64: 444.40285 | Y64: 1674357.3 | Z64: 10292.718 | AA64: 665.48123 | AB64: 101538.54 | AC64: 10960.654 | AD64: 197625.34 | AE64: 194468.52 | AF64: 2205.133 | AG64: 0 | AH64: 42742.202 | AI64: 158.39324 | AJ64: 549698.78 | AK64: 3150.4927
A65: Good Total | B65: 10932.616 | C65: 5769499.5 | D65: 56445.313 | E65: 2240.4716 | F65: 168685.6 | G65: 89108.547 | H65: 440606.88 | I65: 259393.82 | J65: 444.93239 | K65: 26.052086 | L65: 38934.329 | M65: 80037.957 | N65: 1077238.1 | O65: 11593.778 | P65: 7563.9918 | Q65: 557944.58 | R65: 279844.38 | S65: 1552739.2 | T65: 1280139.2 | U65: 2981.402 | V65: 0.15164336 | W65: 119091.72 | X65: 145866.19 | Y65: 3938606.8 | Z65: 39392.304 | AA65: 1128.153 | AB65: 160768.49 | AC65: 31132.084 | AD65: 298153.9 | AE65: 207640.79 | AF65: 2337.301 | AG65: 0 | AH65: 45924.068 | AI65: 7697.9265 | AJ65: 753654.57 | AK65: 5459.2318
A66: Medium
A67: 41-140 Years | B67: 7845.1438 | C67: 3007355.6 | D67: 31436.111 | E67: 1505.6754 | F67: 127598.37 | G67: 57604.856 | H67: 233052.73 | I67: 78037.483 | J67: 352.42002 | K67: 4585.641 | L67: 1248.4735 | M67: 155452.81 | N67: 657932.78 | O67: 5964.2625 | P67: 5262.3511 | Q67: 490922.01 | R67: 194404.21 | S67: 817399.83 | T67: 315838.83 | U67: 5825.7489 | V67: 22301.613 | W67: 4940.8254 | X67: 129362.92 | Y67: 1980996 | Z67: 21471 | AA67: 1077.1174 | AB67: 142400.21 | AC67: 57545.739 | AD67: 124494.6 | AE67: 19050.57 | AF67: 2155.9996 | AG67: 1196.681 | AH67: 1752.9148 | AI67: 19830.082 | AJ67: 368426.79 | AK67: 4000.848
A68: 141+ Years | B68: 4921.935 | C68: 3533203.5 | D68: 18611.685 | E68: 472.47846 | F68: 18007.402 | G68: 24076.623 | H68: 132714.33 | I68: 148581.78 | J68: 47.863625 | K68: 4133.5278 | L68: 10090.93 | M68: 43.769271 | N68: 337696.22 | O68: 1911.1622 | P68: 3000.8473 | Q68: 136700.75 | R68: 256796.67 | S68: 983931.54 | T68: 779836.74 | U68: 365.44129 | V68: 6812.1796 | W68: 72825.51 | X68: 790.12777 | Y68: 2238059 | Z68: 11539.996 | AA68: 1448.6093 | AB68: 152178.41 | AC68: 233851.28 | AD68: 371908.91 | AE68: 158747.88 | AF68: 131.34361 | AG68: 383.04685 | AH68: 40020.738 | AI68: 226.7201 | AJ68: 957448.33 | AK68: 5160.5272
A69: Medium Total | B69: 12767.079 | C69: 6540559.1 | D69: 50047.796 | E69: 1978.1538 | F69: 145605.77 | G69: 81681.48 | H69: 365767.06 | I69: 226619.27 | J69: 400.28364 | K69: 8719.1689 | L69: 11339.403 | M69: 155496.57 | N69: 995629 | O69: 7875.4247 | P69: 8263.1983 | Q69: 627622.76 | R69: 451200.88 | S69: 1801331.4 | T69: 1095675.6 | U69: 6191.1902 | V69: 29113.792 | W69: 77766.336 | X69: 130153.05 | Y69: 4219054.9 | Z69: 33010.996 | AA69: 2525.7267 | AB69: 294578.62 | AC69: 291397.02 | AD69: 496403.5 | AE69: 177798.46 | AF69: 2287.3432 | AG69: 1579.7279 | AH69: 41773.653 | AI69: 20056.802 | AJ69: 1325875.1 | AK69: 9161.3752
A70: Poor
A71: 41-140 Years | B71: 7026.301 | C71: 1484021.8 | D71: 19659.733 | E71: 2060.9833 | F71: 138409.12 | G71: 20440.221 | H71: 23234.506 | I71: 142631.26 | J71: 48679.069 | K71: 46400.897 | L71: 38.255018 | M71: 12087.461 | N71: 431920.78 | O71: 5615.4246 | P71: 4715.7609 | Q71: 454021.07 | R71: 20713.032 | S71: 36024.751 | T71: 211971.54 | U71: 179562.12 | V71: 83139.968 | W71: 612.32549 | X71: 22626.914 | Y71: 1008671.7 | Z71: 13299.313 | AA71: 249.55678 | AB71: 25510.935 | AC71: 1098.7099 | AD71: 2034.4141 | AE71: 5557.8937 | AF71: 5844.772 | AG71: 1753.7804 | AH71: 301.05299 | AI71: 1327.6927 | AJ71: 43429.251 | AK71: 744.99518
A72: 141+ Years | B72: 7880.0521 | C72: 3405759.3 | D72: 22264.081 | E72: 1825.0212 | F72: 201331.46 | G72: 27257.498 | H72: 98857.677 | I72: 245959.56 | J72: 28037.263 | K72: 164843.85 | L72: 407.06524 | M72: 2239.0862 | N72: 768933.46 | O72: 5046.1769 | P72: 5535.0496 | Q72: 667658.92 | R72: 82689.555 | S72: 348265.15 | T72: 773977.99 | U72: 57688.528 | V72: 456209.54 | W72: 6277.8547 | X72: 2852.1838 | Y72: 2395619.7 | Z72: 15755.188 | AA72: 519.98135 | AB72: 84418.248 | AC72: 7013.2723 | AD72: 46146.186 | AE72: 66481.179 | AF72: 10862.882 | AG72: 25583.796 | AH72: 651.36093 | AI72: 49.240777 | AJ72: 241206.16 | AK72: 1462.7166
A73: Poor Total | B73: 14906.353 | C73: 4889781.1 | D73: 41923.814 | E73: 3886.0045 | F73: 339740.58 | G73: 47697.719 | H73: 122092.18 | I73: 388590.82 | J73: 76716.332 | K73: 211244.74 | L73: 445.32026 | M73: 14326.547 | N73: 1200854.2 | O73: 10661.602 | P73: 10250.811 | Q73: 1121680 | R73: 103402.59 | S73: 384289.9 | T73: 985949.53 | U73: 237250.65 | V73: 539349.5 | W73: 6890.1802 | X73: 25479.098 | Y73: 3404291.4 | Z73: 29054.501 | AA73: 769.53813 | AB73: 109929.18 | AC73: 8111.9822 | AD73: 48180.6 | AE73: 72039.073 | AF73: 16707.654 | AG73: 27337.577 | AH73: 952.41392 | AI73: 1376.9335 | AJ73: 284635.42 | AK73: 2207.7118
A74: Teal Cedar Products Total | B74: 38606.048 | C74: 17199840 | D74: 148416.92 | E74: 8104.6299 | F74: 654031.94 | G74: 218487.75 | H74: 928466.12 | I74: 874603.91 | J74: 77561.548 | K74: 219989.97 | L74: 50719.053 | M74: 249861.08 | N74: 3273721.4 | O74: 30130.804 | P74: 26078.001 | Q74: 2307247.3 | R74: 834447.85 | S74: 3738360.5 | T74: 3361764.3 | U74: 246423.24 | V74: 568463.45 | W74: 203748.24 | X74: 301498.34 | Y74: 11561953 | Z74: 101457.8 | AA74: 4423.4178 | AB74: 565276.3 | AC74: 330641.08 | AD74: 842738.01 | AE74: 457478.32 | AF74: 21332.298 | AG74: 28917.304 | AH74: 88650.135 | AI74: 29131.662 | AJ74: 2364165.1 | AK74: 16828.319
A75: Western Canadian Timber Products Partnership
A76: Good
A77: 41-140 Years | B77: 9191.1333 | C77: 3821129.3 | D77: 43471.03 | E77: 1934.3171 | F77: 294470.46 | G77: 76334.368 | H77: 308101.52 | I77: 72899.985 | J77: 5360.2757 | K77: 727.72519 | L77: 3227.1206 | M77: 134921.04 | N77: 896042.5 | O77: 9258.1076 | P77: 6203.4701 | Q77: 939820.04 | R77: 162433.27 | S77: 826701.55 | T77: 259000.26 | U77: 34251.161 | V77: 7250.3175 | W77: 15601.625 | X77: 264646.35 | Y77: 2509704.6 | Z77: 29363.706 | AA77: 1053.3461 | AB77: 195306.59 | AC77: 19853.753 | AD77: 137981.34 | AE77: 29768.985 | AF77: 12241.866 | AG77: 40.204661 | AH77: 926.74083 | AI77: 19262.804 | AJ77: 415382.28 | AK77: 4849.2166
A78: 141+ Years | B78: 4442.9987 | C78: 3202744.6 | D78: 19851.556 | E78: 604.7519 | F78: 159096.47 | G78: 39305.874 | H78: 99971.404 | I78: 71200.495 | J78: 4681.2279 | K78: 2120.1248 | L78: 6512.0592 | M78: 9045.2735 | N78: 391932.93 | O78: 2697.7455 | P78: 2794.2497 | Q78: 472926.62 | R78: 134673.64 | S78: 690162.65 | T78: 604557.47 | U78: 2926.7874 | V78: 2782.9932 | W78: 78160.53 | X78: 14635.988 | Y78: 2000826.7 | Z78: 12679.356 | AA78: 1043.9972 | AB78: 165018.58 | AC78: 73843.495 | AD78: 302538.36 | AE78: 236160.18 | AF78: 487.40467 | AG78: 457.22876 | AH78: 29291.324 | AI78: 2188.4086 | AJ78: 809984.97 | AK78: 4474.4552
A79: Good Total | B79: 13634.132 | C79: 7023873.9 | D79: 63322.587 | E79: 2539.069 | F79: 453566.94 | G79: 115640.24 | H79: 408072.93 | I79: 144100.48 | J79: 10041.504 | K79: 2847.85 | L79: 9739.1797 | M79: 143966.31 | N79: 1287975.4 | O79: 11955.853 | P79: 8997.7197 | Q79: 1412746.7 | R79: 297106.91 | S79: 1516864.2 | T79: 863557.73 | U79: 37177.948 | V79: 10033.311 | W79: 93762.154 | X79: 279282.33 | Y79: 4510531.2 | Z79: 42043.062 | AA79: 2097.3432 | AB79: 360325.16 | AC79: 93697.248 | AD79: 440519.7 | AE79: 265929.16 | AF79: 12729.271 | AG79: 497.43342 | AH79: 30218.065 | AI79: 21451.213 | AJ79: 1225367.2 | AK79: 9323.6719
A80: Medium
A81: 41-140 Years | B81: 4227.2419 | C81: 1419006.5 | D81: 17230.21 | E81: 646.92267 | F81: 70866.911 | G81: 9875.829 | H81: 52288.235 | I81: 77664.257 | J81: 1122.4981 | K81: 2283.0782 | L81: 10.090429 | M81: 22300.611 | N81: 236411.51 | O81: 2672.6998 | P81: 2915.8027 | Q81: 489897.71 | R81: 46166.458 | S81: 235855.87 | T81: 158562 | U81: 3814.6441 | V81: 5015.0105 | W81: 112.62379 | X81: 37623.415 | Y81: 977047.73 | Z81: 11951.527 | AA81: 664.51644 | AB81: 119160.4 | AC81: 8129.9652 | AD81: 52126.158 | AE81: 23933.513 | AF81: 70.650324 | AG81: 161.02636 | AH81: 28.685106 | AI81: 1936.8571 | AJ81: 205547.25 | AK81: 2605.9836
A82: 141+ Years | B82: 2741.7293 | C82: 1800910.9 | D82: 11158.022 | E82: 422.51183 | F82: 10581.945 | G82: 14118.49 | H82: 94622.663 | I82: 164523.03 | J82: 0 | K82: 25102.365 | L82: 979.14769 | M82: 787.05563 | N82: 310714.7 | O82: 1728.1189 | P82: 1917.9339 | Q82: 128215.18 | R82: 59559.951 | S82: 455645.58 | T82: 569158.01 | U82: 481.17325 | V82: 31052.908 | W82: 9201.8214 | X82: 5.6181574 | Y82: 1253320.2 | Z82: 7816.1368 | AA82: 401.28362 | AB82: 46859.255 | AC82: 12620.246 | AD82: 91342.398 | AE82: 84701.026 | AF82: 381.45407 | AG82: 614.43539 | AH82: 357.18473 | AI82: 0 | AJ82: 236876 | AK82: 1613.7664
A83: Medium Total | B83: 6968.9712 | C83: 3219917.4 | D83: 28388.232 | E83: 1069.4345 | F83: 81448.856 | G83: 23994.319 | H83: 146910.9 | I83: 242187.29 | J83: 1122.4981 | K83: 27385.444 | L83: 989.23812 | M83: 23087.666 | N83: 547126.21 | O83: 4400.8187 | P83: 4833.7366 | Q83: 618112.89 | R83: 105726.41 | S83: 691501.45 | T83: 727720.01 | U83: 4295.8174 | V83: 36067.918 | W83: 9314.4452 | X83: 37629.033 | Y83: 2230368 | Z83: 19767.664 | AA83: 1065.8001 | AB83: 166019.65 | AC83: 20750.211 | AD83: 143468.56 | AE83: 108634.54 | AF83: 452.1044 | AG83: 775.46175 | AH83: 385.86984 | AI83: 1936.8571 | AJ83: 442423.25 | AK83: 4219.75
A84: Poor
A85: 41-140 Years | B85: 2137.3784 | C85: 378494.17 | D85: 7082.8868 | E85: 526.93077 | F85: 44988.699 | G85: 3879.433 | H85: 17360.145 | I85: 5946.0634 | J85: 22539.739 | K85: 116.49715 | L85: 2.0229158 | M85: 6946.9719 | N85: 101779.57 | O85: 1787.2548 | P85: 1419.6067 | Q85: 126291.91 | R85: 5230.766 | S85: 25918.709 | T85: 19391.931 | U85: 68210.808 | V85: 1055.5838 | W85: 136.25918 | X85: 3152.507 | Y85: 249388.48 | Z85: 4659.7366 | AA85: 190.84099 | AB85: 14267.299 | AC85: 595.70656 | AD85: 4565.9599 | AE85: 3326.1951 | AF85: 3997.4754 | AG85: 44.361068 | AH85: 0 | AI85: 529.12478 | AJ85: 27326.122 | AK85: 635.89536
A86: 141+ Years | B86: 3404.8354 | C86: 2113899.8 | D86: 10153.856 | E86: 722.95819 | F86: 46657.075 | G86: 14650.458 | H86: 185388.75 | I86: 187705.33 | J86: 3479.3774 | K86: 40369.812 | L86: 2259.6132 | M86: 3247.7322 | N86: 483758.15 | O86: 2136.2038 | P86: 2301.6484 | Q86: 219600.91 | R86: 45360.469 | S86: 533648.62 | T86: 514251.74 | U86: 13143.569 | V86: 65563.074 | W86: 15810.331 | X86: 461.25852 | Y86: 1407840 | Z86: 6960.9004 | AA86: 380.22885 | AB86: 39159.227 | AC86: 9217.5299 | AD86: 72501.18 | AE86: 87473.397 | AF86: 2946.9228 | AG86: 8003.2666 | AH86: 2942.3317 | AI86: 57.881732 | AJ86: 222301.74 | AK86: 1056.7515
A87: Poor Total | B87: 5542.2139 | C87: 2492394 | D87: 17236.743 | E87: 1249.889 | F87: 91645.774 | G87: 18529.891 | H87: 202748.89 | I87: 193651.39 | J87: 26019.116 | K87: 40486.309 | L87: 2261.6362 | M87: 10194.704 | N87: 585537.72 | O87: 3923.4586 | P87: 3721.2551 | Q87: 345892.82 | R87: 50591.235 | S87: 559567.32 | T87: 533643.67 | U87: 81354.377 | V87: 66618.657 | W87: 15946.59 | X87: 3613.7655 | Y87: 1657228.4 | Z87: 11620.637 | AA87: 571.06983 | AB87: 53426.526 | AC87: 9813.2364 | AD87: 77067.14 | AE87: 90799.593 | AF87: 6944.3983 | AG87: 8047.6277 | AH87: 2942.3317 | AI87: 587.00651 | AJ87: 249627.86 | AK87: 1692.6469
A88: Western Canadian Timber Products Total | B88: 26145.317 | C88: 12736185 | D88: 108947.56 | E88: 4858.3925 | F88: 626661.57 | G88: 158164.45 | H88: 757732.72 | I88: 579939.16 | J88: 37183.118 | K88: 70719.602 | L88: 12990.054 | M88: 177248.68 | N88: 2420639.4 | O88: 20280.13 | P88: 17552.711 | Q88: 2376752.4 | R88: 453424.55 | S88: 2767933 | T88: 2124921.4 | U88: 122828.14 | V88: 112719.89 | W88: 119023.19 | X88: 320525.13 | Y88: 8398127.7 | Z88: 73431.362 | AA88: 3734.2131 | AB88: 579771.34 | AC88: 124260.7 | AD88: 661055.39 | AE88: 465363.29 | AF88: 20125.774 | AG88: 9320.5228 | AH88: 33546.267 | AI88: 23975.076 | AJ88: 1917418.4 | AK88: 15236.069

Sheet Comparison
A2: October 31, 2016 Licensee - Economic Zones | B2: 2016 Total THLB Area (ha) | C2: Total THLB Area Difference +/-from Benchmark | D2: 2016 Total THLB Vol (m3) | E2: Total THLB Vol Difference +/-from Benchmark | F2: Slope 0-30 % | J2: Slope 31-69% | N2: Slope > 69%
F3: Slope THLB Area (ha) | G3: THLB Area Difference +/-from Benchmark | H3: Slope THLB Volume m3 | I3: THLB Vol Difference +/-from Benchmark | J3: Slope THLB Area (ha) | K3: THLB Area Difference +/- from Benchmark | L3: Slope THLB Volume m3 | M3: THLB Vol Difference +/- from Benchmark | N3: Slope THLB Area (ha) | O3: THLB Area Difference +/- from Benchmark | P3: Slope THLB Volume | Q3: THLB Vol Difference +/- from Benchmark
F4: CFLB Area (ha) | H4: CFLB Volume (m3) | J4: THLBAREA | L4: THLB_RVTOT | N4: Sum of THLBAREA | P4: Sum of THLB_RVTOT
A5: B.C. Timber Sales
A6: Good - Economic Zone
A7: 41-140 Years | B7: 6536.8612 | C7: =B7-'Benchmark 2015'!D20 -> -8227.8918 | D7: 2591234.3 | E7: =D7-'Benchmark 2015'!E20 -> -3195280.1 | F7: 2009.4736 | G7: =F7-'Benchmark 2015'!G20 -> -1499.4345 | H7: 1082622 | I7: =H7-'Benchmark 2015'!P20 -> -366341.98 | J7: 3481.8178 | K7: =J7-'Benchmark 2015'!S20 -> -5295.7049 | L7: 1168908.8 | M7: =L7-'Benchmark 2015'!AB20 -> -2229127.9 | N7: 1045.5698 | O7: =N7-'Benchmark 2015'!AE20 -> -1432.7525 | P7: 339703.45 | Q7: =P7-'Benchmark 2015'!AN20 -> -599810.14
A8: 141+ Years | B8: 1665.5223 | C8: =B8-'Benchmark 2015'!D21 -> -1569.1839 | D8: 1023084.1 | E8: =D8-'Benchmark 2015'!E21 -> -999960.28 | F8: 300.68272 | G8: =F8-'Benchmark 2015'!G21 -> -107.118 | H8: 192914.43 | I8: =H8-'Benchmark 2015'!P21 -> -58986.08 | J8: 820.09712 | K8: =J8-'Benchmark 2015'!S21 -> -1035.7462 | L8: 489606.16 | M8: =L8-'Benchmark 2015'!AB21 -> -703250.53 | N8: 544.74243 | O8: =N8-'Benchmark 2015'!AE21 -> -426.31972 | P8: 340563.53 | Q8: =P8-'Benchmark 2015'!AN21 -> -237723.67
A9: Good - Economic Zone Total | B9: 8202.3835 | C9: =B9-'Benchmark 2015'!D22 -> -9797.0758 | D9: 3614318.4 | E9: =D9-'Benchmark 2015'!E22 -> -4195240.3 | F9: 2310.1563 | G9: =F9-'Benchmark 2015'!G22 -> -1606.5525 | H9: 1275536.5 | I9: =H9-'Benchmark 2015'!P22 -> -425328.06 | J9: 4301.915 | K9: =J9-'Benchmark 2015'!S22 -> -6331.4511 | L9: 1658515 | M9: =L9-'Benchmark 2015'!AB22 -> -2932378.5 | N9: 1590.3122 | O9: =N9-'Benchmark 2015'!AE22 -> -1859.0722 | P9: 680266.98 | Q9: =P9-'Benchmark 2015'!AN22 -> -837533.81
A10: Medium - Economic Zone | C10: =B10-'Benchmark 2015'!D23 -> 0 | E10: =D10-'Benchmark 2015'!E23 -> 0 | G10: =F10-'Benchmark 2015'!G23 -> 0 | I10: =H10-'Benchmark 2015'!P23 -> 0 | K10: =J10-'Benchmark 2015'!S23 -> 0 | M10: =L10-'Benchmark 2015'!AB23 -> 0 | O10: =N10-'Benchmark 2015'!AE23 -> 0 | Q10: =P10-'Benchmark 2015'!AN23 -> 0
A11: 41-140 Years | B11: 8733.9418 | C11: =B11-'Benchmark 2015'!D24 -> 541.28301 | D11: 2470633.4 | E11: =D11-'Benchmark 2015'!E24 -> -100730.11 | F11: 1408.3644 | G11: =F11-'Benchmark 2015'!G24 -> 58.135498 | H11: 342219.72 | I11: =H11-'Benchmark 2015'!P24 -> -60490.941 | J11: 5842.7011 | K11: =J11-'Benchmark 2015'!S24 -> 246.82139 | L11: 1666711.7 | M11: =L11-'Benchmark 2015'!AB24 -> -87270.758 | N11: 1482.8763 | O11: =N11-'Benchmark 2015'!AE24 -> 236.32613 | P11: 461702.04 | Q11: =P11-'Benchmark 2015'!AN24 -> 47031.592
A12: 141+ Years | B12: 3890.821 | C12: =B12-'Benchmark 2015'!D25 -> -462.6474 | D12: 2494359.8 | E12: =D12-'Benchmark 2015'!E25 -> -475136.23 | F12: 293.73982 | G12: =F12-'Benchmark 2015'!G25 -> -15.925926 | H12: 180388.33 | I12: =H12-'Benchmark 2015'!P25 -> -34061.188 | J12: 2245.8927 | K12: =J12-'Benchmark 2015'!S25 -> -501.77262 | L12: 1466927.9 | M12: =L12-'Benchmark 2015'!AB25 -> -404791.3 | N12: 1351.1884 | O12: =N12-'Benchmark 2015'!AE25 -> 55.051152 | P12: 847043.52 | Q12: =P12-'Benchmark 2015'!AN25 -> -36283.738
A13: Medium - Economic Zone Total | B13: 12624.763 | C13: =B13-'Benchmark 2015'!D26 -> 78.635615 | D13: 4964993.2 | E13: =D13-'Benchmark 2015'!E26 -> -575866.33 | F13: 1702.1042 | G13: =F13-'Benchmark 2015'!G26 -> 42.209572 | H13: 522608.04 | I13: =H13-'Benchmark 2015'!P26 -> -94552.129 | J13: 8088.5938 | K13: =J13-'Benchmark 2015'!S26 -> -254.95124 | L13: 3133639.6 | M13: =L13-'Benchmark 2015'!AB26 -> -492062.06 | N13: 2834.0648 | O13: =N13-'Benchmark 2015'!AE26 -> 291.37728 | P13: 1308745.6 | Q13: =P13-'Benchmark 2015'!AN26 -> 10747.853
A14: Poor - Economic Zone | C14: =B14-'Benchmark 2015'!D27 -> 0 | E14: =D14-'Benchmark 2015'!E27 -> 0 | G14: =F14-'Benchmark 2015'!G27 -> 0 | I14: =H14-'Benchmark 2015'!P27 -> 0 | K14: =J14-'Benchmark 2015'!S27 -> 0 | M14: =L14-'Benchmark 2015'!AB27 -> 0 | O14: =N14-'Benchmark 2015'!AE27 -> 0 | Q14: =P14-'Benchmark 2015'!AN27 -> 0
A15: 41-140 Years | B15: 1864.8389 | C15: =B15-'Benchmark 2015'!D28 -> 3.9950873 | D15: 697211.7 | E15: =D15-'Benchmark 2015'!E28 -> 1925.3366 | F15: 661.12932 | G15: =F15-'Benchmark 2015'!G28 -> -0.021263275 | H15: 331469.97 | I15: =H15-'Benchmark 2015'!P28 -> 12.516066 | J15: 1099.2441 | K15: =J15-'Benchmark 2015'!S28 -> 4.0042433 | L15: 342264.42 | M15: =L15-'Benchmark 2015'!AB28 -> 1909.4337 | N15: 104.46552 | O15: =N15-'Benchmark 2015'!AE28 -> 0.012107344 | P15: 23477.312 | Q15: =P15-'Benchmark 2015'!AN28 -> 3.3868793
A16: 141+ Years | B16: 2082.2526 | C16: =B16-'Benchmark 2015'!D29 -> -209.27455 | D16: 1087872.2 | E16: =D16-'Benchmark 2015'!E29 -> -117306.26 | F16: 357.8978 | G16: =F16-'Benchmark 2015'!G29 -> -77.248902 | H16: 208095.28 | I16: =H16-'Benchmark 2015'!P29 -> -45001.514 | J16: 1599.9732 | K16: =J16-'Benchmark 2015'!S29 -> -130.65341 | L16: 823732.9 | M16: =L16-'Benchmark 2015'!AB29 -> -71506.758 | N16: 124.3816 | O16: =N16-'Benchmark 2015'!AE29 -> -1.3722357 | P16: 56044.07 | Q16: =P16-'Benchmark 2015'!AN29 -> -797.98636
A17: Poor - Economic Zone Total | B17: 3947.0915 | C17: =B17-'Benchmark 2015'!D30 -> -205.27946 | D17: 1785083.9 | E17: =D17-'Benchmark 2015'!E30 -> -115380.92 | F17: 1019.0271 | G17: =F17-'Benchmark 2015'!G30 -> -77.270165 | H17: 539565.24 | I17: =H17-'Benchmark 2015'!P30 -> -44988.997 | J17: 2699.2173 | K17: =J17-'Benchmark 2015'!S30 -> -126.64917 | L17: 1165997.3 | M17: =L17-'Benchmark 2015'!AB30 -> -69597.324 | N17: 228.84711 | O17: =N17-'Benchmark 2015'!AE30 -> -1.3601284 | P17: 79521.382 | Q17: =P17-'Benchmark 2015'!AN30 -> -794.59948
A18: B.C. Timber Sales Total | B18: 24774.238 | C18: =B18-'Benchmark 2015'!D31 -> -9923.7196 | D18: 10364396 | E18: =D18-'Benchmark 2015'!E31 -> -4886487.6 | F18: 5031.2876 | G18: =F18-'Benchmark 2015'!G31 -> -1641.6131 | H18: 2337709.8 | I18: =H18-'Benchmark 2015'!P31 -> -564869.18 | J18: 15089.726 | K18: =J18-'Benchmark 2015'!S31 -> -6713.0515 | L18: 5958151.9 | M18: =L18-'Benchmark 2015'!AB31 -> -3494037.9 | N18: 4653.2241 | O18: =N18-'Benchmark 2015'!AE31 -> -1569.0551 | P18: 2068533.9 | Q18: =P18-'Benchmark 2015'!AN31 -> -827580.56
A19: Lakeside Pacific Forest Products
A20: Good - Economic Zone
A21: 41-140 Years | B21: 6863.6157 | C21: =B21-'Benchmark 2015'!D62 -> -73.835247 | D21: 2674580.4 | E21: =D21-'Benchmark 2015'!E62 -> 153637.34 | F21: 1176.0194 | G21: =F21-'Benchmark 2015'!G62 -> 22.192898 | H21: 511723 | I21: =H21-'Benchmark 2015'!P62 -> 38016.614 | J21: 4794.7746 | K21: =J21-'Benchmark 2015'!S62 -> -129.16147 | L21: 1882550.8 | M21: =L21-'Benchmark 2015'!AB62 -> 102608.3 | N21: 892.82167 | O21: =N21-'Benchmark 2015'!AE62 -> 33.133323 | P21: 280306.58 | Q21: =P21-'Benchmark 2015'!AN62 -> 13012.429
A22: 141+ Years | B22: 5167.6642 | C22: =B22-'Benchmark 2015'!D63 -> 704.83371 | D22: 3762870 | E22: =D22-'Benchmark 2015'!E63 -> 643906.22 | F22: 387.90378 | G22: =F22-'Benchmark 2015'!G63 -> -9.3415913 | H22: 270089.08 | I22: =H22-'Benchmark 2015'!P63 -> -4582.4584 | J22: 3322.1155 | K22: =J22-'Benchmark 2015'!S63 -> 418.33945 | L22: 2418396.7 | M22: =L22-'Benchmark 2015'!AB63 -> 383688.79 | N22: 1457.6449 | O22: =N22-'Benchmark 2015'!AE63 -> 295.83585 | P22: 1074384.2 | Q22: =P22-'Benchmark 2015'!AN63 -> 264799.89
A23: Good - Economic Zone Total | B23: 12031.28 | C23: =B23-'Benchmark 2015'!D64 -> 630.99846 | D23: 6437450.4 | E23: =D23-'Benchmark 2015'!E64 -> 797543.56 | F23: 1563.9232 | G23: =F23-'Benchmark 2015'!G64 -> 12.851307 | H23: 781812.08 | I23: =H23-'Benchmark 2015'!P64 -> 33434.156 | J23: 8116.8901 | K23: =J23-'Benchmark 2015'!S64 -> 289.17798 | L23: 4300947.5 | M23: =L23-'Benchmark 2015'!AB64 -> 486297.09 | N23: 2350.4666 | O23: =N23-'Benchmark 2015'!AE64 -> 328.96918 | P23: 1354690.8 | Q23: =P23-'Benchmark 2015'!AN64 -> 277812.32
A24: Medium - Economic Zone | C24: =B24-'Benchmark 2015'!D65 -> 0 | E24: =D24-'Benchmark 2015'!E65 -> 0 | G24: =F24-'Benchmark 2015'!G65 -> 0 | I24: =H24-'Benchmark 2015'!P65 -> 0 | K24: =J24-'Benchmark 2015'!S65 -> 0 | M24: =L24-'Benchmark 2015'!AB65 -> 0 | O24: =N24-'Benchmark 2015'!AE65 -> 0 | Q24: =P24-'Benchmark 2015'!AN65 -> 0
A25: 41-140 Years | B25: 0.20071664 | C25: =B25-'Benchmark 2015'!D66 -> -7.1173623e-13 | D25: 56.777117 | E25: =D25-'Benchmark 2015'!E66 -> -2.0133228e-10 | F25: 0.13680626 | G25: =F25-'Benchmark 2015'!G66 -> -2.4555913e-12 | H25: 38.69866 | I25: =H25-'Benchmark 2015'!P66 -> -6.9461947e-10 | J25: 0.063910381 | K25: =J25-'Benchmark 2015'!S66 -> 1.7438551e-12 | L25: 18.078457 | M25: =L25-'Benchmark 2015'!AB66 -> 4.9328719e-10 | N25: 0 | O25: =N25-'Benchmark 2015'!AE66 -> 0 | P25: 0 | Q25: =P25-'Benchmark 2015'!AN66 -> 0
A26: 141+ Years | B26: 26.095015 | C26: =B26-'Benchmark 2015'!D67 -> 2.9150323e-05 | D26: 17650.533 | E26: =D26-'Benchmark 2015'!E67 -> 0.018823265 | F26: 4.4396101 | G26: =F26-'Benchmark 2015'!G67 -> 7.8728302e-06 | H26: 2530.6919 | I26: =H26-'Benchmark 2015'!P67 -> 0.0046045101 | J26: 17.353934 | K26: =J26-'Benchmark 2015'!S67 -> 1.7470969e-05 | L26: 12449.525 | M26: =L26-'Benchmark 2015'!AB67 -> 0.012159864 | N26: 4.3014703 | O26: =N26-'Benchmark 2015'!AE67 -> 3.8065236e-06 | P26: 2670.3161 | Q26: =P26-'Benchmark 2015'!AN67 -> 0.0020588913
A27: Medium - Economic Zone Total | B27: 26.295731 | C27: =B27-'Benchmark 2015'!D68 -> 2.9150322e-05 | D27: 17707.31 | E27: =D27-'Benchmark 2015'!E68 -> 0.018823265 | F27: 4.5764164 | G27: =F27-'Benchmark 2015'!G68 -> 7.8728278e-06 | H27: 2569.3906 | I27: =H27-'Benchmark 2015'!P68 -> 0.0046045094 | J27: 17.417845 | K27: =J27-'Benchmark 2015'!S68 -> 1.747097e-05 | L27: 12467.603 | M27: =L27-'Benchmark 2015'!AB68 -> 0.012159864 | N27: 4.3014703 | O27: =N27-'Benchmark 2015'!AE68 -> 3.8065236e-06 | P27: 2670.3161 | Q27: =P27-'Benchmark 2015'!AN68 -> 0.0020588913
A28: Poor - Economic Zone | C28: =B28-'Benchmark 2015'!D69 -> 0 | E28: =D28-'Benchmark 2015'!E69 -> 0 | G28: =F28-'Benchmark 2015'!G69 -> 0 | I28: =H28-'Benchmark 2015'!P69 -> 0 | K28: =J28-'Benchmark 2015'!S69 -> 0 | M28: =L28-'Benchmark 2015'!AB69 -> 0 | O28: =N28-'Benchmark 2015'!AE69 -> 0 | Q28: =P28-'Benchmark 2015'!AN69 -> 0
A29: 41-140 Years | B29: 0 | C29: =B29-'Benchmark 2015'!D70 -> 0 | D29: 0 | E29: =D29-'Benchmark 2015'!E70 -> 0 | F29: 0 | G29: =F29-'Benchmark 2015'!G70 -> 0 | H29: 0 | I29: =H29-'Benchmark 2015'!P70 -> 0 | J29: 0 | K29: =J29-'Benchmark 2015'!S70 -> 0 | L29: 0 | M29: =L29-'Benchmark 2015'!AB70 -> 0 | N29: 0 | O29: =N29-'Benchmark 2015'!AE70 -> 0 | P29: 0 | Q29: =P29-'Benchmark 2015'!AN70 -> 0
A30: 141+ Years | B30: 0 | C30: =B30-'Benchmark 2015'!D71 -> 0 | D30: 0 | E30: =D30-'Benchmark 2015'!E71 -> 0 | F30: 0 | G30: =F30-'Benchmark 2015'!G71 -> 0 | H30: 0 | I30: =H30-'Benchmark 2015'!P71 -> 0 | J30: 0 | K30: =J30-'Benchmark 2015'!S71 -> 0 | L30: 0 | M30: =L30-'Benchmark 2015'!AB71 -> 0 | N30: 0 | O30: =N30-'Benchmark 2015'!AE71 -> 0 | P30: 0 | Q30: =P30-'Benchmark 2015'!AN71 -> 0
A31: Poor - Economic Zone Total | B31: 0 | C31: =B31-'Benchmark 2015'!D72 -> 0 | D31: 0 | E31: =D31-'Benchmark 2015'!E72 -> 0 | F31: 0 | G31: =F31-'Benchmark 2015'!G72 -> 0 | H31: 0 | I31: =H31-'Benchmark 2015'!P72 -> 0 | J31: 0 | K31: =J31-'Benchmark 2015'!S72 -> 0 | L31: 0 | M31: =L31-'Benchmark 2015'!AB72 -> 0 | N31: 0 | O31: =N31-'Benchmark 2015'!AE72 -> 0 | P31: 0 | Q31: =P31-'Benchmark 2015'!AN72 -> 0
A32: Lakeside Pacific Forest Products Total | B32: 12057.576 | C32: =B32-'Benchmark 2015'!D73 -> 630.99849 | D32: 6455157.7 | E32: =D32-'Benchmark 2015'!E73 -> 797543.58 | F32: 1568.4996 | G32: =F32-'Benchmark 2015'!G73 -> 12.851315 | H32: 784381.47 | I32: =H32-'Benchmark 2015'!P73 -> 33434.16 | J32: 8134.3079 | K32: =J32-'Benchmark 2015'!S73 -> 289.178 | L32: 4313415.1 | M32: =L32-'Benchmark 2015'!AB73 -> 486297.1 | N32: 2354.7681 | O32: =N32-'Benchmark 2015'!AE73 -> 328.96918 | P32: 1357361.1 | Q32: =P32-'Benchmark 2015'!AN73 -> 277812.32
A33: Probyn Log Ltd
A34: Good - Economic Zone
A35: 41-140 Years | B35: 389.05691 | C35: =B35-'Benchmark 2015'!D90 -> 106.88042 | D35: 130787.04 | E35: =D35-'Benchmark 2015'!E90 -> -44687.588 | F35: 68.039261 | G35: =F35-'Benchmark 2015'!G90 -> -8.2591302 | H35: 22103.591 | I35: =H35-'Benchmark 2015'!P90 -> -23287.339 | J35: 285.19476 | K35: =J35-'Benchmark 2015'!S90 -> 97.710262 | L35: 99665.073 | M35: =L35-'Benchmark 2015'!AB90 -> -20469.889 | N35: 35.822886 | O35: =N35-'Benchmark 2015'!AE90 -> 17.429288 | P35: 9018.3735 | Q35: =P35-'Benchmark 2015'!AN90 -> -930.35956
A36: 141+ Years | B36: 197.21656 | C36: =B36-'Benchmark 2015'!D91 -> 6.776998 | D36: 172288.11 | E36: =D36-'Benchmark 2015'!E91 -> -5264.6813 | F36: 28.626556 | G36: =F36-'Benchmark 2015'!G91 -> 27.487178 | H36: 20764.809 | I36: =H36-'Benchmark 2015'!P91 -> 19994.216 | J36: 104.4909 | K36: =J36-'Benchmark 2015'!S91 -> -16.746434 | L36: 94173.236 | M36: =L36-'Benchmark 2015'!AB91 -> -15191.469 | N36: 64.099103 | O36: =N36-'Benchmark 2015'!AE91 -> -3.9637464 | P36: 57350.069 | Q36: =P36-'Benchmark 2015'!AN91 -> -10067.429
A37: Good - Economic Zone Total | B37: 586.27347 | C37: =B37-'Benchmark 2015'!D92 -> 113.65742 | D37: 303075.15 | E37: =D37-'Benchmark 2015'!E92 -> -49952.269 | F37: 96.665817 | G37: =F37-'Benchmark 2015'!G92 -> 19.228048 | H37: 42868.4 | I37: =H37-'Benchmark 2015'!P92 -> -3293.123 | J37: 389.68566 | K37: =J37-'Benchmark 2015'!S92 -> 80.963828 | L37: 193838.31 | M37: =L37-'Benchmark 2015'!AB92 -> -35661.358 | N37: 99.921989 | O37: =N37-'Benchmark 2015'!AE92 -> 13.465541 | P37: 66368.443 | Q37: =P37-'Benchmark 2015'!AN92 -> -10997.788
A38: Medium - Economic Zone | C38: =B38-'Benchmark 2015'!D93 -> 0 | E38: =D38-'Benchmark 2015'!E93 -> 0 | G38: =F38-'Benchmark 2015'!G93 -> 0 | I38: =H38-'Benchmark 2015'!P93 -> 0 | K38: =J38-'Benchmark 2015'!S93 -> 0 | M38: =L38-'Benchmark 2015'!AB93 -> 0 | O38: =N38-'Benchmark 2015'!AE93 -> 0 | Q38: =P38-'Benchmark 2015'!AN93 -> 0
A39: 41-140 Years | B39: 0 | C39: =B39-'Benchmark 2015'!D94 -> 0 | D39: 0 | E39: =D39-'Benchmark 2015'!E94 -> 0 | F39: 0 | G39: =F39-'Benchmark 2015'!G94 -> 0 | H39: 0 | I39: =H39-'Benchmark 2015'!P94 -> 0 | J39: 0 | K39: =J39-'Benchmark 2015'!S94 -> 0 | L39: 0 | M39: =L39-'Benchmark 2015'!AB94 -> 0 | N39: 0 | O39: =N39-'Benchmark 2015'!AE94 -> 0 | P39: 0 | Q39: =P39-'Benchmark 2015'!AN94 -> 0
A40: 141+ Years | B40: 0 | C40: =B40-'Benchmark 2015'!D95 -> 0 | D40: 0 | E40: =D40-'Benchmark 2015'!E95 -> 0 | F40: 0 | G40: =F40-'Benchmark 2015'!G95 -> 0 | H40: 0 | I40: =H40-'Benchmark 2015'!P95 -> 0 | J40: 0 | K40: =J40-'Benchmark 2015'!S95 -> 0 | L40: 0 | M40: =L40-'Benchmark 2015'!AB95 -> 0 | N40: 0 | O40: =N40-'Benchmark 2015'!AE95 -> 0 | P40: 0 | Q40: =P40-'Benchmark 2015'!AN95 -> 0
A41: Medium - Economic Zone Total | B41: 0 | C41: =B41-'Benchmark 2015'!D96 -> 0 | D41: 0 | E41: =D41-'Benchmark 2015'!E96 -> 0 | F41: 0 | G41: =F41-'Benchmark 2015'!G96 -> 0 | H41: 0 | I41: =H41-'Benchmark 2015'!P96 -> 0 | J41: 0 | K41: =J41-'Benchmark 2015'!S96 -> 0 | L41: 0 | M41: =L41-'Benchmark 2015'!AB96 -> 0 | N41: 0 | O41: =N41-'Benchmark 2015'!AE96 -> 0 | P41: 0 | Q41: =P41-'Benchmark 2015'!AN96 -> 0
A42: Poor - Economic Zone | C42: =B42-'Benchmark 2015'!D97 -> 0 | E42: =D42-'Benchmark 2015'!E97 -> 0 | G42: =F42-'Benchmark 2015'!G97 -> 0 | I42: =H42-'Benchmark 2015'!P97 -> 0 | K42: =J42-'Benchmark 2015'!S97 -> 0 | M42: =L42-'Benchmark 2015'!AB97 -> 0 | O42: =N42-'Benchmark 2015'!AE97 -> 0 | Q42: =P42-'Benchmark 2015'!AN97 -> 0
A43: 41-140 Years | B43: 0 | C43: =B43-'Benchmark 2015'!D98 -> 0 | D43: 0 | E43: =D43-'Benchmark 2015'!E98 -> 0 | F43: 0 | G43: =F43-'Benchmark 2015'!G98 -> 0 | H43: 0 | I43: =H43-'Benchmark 2015'!P98 -> 0 | J43: 0 | K43: =J43-'Benchmark 2015'!S98 -> 0 | L43: 0 | M43: =L43-'Benchmark 2015'!AB98 -> 0 | N43: 0 | O43: =N43-'Benchmark 2015'!AE98 -> 0 | P43: 0 | Q43: =P43-'Benchmark 2015'!AN98 -> 0
A44: 141+ Years | B44: 0 | C44: =B44-'Benchmark 2015'!D99 -> 0 | D44: 0 | E44: =D44-'Benchmark 2015'!E99 -> 0 | F44: 0 | G44: =F44-'Benchmark 2015'!G99 -> 0 | H44: 0 | I44: =H44-'Benchmark 2015'!P99 -> 0 | J44: 0 | K44: =J44-'Benchmark 2015'!S99 -> 0 | L44: 0 | M44: =L44-'Benchmark 2015'!AB99 -> 0 | N44: 0 | O44: =N44-'Benchmark 2015'!AE99 -> 0 | P44: 0 | Q44: =P44-'Benchmark 2015'!AN99 -> 0
A45: Poor - Economic Zone Total | B45: 0 | C45: =B45-'Benchmark 2015'!D100 -> 0 | D45: 0 | E45: =D45-'Benchmark 2015'!E100 -> 0 | F45: 0 | G45: =F45-'Benchmark 2015'!G100 -> 0 | H45: 0 | I45: =H45-'Benchmark 2015'!P100 -> 0 | J45: 0 | K45: =J45-'Benchmark 2015'!S100 -> 0 | L45: 0 | M45: =L45-'Benchmark 2015'!AB100 -> 0 | N45: 0 | O45: =N45-'Benchmark 2015'!AE100 -> 0 | P45: 0 | Q45: =P45-'Benchmark 2015'!AN100 -> 0
A46: Probyn Log Ltd Total | B46: 586.27347 | C46: =B46-'Benchmark 2015'!D101 -> 113.65742 | D46: 303075.15 | E46: =D46-'Benchmark 2015'!E101 -> -49952.269 | F46: 96.665817 | G46: =F46-'Benchmark 2015'!G101 -> 19.228048 | H46: 42868.4 | I46: =H46-'Benchmark 2015'!P101 -> -3293.123 | J46: 389.68566 | K46: =J46-'Benchmark 2015'!S101 -> 80.963828 | L46: 193838.31 | M46: =L46-'Benchmark 2015'!AB101 -> -35661.358 | N46: 99.921989 | O46: =N46-'Benchmark 2015'!AE101 -> 13.465541 | P46: 66368.443 | Q46: =P46-'Benchmark 2015'!AN101 -> -10997.788
A47: Teal Cedar Products
A48: Good - Economic Zone
A49: 41-140 Years | B49: 7954.8438 | C49: =B49-'Benchmark 2015'!D146 -> -102.28468 | D49: 3365040.1 | E49: =D49-'Benchmark 2015'!E146 -> -61390.664 | F49: 1990.5012 | G49: =F49-'Benchmark 2015'!G146 -> -5.0881434 | H49: 896834.74 | I49: =H49-'Benchmark 2015'!P146 -> -39145.64 | J49: 5501.6708 | K49: =J49-'Benchmark 2015'!S146 -> -72.94027 | L49: 2264249.5 | M49: =L49-'Benchmark 2015'!AB146 -> -15884.731 | N49: 462.67173 | O49: =N49-'Benchmark 2015'!AE146 -> -24.256264 | P49: 203955.79 | Q49: =P49-'Benchmark 2015'!AN146 -> -6360.2925
A50: 141+ Years | B50: 2977.7725 | C50: =B50-'Benchmark 2015'!D147 -> 983.2152 | D50: 2404459.4 | E50: =D50-'Benchmark 2015'!E147 -> 699247 | F50: 249.97037 | G50: =F50-'Benchmark 2015'!G147 -> 67.753546 | H50: 180403.38 | I50: =H50-'Benchmark 2015'!P147 -> 52490.185 | J50: 2062.3209 | K50: =J50-'Benchmark 2015'!S147 -> 662.442 | L50: 1674357.3 | M50: =L50-'Benchmark 2015'!AB147 -> 473157.9 | N50: 665.48123 | O50: =N50-'Benchmark 2015'!AE147 -> 253.01966 | P50: 549698.78 | Q50: =P50-'Benchmark 2015'!AN147 -> 173598.92
A51: Good - Economic Zone Total | B51: 10932.616 | C51: =B51-'Benchmark 2015'!D148 -> 880.93053 | D51: 5769499.5 | E51: =D51-'Benchmark 2015'!E148 -> 637856.34 | F51: 2240.4716 | G51: =F51-'Benchmark 2015'!G148 -> 62.665402 | H51: 1077238.1 | I51: =H51-'Benchmark 2015'!P148 -> 13344.545 | J51: 7563.9918 | K51: =J51-'Benchmark 2015'!S148 -> 589.50173 | L51: 3938606.8 | M51: =L51-'Benchmark 2015'!AB148 -> 457273.17 | N51: 1128.153 | O51: =N51-'Benchmark 2015'!AE148 -> 228.7634 | P51: 753654.57 | Q51: =P51-'Benchmark 2015'!AN148 -> 167238.63
A52: Medium - Economic Zone
A53: 41-140 Years | B53: 7845.1438 | C53: =B53-'Benchmark 2015'!D150 -> 17.730896 | D53: 3007355.6 | E53: =D53-'Benchmark 2015'!E150 -> -65616.201 | F53: 1505.6754 | G53: =F53-'Benchmark 2015'!G150 -> 21.317767 | H53: 657932.78 | I53: =H53-'Benchmark 2015'!P150 -> 15118.675 | J53: 5262.3511 | K53: =J53-'Benchmark 2015'!S150 -> -71.694318 | L53: 1980996 | M53: =L53-'Benchmark 2015'!AB150 -> -95536.398 | N53: 1077.1174 | O53: =N53-'Benchmark 2015'!AE150 -> 68.107447 | P53: 368426.79 | Q53: =P53-'Benchmark 2015'!AN150 -> 14801.522
A54: 141+ Years | B54: 4921.935 | C54: =B54-'Benchmark 2015'!D151 -> -84.647861 | D54: 3533203.5 | E54: =D54-'Benchmark 2015'!E151 -> -63847.52 | F54: 472.47846 | G54: =F54-'Benchmark 2015'!G151 -> -3.4863093 | H54: 337696.22 | I54: =H54-'Benchmark 2015'!P151 -> -2338.2485 | J54: 3000.8473 | K54: =J54-'Benchmark 2015'!S151 -> -68.583051 | L54: 2238059 | M54: =L54-'Benchmark 2015'!AB151 -> -51200.625 | N54: 1448.6093 | O54: =N54-'Benchmark 2015'!AE151 -> -12.578501 | P54: 957448.33 | Q54: =P54-'Benchmark 2015'!AN151 -> -10308.646
A55: Medium - Economic Zone Total | B55: 12767.079 | C55: =B55-'Benchmark 2015'!D152 -> -66.916966 | D55: 6540559.1 | E55: =D55-'Benchmark 2015'!E152 -> -129463.72 | F55: 1978.1538 | G55: =F55-'Benchmark 2015'!G152 -> 17.831458 | H55: 995629 | I55: =H55-'Benchmark 2015'!P152 -> 12780.426 | J55: 8263.1983 | K55: =J55-'Benchmark 2015'!S152 -> -140.27737 | L55: 4219054.9 | M55: =L55-'Benchmark 2015'!AB152 -> -146737.02 | N55: 2525.7267 | O55: =N55-'Benchmark 2015'!AE152 -> 55.528946 | P55: 1325875.1 | Q55: =P55-'Benchmark 2015'!AN152 -> 4492.8757
A56: Poor - Economic Zone
A57: 41-140 Years | B57: 7026.301 | C57: =B57-'Benchmark 2015'!D154 -> -235.52653 | D57: 1484021.8 | E57: =D57-'Benchmark 2015'!E154 -> -73235.274 | F57: 2060.9833 | G57: =F57-'Benchmark 2015'!G154 -> -105.1757 | H57: 431920.78 | I57: =H57-'Benchmark 2015'!P154 -> -29593.822 | J57: 4715.7609 | K57: =J57-'Benchmark 2015'!S154 -> -130.36465 | L57: 1008671.7 | M57: =L57-'Benchmark 2015'!AB154 -> -43646.67 | N57: 249.55678 | O57: =N57-'Benchmark 2015'!AE154 -> 0.013813949 | P57: 43429.251 | Q57: =P57-'Benchmark 2015'!AN154 -> 5.2182967
A58: 141+ Years | B58: 7880.0521 | C58: =B58-'Benchmark 2015'!D155 -> -280.82378 | D58: 3405759.3 | E58: =D58-'Benchmark 2015'!E155 -> -115419.06 | F58: 1825.0212 | G58: =F58-'Benchmark 2015'!G155 -> -185.09527 | H58: 768933.46 | I58: =H58-'Benchmark 2015'!P155 -> -74871.948 | J58: 5535.0496 | K58: =J58-'Benchmark 2015'!S155 -> -95.731736 | L58: 2395619.7 | M58: =L58-'Benchmark 2015'!AB155 -> -40548.356 | N58: 519.98135 | O58: =N58-'Benchmark 2015'!AE155 -> 0.0032275569 | P58: 241206.16 | Q58: =P58-'Benchmark 2015'!AN155 -> 1.2475672
A59: Poor - Economic Zone Total | B59: 14906.353 | C59: =B59-'Benchmark 2015'!D156 -> -516.35031 | D59: 4889781.1 | E59: =D59-'Benchmark 2015'!E156 -> -188654.33 | F59: 3886.0045 | G59: =F59-'Benchmark 2015'!G156 -> -290.27096 | H59: 1200854.2 | I59: =H59-'Benchmark 2015'!P156 -> -104465.77 | J59: 10250.811 | K59: =J59-'Benchmark 2015'!S156 -> -226.09639 | L59: 3404291.4 | M59: =L59-'Benchmark 2015'!AB156 -> -84195.026 | N59: 769.53813 | O59: =N59-'Benchmark 2015'!AE156 -> 0.017041506 | P59: 284635.42 | Q59: =P59-'Benchmark 2015'!AN156 -> 6.4658638
A60: Teal Cedar Products Total | B60: 38606.048 | C60: =B60-'Benchmark 2015'!D157 -> 297.66325 | D60: 17199840 | E60: =D60-'Benchmark 2015'!E157 -> 319738.29 | F60: 8104.6299 | G60: =F60-'Benchmark 2015'!G157 -> -209.7741 | H60: 3273721.4 | I60: =H60-'Benchmark 2015'!P157 -> -78340.798 | J60: 26078.001 | K60: =J60-'Benchmark 2015'!S157 -> 223.12797 | L60: 11561953 | M60: =L60-'Benchmark 2015'!AB157 -> 226341.12 | N60: 4423.4178 | O60: =N60-'Benchmark 2015'!AE157 -> 284.30938 | P60: 2364165.1 | Q60: =P60-'Benchmark 2015'!AN157 -> 171737.97
A61: Western Canadian Timber Products Partnership
A62: Good - Economic Zone
A63: 41-140 Years | B63: 9191.1333 | C63: =B63-'Benchmark 2015'!D6 -> 3448.4603 | D63: 3821129.3 | E63: =D63-'Benchmark 2015'!E6 -> 874754.15 | F63: 1934.3171 | G63: =F63-'Benchmark 2015'!G6 -> 933.09282 | H63: 896042.5 | I63: =H63-'Benchmark 2015'!P6 -> 347260.81 | J63: 6203.4701 | K63: =J63-'Benchmark 2015'!S6 -> 2359.6299 | L63: 2509704.6 | M63: =L63-'Benchmark 2015'!AB6 -> 614624.65 | N63: 1053.3461 | O63: =N63-'Benchmark 2015'!AE6 -> 155.73762 | P63: 415382.28 | Q63: =P63-'Benchmark 2015'!AN6 -> -87131.313
A64: 141+ Years | B64: 4442.9987 | C64: =B64-'Benchmark 2015'!D7 -> 2185.0511 | D64: 3202744.6 | E64: =D64-'Benchmark 2015'!E7 -> 1567213.9 | F64: 604.7519 | G64: =F64-'Benchmark 2015'!G7 -> 350.14592 | H64: 391932.93 | I64: =H64-'Benchmark 2015'!P7 -> 222707.92 | J64: 2794.2497 | K64: =J64-'Benchmark 2015'!S7 -> 1145.1021 | L64: 2000826.7 | M64: =L64-'Benchmark 2015'!AB7 -> 790500.72 | N64: 1043.9972 | O64: =N64-'Benchmark 2015'!AE7 -> 689.80309 | P64: 809984.97 | Q64: =P64-'Benchmark 2015'!AN7 -> 554005.29
A65: Good - Economic Zone Total | B65: 13634.132 | C65: =B65-'Benchmark 2015'!D8 -> 5633.5114 | D65: 7023873.9 | E65: =D65-'Benchmark 2015'!E8 -> 2441968.1 | F65: 2539.069 | G65: =F65-'Benchmark 2015'!G8 -> 1283.2387 | H65: 1287975.4 | I65: =H65-'Benchmark 2015'!P8 -> 569968.73 | J65: 8997.7197 | K65: =J65-'Benchmark 2015'!S8 -> 3504.732 | L65: 4510531.2 | M65: =L65-'Benchmark 2015'!AB8 -> 1405125.4 | N65: 2097.3432 | O65: =N65-'Benchmark 2015'!AE8 -> 845.54071 | P65: 1225367.2 | Q65: =P65-'Benchmark 2015'!AN8 -> 466873.98
A66: Medium - Economic Zone
A67: 41-140 Years | B67: 4227.2419 | C67: =B67-'Benchmark 2015'!D10 -> 2561.572 | D67: 1419006.5 | E67: =D67-'Benchmark 2015'!E10 -> 813319.9 | F67: 646.92267 | G67: =F67-'Benchmark 2015'!G10 -> 208.20394 | H67: 236411.51 | I67: =H67-'Benchmark 2015'!P10 -> 53763.263 | J67: 2915.8027 | K67: =J67-'Benchmark 2015'!S10 -> 1929.5436 | L67: 977047.73 | M67: =L67-'Benchmark 2015'!AB10 -> 628865.36 | N67: 664.51644 | O67: =N67-'Benchmark 2015'!AE10 -> 423.82439 | P67: 205547.25 | Q67: =P67-'Benchmark 2015'!AN10 -> 130691.27
A68: 141+ Years | B68: 2741.7293 | C68: =B68-'Benchmark 2015'!D11 -> 1801.5121 | D68: 1800910.9 | E68: =D68-'Benchmark 2015'!E11 -> 1212045.2 | F68: 422.51183 | G68: =F68-'Benchmark 2015'!G11 -> 301.79289 | H68: 310714.7 | I68: =H68-'Benchmark 2015'!P11 -> 227302.62 | J68: 1917.9339 | K68: =J68-'Benchmark 2015'!S11 -> 1259.2168 | L68: 1253320.2 | M68: =L68-'Benchmark 2015'!AB11 -> 831834.29 | N68: 401.28362 | O68: =N68-'Benchmark 2015'!AE11 -> 240.5024 | P68: 236876 | Q68: =P68-'Benchmark 2015'!AN11 -> 152908.33
A69: Medium - Economic Zone Total | B69: 6968.9712 | C69: =B69-'Benchmark 2015'!D12 -> 4363.0841 | D69: 3219917.4 | E69: =D69-'Benchmark 2015'!E12 -> 2025365.1 | F69: 1069.4345 | G69: =F69-'Benchmark 2015'!G12 -> 509.99683 | H69: 547126.21 | I69: =H69-'Benchmark 2015'!P12 -> 281065.89 | J69: 4833.7366 | K69: =J69-'Benchmark 2015'!S12 -> 3188.7605 | L69: 2230368 | M69: =L69-'Benchmark 2015'!AB12 -> 1460699.6 | N69: 1065.8001 | O69: =N69-'Benchmark 2015'!AE12 -> 664.32679 | P69: 442423.25 | Q69: =P69-'Benchmark 2015'!AN12 -> 283599.6
A70: Poor - Economic Zone
A71: 41-140 Years | B71: 2137.3784 | C71: =B71-'Benchmark 2015'!D14 -> 213.03732 | D71: 378494.17 | E71: =D71-'Benchmark 2015'!E14 -> 51308.742 | F71: 526.93077 | G71: =F71-'Benchmark 2015'!G14 -> 57.425605 | H71: 101779.57 | I71: =H71-'Benchmark 2015'!P14 -> 14744.444 | J71: 1419.6067 | K71: =J71-'Benchmark 2015'!S14 -> 152.88865 | L71: 249388.48 | M71: =L71-'Benchmark 2015'!AB14 -> 33282.11 | N71: 190.84099 | O71: =N71-'Benchmark 2015'!AE14 -> 2.7230621 | P71: 27326.122 | Q71: =P71-'Benchmark 2015'!AN14 -> 3282.1875
A72: 141+ Years | B72: 3404.8354 | C72: =B72-'Benchmark 2015'!D15 -> 327.96507 | D72: 2113899.8 | E72: =D72-'Benchmark 2015'!E15 -> 334316.32 | F72: 722.95819 | G72: =F72-'Benchmark 2015'!G15 -> 130.06675 | H72: 483758.15 | I72: =H72-'Benchmark 2015'!P15 -> 139140.14 | J72: 2301.6484 | K72: =J72-'Benchmark 2015'!S15 -> 204.22376 | L72: 1407840 | M72: =L72-'Benchmark 2015'!AB15 -> 197122.86 | N72: 380.22885 | O72: =N72-'Benchmark 2015'!AE15 -> -6.3254492 | P72: 222301.74 | Q72: =P72-'Benchmark 2015'!AN15 -> -1946.6851
A73: Poor - Economic Zone Total | B73: 5542.2139 | C73: =B73-'Benchmark 2015'!D16 -> 541.00239 | D73: 2492394 | E73: =D73-'Benchmark 2015'!E16 -> 385625.06 | F73: 1249.889 | G73: =F73-'Benchmark 2015'!G16 -> 187.49236 | H73: 585537.72 | I73: =H73-'Benchmark 2015'!P16 -> 153884.59 | J73: 3721.2551 | K73: =J73-'Benchmark 2015'!S16 -> 357.11242 | L73: 1657228.4 | M73: =L73-'Benchmark 2015'!AB16 -> 230404.97 | N73: 571.06983 | O73: =N73-'Benchmark 2015'!AE16 -> -3.6023871 | P73: 249627.86 | Q73: =P73-'Benchmark 2015'!AN16 -> 1335.5024
A74: Western Canadian Timber Products Total | B74: 26145.317 | C74: =B74-'Benchmark 2015'!D17 -> 10537.598 | D74: 12736185 | E74: =D74-'Benchmark 2015'!E17 -> 4852958.3 | F74: 4858.3925 | G74: =F74-'Benchmark 2015'!G17 -> 1980.7279 | H74: 2420639.4 | I74: =H74-'Benchmark 2015'!P17 -> 1004919.2 | J74: 17552.711 | K74: =J74-'Benchmark 2015'!S17 -> 7050.6049 | L74: 8398127.7 | M74: =L74-'Benchmark 2015'!AB17 -> 3096230 | N74: 3734.2131 | O74: =N74-'Benchmark 2015'!AE17 -> 1506.2651 | P74: 1917418.4 | Q74: =P74-'Benchmark 2015'!AN17 -> 751809.08
